BEGIN:VCALENDAR
VERSION:2.0
PRODID:-//Institute of Health - ECPv6.3.5//NONSGML v1.0//EN
CALSCALE:GREGORIAN
METHOD:PUBLISH
X-ORIGINAL-URL:https://student.instituteofhealth.com
X-WR-CALDESC:Events for Institute of Health
REFRESH-INTERVAL;VALUE=DURATION:PT1H
X-Robots-Tag:noindex
X-PUBLISHED-TTL:PT1H
BEGIN:VTIMEZONE
TZID:Australia/Melbourne
BEGIN:STANDARD
TZOFFSETFROM:+1100
TZOFFSETTO:+1000
TZNAME:AEST
DTSTART:20280401T160000
END:STANDARD
BEGIN:DAYLIGHT
TZOFFSETFROM:+1000
TZOFFSETTO:+1100
TZNAME:AEDT
DTSTART:20280930T160000
END:DAYLIGHT
TZID:Australia/Brisbane
BEGIN:STANDARD
TZOFFSETFROM:+1000
TZOFFSETTO:+1000
TZNAME:AEST
DTSTART:20271231T140000
END:STANDARD
END:VTIMEZONE
BEGIN:VEVENT
DTSTART;TZID=UTC:20280110T070000
DTEND;TZID=UTC:20280110T083000
DTSTAMP:20260425T220339
CREATED:20260115T025406
LAST-MODIFIED:20260402T034618
UID:10010375-1831100400-1831105800@student.instituteofhealth.com
SUMMARY:Business Accelerator
DESCRIPTION:http://masterclass.instituteofhealth.com/
URL:https://student.instituteofhealth.com/event/business-masterclass-2-2/2028-01-10/
END:VEVENT
BEGIN:VEVENT
DTSTART;TZID=UTC:20280111T070000
DTEND;TZID=UTC:20280111T083000
DTSTAMP:20260425T220339
CREATED:20260115T025352
LAST-MODIFIED:20260402T034906
UID:10010685-1831186800-1831192200@student.instituteofhealth.com
SUMMARY:Client Health Cases
DESCRIPTION:Zoom link: masterclass.instituteofhealth.com
URL:https://student.instituteofhealth.com/event/client-health-cases-3-2/2028-01-11/
CATEGORIES:health initiative
END:VEVENT
BEGIN:VEVENT
DTSTART;TZID=UTC:20280112T060000
DTEND;TZID=UTC:20280112T073000
DTSTAMP:20260425T220339
CREATED:20260406T043015
LAST-MODIFIED:20260406T043015
UID:10011997-1831269600-1831275000@student.instituteofhealth.com
SUMMARY:Client Health Cases
DESCRIPTION:Zoom link: masterclass.instituteofhealth.com
URL:https://student.instituteofhealth.com/event/client-health-cases-2-2-2-2/2028-01-12/
END:VEVENT
BEGIN:VEVENT
DTSTART;TZID=UTC:20280112T200000
DTEND;TZID=UTC:20280112T213000
DTSTAMP:20260425T220339
CREATED:20260406T043044
LAST-MODIFIED:20260406T043044
UID:10011463-1831320000-1831325400@student.instituteofhealth.com
SUMMARY:Client Health Cases
DESCRIPTION:Zoom link: masterclass.instituteofhealth.com
URL:https://student.instituteofhealth.com/event/client-health-cases-4-2/2028-01-13/
CATEGORIES:health initiative
END:VEVENT
END:VCALENDAR