BEGIN:VCALENDAR
VERSION:2.0
PRODID:-//Institute of Health - ECPv6.3.5//NONSGML v1.0//EN
CALSCALE:GREGORIAN
METHOD:PUBLISH
X-WR-CALNAME:Institute of Health
X-ORIGINAL-URL:https://student.instituteofhealth.com
X-WR-CALDESC:Events for Institute of Health
REFRESH-INTERVAL;VALUE=DURATION:PT1H
X-Robots-Tag:noindex
X-PUBLISHED-TTL:PT1H
BEGIN:VTIMEZONE
TZID:Australia/Melbourne
BEGIN:STANDARD
TZOFFSETFROM:+1100
TZOFFSETTO:+1000
TZNAME:AEST
DTSTART:20270403T160000
END:STANDARD
BEGIN:DAYLIGHT
TZOFFSETFROM:+1000
TZOFFSETTO:+1100
TZNAME:AEDT
DTSTART:20271002T160000
END:DAYLIGHT
TZID:Australia/Brisbane
BEGIN:STANDARD
TZOFFSETFROM:+1000
TZOFFSETTO:+1000
TZNAME:AEST
DTSTART:20261231T140000
END:STANDARD
END:VTIMEZONE
BEGIN:VEVENT
DTSTART;TZID=UTC:20270222T070000
DTEND;TZID=UTC:20270222T083000
DTSTAMP:20260423T061150
CREATED:20260115T025406
LAST-MODIFIED:20260402T034618
UID:10010340-1803279600-1803285000@student.instituteofhealth.com
SUMMARY:Business Accelerator
DESCRIPTION:http://masterclass.instituteofhealth.com/
URL:https://student.instituteofhealth.com/event/business-masterclass-2-2/2027-02-22/
END:VEVENT
BEGIN:VEVENT
DTSTART;TZID=UTC:20270223T070000
DTEND;TZID=UTC:20270223T083000
DTSTAMP:20260423T061150
CREATED:20260115T025352
LAST-MODIFIED:20260402T034906
UID:10010639-1803366000-1803371400@student.instituteofhealth.com
SUMMARY:Client Health Cases
DESCRIPTION:Zoom link: masterclass.instituteofhealth.com
URL:https://student.instituteofhealth.com/event/client-health-cases-3-2/2027-02-23/
CATEGORIES:health initiative
END:VEVENT
BEGIN:VEVENT
DTSTART;TZID=UTC:20270224T060000
DTEND;TZID=UTC:20270224T073000
DTSTAMP:20260423T061150
CREATED:20260406T043015
LAST-MODIFIED:20260406T043015
UID:10011951-1803448800-1803454200@student.instituteofhealth.com
SUMMARY:Client Health Cases
DESCRIPTION:Zoom link: masterclass.instituteofhealth.com
URL:https://student.instituteofhealth.com/event/client-health-cases-2-2-2-2/2027-02-24/
END:VEVENT
BEGIN:VEVENT
DTSTART;TZID=UTC:20270224T200000
DTEND;TZID=UTC:20270224T213000
DTSTAMP:20260423T061150
CREATED:20260406T043044
LAST-MODIFIED:20260406T043044
UID:10011417-1803499200-1803504600@student.instituteofhealth.com
SUMMARY:Client Health Cases
DESCRIPTION:Zoom link: masterclass.instituteofhealth.com
URL:https://student.instituteofhealth.com/event/client-health-cases-4-2/2027-02-25/
CATEGORIES:health initiative
END:VEVENT
END:VCALENDAR