BEGIN:VCALENDAR
VERSION:2.0
PRODID:-//Institute of Health - ECPv6.3.5//NONSGML v1.0//EN
CALSCALE:GREGORIAN
METHOD:PUBLISH
X-WR-CALNAME:Institute of Health
X-ORIGINAL-URL:https://student.instituteofhealth.com
X-WR-CALDESC:Events for Institute of Health
REFRESH-INTERVAL;VALUE=DURATION:PT1H
X-Robots-Tag:noindex
X-PUBLISHED-TTL:PT1H
BEGIN:VTIMEZONE
TZID:Australia/Melbourne
BEGIN:STANDARD
TZOFFSETFROM:+1100
TZOFFSETTO:+1000
TZNAME:AEST
DTSTART:20260404T160000
END:STANDARD
BEGIN:DAYLIGHT
TZOFFSETFROM:+1000
TZOFFSETTO:+1100
TZNAME:AEDT
DTSTART:20261003T160000
END:DAYLIGHT
TZID:Australia/Brisbane
BEGIN:STANDARD
TZOFFSETFROM:+1000
TZOFFSETTO:+1000
TZNAME:AEST
DTSTART:20251231T140000
END:STANDARD
END:VTIMEZONE
BEGIN:VEVENT
DTSTART;TZID=UTC:20260525T070000
DTEND;TZID=UTC:20260525T083000
DTSTAMP:20260420T095030
CREATED:20260115T025406
LAST-MODIFIED:20260402T034618
UID:10010310-1779692400-1779697800@student.instituteofhealth.com
SUMMARY:Business Accelerator
DESCRIPTION:http://masterclass.instituteofhealth.com/
URL:https://student.instituteofhealth.com/event/business-masterclass-2-2/2026-05-25/
END:VEVENT
BEGIN:VEVENT
DTSTART;TZID=UTC:20260526T070000
DTEND;TZID=UTC:20260526T083000
DTSTAMP:20260420T095030
CREATED:20260115T025352
LAST-MODIFIED:20260402T034906
UID:10010600-1779778800-1779784200@student.instituteofhealth.com
SUMMARY:Client Health Cases
DESCRIPTION:Zoom link: masterclass.instituteofhealth.com
URL:https://student.instituteofhealth.com/event/client-health-cases-3-2/2026-05-26/
CATEGORIES:health initiative
END:VEVENT
BEGIN:VEVENT
DTSTART;TZID=UTC:20260527T060000
DTEND;TZID=UTC:20260527T073000
DTSTAMP:20260420T095030
CREATED:20260406T043015
LAST-MODIFIED:20260406T043015
UID:10011912-1779861600-1779867000@student.instituteofhealth.com
SUMMARY:Client Health Cases
DESCRIPTION:Zoom link: masterclass.instituteofhealth.com
URL:https://student.instituteofhealth.com/event/client-health-cases-2-2-2-2/2026-05-27/
END:VEVENT
BEGIN:VEVENT
DTSTART;TZID=UTC:20260527T200000
DTEND;TZID=UTC:20260527T213000
DTSTAMP:20260420T095030
CREATED:20260406T043044
LAST-MODIFIED:20260406T043044
UID:10011378-1779912000-1779917400@student.instituteofhealth.com
SUMMARY:Client Health Cases
DESCRIPTION:Zoom link: masterclass.instituteofhealth.com
URL:https://student.instituteofhealth.com/event/client-health-cases-4-2/2026-05-28/
CATEGORIES:health initiative
END:VEVENT
END:VCALENDAR