BEGIN:VCALENDAR
VERSION:2.0
PRODID:-//Institute of Health - ECPv6.3.5//NONSGML v1.0//EN
CALSCALE:GREGORIAN
METHOD:PUBLISH
X-WR-CALNAME:Institute of Health
X-ORIGINAL-URL:https://student.instituteofhealth.com
X-WR-CALDESC:Events for Institute of Health
REFRESH-INTERVAL;VALUE=DURATION:PT1H
X-Robots-Tag:noindex
X-PUBLISHED-TTL:PT1H
BEGIN:VTIMEZONE
TZID:Australia/Melbourne
BEGIN:STANDARD
TZOFFSETFROM:+1100
TZOFFSETTO:+1000
TZNAME:AEST
DTSTART:20260404T160000
END:STANDARD
BEGIN:DAYLIGHT
TZOFFSETFROM:+1000
TZOFFSETTO:+1100
TZNAME:AEDT
DTSTART:20261003T160000
END:DAYLIGHT
TZID:Australia/Brisbane
BEGIN:STANDARD
TZOFFSETFROM:+1000
TZOFFSETTO:+1000
TZNAME:AEST
DTSTART:20251231T140000
END:STANDARD
END:VTIMEZONE
BEGIN:VEVENT
DTSTART;TZID=UTC:20260518T070000
DTEND;TZID=UTC:20260518T083000
DTSTAMP:20260420T075952
CREATED:20260115T025406
LAST-MODIFIED:20260402T034618
UID:10010309-1779087600-1779093000@student.instituteofhealth.com
SUMMARY:Business Accelerator
DESCRIPTION:http://masterclass.instituteofhealth.com/
URL:https://student.instituteofhealth.com/event/business-masterclass-2-2/2026-05-18/
END:VEVENT
BEGIN:VEVENT
DTSTART;TZID=UTC:20260519T070000
DTEND;TZID=UTC:20260519T083000
DTSTAMP:20260420T075952
CREATED:20260115T025352
LAST-MODIFIED:20260402T034906
UID:10010599-1779174000-1779179400@student.instituteofhealth.com
SUMMARY:Client Health Cases
DESCRIPTION:Zoom link: masterclass.instituteofhealth.com
URL:https://student.instituteofhealth.com/event/client-health-cases-3-2/2026-05-19/
CATEGORIES:health initiative
END:VEVENT
BEGIN:VEVENT
DTSTART;TZID=UTC:20260520T060000
DTEND;TZID=UTC:20260520T073000
DTSTAMP:20260420T075952
CREATED:20260406T043015
LAST-MODIFIED:20260406T043015
UID:10011911-1779256800-1779262200@student.instituteofhealth.com
SUMMARY:Client Health Cases
DESCRIPTION:Zoom link: masterclass.instituteofhealth.com
URL:https://student.instituteofhealth.com/event/client-health-cases-2-2-2-2/2026-05-20/
END:VEVENT
BEGIN:VEVENT
DTSTART;TZID=UTC:20260520T200000
DTEND;TZID=UTC:20260520T213000
DTSTAMP:20260420T075952
CREATED:20260406T043044
LAST-MODIFIED:20260406T043044
UID:10011377-1779307200-1779312600@student.instituteofhealth.com
SUMMARY:Client Health Cases
DESCRIPTION:Zoom link: masterclass.instituteofhealth.com
URL:https://student.instituteofhealth.com/event/client-health-cases-4-2/2026-05-21/
CATEGORIES:health initiative
END:VEVENT
BEGIN:VEVENT
DTSTART;TZID=UTC:20260522T000000
DTEND;TZID=UTC:20260522T013000
DTSTAMP:20260420T075952
CREATED:20260112T011335
LAST-MODIFIED:20260415T042821
UID:10011895-1779408000-1779413400@student.instituteofhealth.com
SUMMARY:Lab Series with Amelia: Fertility and Vaginal Microbiome
DESCRIPTION:Zoom link: masterclass.instituteofhealth.com
URL:https://student.instituteofhealth.com/event/lab-series-with-amelia-contraception-and-vaginal-microbiome/
CATEGORIES:health initiative
END:VEVENT
END:VCALENDAR