BEGIN:VCALENDAR
VERSION:2.0
PRODID:-//Institute of Health - ECPv6.3.5//NONSGML v1.0//EN
CALSCALE:GREGORIAN
METHOD:PUBLISH
X-ORIGINAL-URL:https://student.instituteofhealth.com
X-WR-CALDESC:Events for Institute of Health
REFRESH-INTERVAL;VALUE=DURATION:PT1H
X-Robots-Tag:noindex
X-PUBLISHED-TTL:PT1H
BEGIN:VTIMEZONE
TZID:Australia/Melbourne
BEGIN:STANDARD
TZOFFSETFROM:+1100
TZOFFSETTO:+1000
TZNAME:AEST
DTSTART:20260404T160000
END:STANDARD
BEGIN:DAYLIGHT
TZOFFSETFROM:+1000
TZOFFSETTO:+1100
TZNAME:AEDT
DTSTART:20261003T160000
END:DAYLIGHT
TZID:Australia/Brisbane
BEGIN:STANDARD
TZOFFSETFROM:+1000
TZOFFSETTO:+1000
TZNAME:AEST
DTSTART:20251231T140000
END:STANDARD
END:VTIMEZONE
BEGIN:VEVENT
DTSTART;TZID=UTC:20260504T070000
DTEND;TZID=UTC:20260504T083000
DTSTAMP:20260420T083624
CREATED:20260115T025406
LAST-MODIFIED:20260402T034618
UID:10007803-1777878000-1777883400@student.instituteofhealth.com
SUMMARY:Business Accelerator
DESCRIPTION:http://masterclass.instituteofhealth.com/
URL:https://student.instituteofhealth.com/event/business-masterclass-2-2/2026-05-04/
END:VEVENT
BEGIN:VEVENT
DTSTART;TZID=UTC:20260505T070000
DTEND;TZID=UTC:20260505T083000
DTSTAMP:20260420T083624
CREATED:20260115T025352
LAST-MODIFIED:20260402T034906
UID:10010597-1777964400-1777969800@student.instituteofhealth.com
SUMMARY:Client Health Cases
DESCRIPTION:Zoom link: masterclass.instituteofhealth.com
URL:https://student.instituteofhealth.com/event/client-health-cases-3-2/2026-05-05/
CATEGORIES:health initiative
END:VEVENT
BEGIN:VEVENT
DTSTART;TZID=UTC:20260506T060000
DTEND;TZID=UTC:20260506T073000
DTSTAMP:20260420T083624
CREATED:20260406T043015
LAST-MODIFIED:20260406T043015
UID:10011909-1778047200-1778052600@student.instituteofhealth.com
SUMMARY:Client Health Cases
DESCRIPTION:Zoom link: masterclass.instituteofhealth.com
URL:https://student.instituteofhealth.com/event/client-health-cases-2-2-2-2/2026-05-06/
END:VEVENT
BEGIN:VEVENT
DTSTART;TZID=UTC:20260506T200000
DTEND;TZID=UTC:20260506T213000
DTSTAMP:20260420T083624
CREATED:20260406T043044
LAST-MODIFIED:20260406T043044
UID:10011375-1778097600-1778103000@student.instituteofhealth.com
SUMMARY:Client Health Cases
DESCRIPTION:Zoom link: masterclass.instituteofhealth.com
URL:https://student.instituteofhealth.com/event/client-health-cases-4-2/2026-05-07/
CATEGORIES:health initiative
END:VEVENT
BEGIN:VEVENT
DTSTART;TZID=UTC:20260507T230000
DTEND;TZID=UTC:20260508T003000
DTSTAMP:20260420T083624
CREATED:20260112T011411
LAST-MODIFIED:20260115T043543
UID:10011896-1778194800-1778200200@student.instituteofhealth.com
SUMMARY:Lab Series with Vibrant Wellness: Neural Zoomer Plus
DESCRIPTION:Zoom link: masterclass.instituteofhealth.com
URL:https://student.instituteofhealth.com/event/lab-series-with-vibrant-wellness-neural-zoomer-plus/
CATEGORIES:health initiative
END:VEVENT
END:VCALENDAR