BEGIN:VCALENDAR
VERSION:2.0
PRODID:-//Institute of Health - ECPv6.3.5//NONSGML v1.0//EN
CALSCALE:GREGORIAN
METHOD:PUBLISH
X-WR-CALNAME:Institute of Health
X-ORIGINAL-URL:https://student.instituteofhealth.com
X-WR-CALDESC:Events for Institute of Health
REFRESH-INTERVAL;VALUE=DURATION:PT1H
X-Robots-Tag:noindex
X-PUBLISHED-TTL:PT1H
BEGIN:VTIMEZONE
TZID:Australia/Melbourne
BEGIN:STANDARD
TZOFFSETFROM:+1100
TZOFFSETTO:+1000
TZNAME:AEST
DTSTART:20260404T160000
END:STANDARD
BEGIN:DAYLIGHT
TZOFFSETFROM:+1000
TZOFFSETTO:+1100
TZNAME:AEDT
DTSTART:20261003T160000
END:DAYLIGHT
TZID:Australia/Brisbane
BEGIN:STANDARD
TZOFFSETFROM:+1000
TZOFFSETTO:+1000
TZNAME:AEST
DTSTART:20251231T140000
END:STANDARD
END:VTIMEZONE
BEGIN:VEVENT
DTSTART;TZID=UTC:20260420T070000
DTEND;TZID=UTC:20260420T083000
DTSTAMP:20260420T011827
CREATED:20260115T025406
LAST-MODIFIED:20260402T034618
UID:10010306-1776668400-1776673800@student.instituteofhealth.com
SUMMARY:Business Accelerator
DESCRIPTION:http://masterclass.instituteofhealth.com/
URL:https://student.instituteofhealth.com/event/business-masterclass-2-2/2026-04-20/
END:VEVENT
BEGIN:VEVENT
DTSTART;TZID=UTC:20260421T070000
DTEND;TZID=UTC:20260421T083000
DTSTAMP:20260420T011827
CREATED:20260115T025352
LAST-MODIFIED:20260402T034906
UID:10010595-1776754800-1776760200@student.instituteofhealth.com
SUMMARY:Client Health Cases
DESCRIPTION:Zoom link: masterclass.instituteofhealth.com
URL:https://student.instituteofhealth.com/event/client-health-cases-3-2/2026-04-21/
CATEGORIES:health initiative
END:VEVENT
BEGIN:VEVENT
DTSTART;TZID=UTC:20260422T060000
DTEND;TZID=UTC:20260422T073000
DTSTAMP:20260420T011827
CREATED:20260406T043015
LAST-MODIFIED:20260406T043015
UID:10011907-1776837600-1776843000@student.instituteofhealth.com
SUMMARY:Client Health Cases
DESCRIPTION:Zoom link: masterclass.instituteofhealth.com
URL:https://student.instituteofhealth.com/event/client-health-cases-2-2-2-2/2026-04-22/
END:VEVENT
BEGIN:VEVENT
DTSTART;TZID=UTC:20260422T200000
DTEND;TZID=UTC:20260422T213000
DTSTAMP:20260420T011827
CREATED:20260406T043044
LAST-MODIFIED:20260406T043044
UID:10011373-1776888000-1776893400@student.instituteofhealth.com
SUMMARY:Client Health Cases
DESCRIPTION:Zoom link: masterclass.instituteofhealth.com
URL:https://student.instituteofhealth.com/event/client-health-cases-4-2/2026-04-23/
CATEGORIES:health initiative
END:VEVENT
BEGIN:VEVENT
DTSTART;TZID=UTC:20260423T230000
DTEND;TZID=UTC:20260424T003000
DTSTAMP:20260420T011827
CREATED:20260112T011227
LAST-MODIFIED:20260415T042302
UID:10011892-1776985200-1776990600@student.instituteofhealth.com
SUMMARY:Lab Series with Vibrant Wellness: Total Tox Burden
DESCRIPTION:Zoom link: masterclass.instituteofhealth.com
URL:https://student.instituteofhealth.com/event/lab-series-with-vibrant-wellness-total-tox-burden/
CATEGORIES:health initiative
END:VEVENT
END:VCALENDAR