BEGIN:VCALENDAR
VERSION:2.0
PRODID:-//Institute of Health - ECPv6.3.5//NONSGML v1.0//EN
CALSCALE:GREGORIAN
METHOD:PUBLISH
X-WR-CALNAME:Institute of Health
X-ORIGINAL-URL:https://student.instituteofhealth.com
X-WR-CALDESC:Events for Institute of Health
REFRESH-INTERVAL;VALUE=DURATION:PT1H
X-Robots-Tag:noindex
X-PUBLISHED-TTL:PT1H
BEGIN:VTIMEZONE
TZID:Australia/Melbourne
BEGIN:STANDARD
TZOFFSETFROM:+1100
TZOFFSETTO:+1000
TZNAME:AEST
DTSTART:20260404T160000
END:STANDARD
BEGIN:DAYLIGHT
TZOFFSETFROM:+1000
TZOFFSETTO:+1100
TZNAME:AEDT
DTSTART:20261003T160000
END:DAYLIGHT
TZID:Australia/Brisbane
BEGIN:STANDARD
TZOFFSETFROM:+1000
TZOFFSETTO:+1000
TZNAME:AEST
DTSTART:20251231T140000
END:STANDARD
END:VTIMEZONE
BEGIN:VEVENT
DTSTART;TZID=UTC:20260406T070000
DTEND;TZID=UTC:20260406T083000
DTSTAMP:20260419T214932
CREATED:20260115T025406
LAST-MODIFIED:20260402T034618
UID:10007802-1775458800-1775464200@student.instituteofhealth.com
SUMMARY:Business Accelerator
DESCRIPTION:http://masterclass.instituteofhealth.com/
URL:https://student.instituteofhealth.com/event/business-masterclass-2-2/2026-04-06/
END:VEVENT
BEGIN:VEVENT
DTSTART;TZID=UTC:20260407T070000
DTEND;TZID=UTC:20260407T083000
DTSTAMP:20260419T214932
CREATED:20260115T025352
LAST-MODIFIED:20260402T034906
UID:10010593-1775545200-1775550600@student.instituteofhealth.com
SUMMARY:Client Health Cases
DESCRIPTION:Zoom link: masterclass.instituteofhealth.com
URL:https://student.instituteofhealth.com/event/client-health-cases-3-2/2026-04-07/
CATEGORIES:health initiative
END:VEVENT
BEGIN:VEVENT
DTSTART;TZID=UTC:20260408T060000
DTEND;TZID=UTC:20260408T073000
DTSTAMP:20260419T214932
CREATED:20260406T043015
LAST-MODIFIED:20260406T043015
UID:10011905-1775628000-1775633400@student.instituteofhealth.com
SUMMARY:Client Health Cases
DESCRIPTION:Zoom link: masterclass.instituteofhealth.com
URL:https://student.instituteofhealth.com/event/client-health-cases-2-2-2-2/2026-04-08/
END:VEVENT
BEGIN:VEVENT
DTSTART;TZID=UTC:20260408T200000
DTEND;TZID=UTC:20260408T213000
DTSTAMP:20260419T214932
CREATED:20260406T043044
LAST-MODIFIED:20260406T043044
UID:10011371-1775678400-1775683800@student.instituteofhealth.com
SUMMARY:Client Health Cases
DESCRIPTION:Zoom link: masterclass.instituteofhealth.com
URL:https://student.instituteofhealth.com/event/client-health-cases-4-2/2026-04-09/
CATEGORIES:health initiative
END:VEVENT
BEGIN:VEVENT
DTSTART;TZID=UTC:20260410T070000
DTEND;TZID=UTC:20260410T083000
DTSTAMP:20260419T214932
CREATED:20260112T010807
LAST-MODIFIED:20260408T132732
UID:10011886-1775804400-1775809800@student.instituteofhealth.com
SUMMARY:Lab Series with Juno Bio: Reading a Vaginal Microbiome Test
DESCRIPTION:Zoom link: masterclass.instituteofhealth.com
URL:https://student.instituteofhealth.com/event/lab-series-with-juno-bio-reading-a-vagingal-microbiome-test/
CATEGORIES:health initiative
END:VEVENT
END:VCALENDAR