BEGIN:VCALENDAR
VERSION:2.0
PRODID:-//Institute of Health - ECPv6.3.5//NONSGML v1.0//EN
CALSCALE:GREGORIAN
METHOD:PUBLISH
X-WR-CALNAME:Institute of Health
X-ORIGINAL-URL:https://student.instituteofhealth.com
X-WR-CALDESC:Events for Institute of Health
REFRESH-INTERVAL;VALUE=DURATION:PT1H
X-Robots-Tag:noindex
X-PUBLISHED-TTL:PT1H
BEGIN:VTIMEZONE
TZID:Australia/Melbourne
BEGIN:STANDARD
TZOFFSETFROM:+1100
TZOFFSETTO:+1000
TZNAME:AEST
DTSTART:20260404T160000
END:STANDARD
BEGIN:DAYLIGHT
TZOFFSETFROM:+1000
TZOFFSETTO:+1100
TZNAME:AEDT
DTSTART:20261003T160000
END:DAYLIGHT
TZID:Australia/Brisbane
BEGIN:STANDARD
TZOFFSETFROM:+1000
TZOFFSETTO:+1000
TZNAME:AEST
DTSTART:20251231T140000
END:STANDARD
END:VTIMEZONE
BEGIN:VEVENT
DTSTART;TZID=UTC:20260330T070000
DTEND;TZID=UTC:20260330T083000
DTSTAMP:20260420T030019
CREATED:20260115T025406
LAST-MODIFIED:20260402T034618
UID:10010304-1774854000-1774859400@student.instituteofhealth.com
SUMMARY:Business Accelerator
DESCRIPTION:http://masterclass.instituteofhealth.com/
URL:https://student.instituteofhealth.com/event/business-masterclass-2-2/2026-03-30/
END:VEVENT
BEGIN:VEVENT
DTSTART;TZID=UTC:20260331T070000
DTEND;TZID=UTC:20260331T083000
DTSTAMP:20260420T030019
CREATED:20260115T025352
LAST-MODIFIED:20260402T034906
UID:10010592-1774940400-1774945800@student.instituteofhealth.com
SUMMARY:Client Health Cases
DESCRIPTION:Zoom link: masterclass.instituteofhealth.com
URL:https://student.instituteofhealth.com/event/client-health-cases-3-2/2026-03-31/
CATEGORIES:health initiative
END:VEVENT
BEGIN:VEVENT
DTSTART;TZID=UTC:20260401T060000
DTEND;TZID=UTC:20260401T073000
DTSTAMP:20260420T030019
CREATED:20260326T064906
LAST-MODIFIED:20260406T034842
UID:10011111-1775023200-1775028600@student.instituteofhealth.com
SUMMARY:Client Health Cases
DESCRIPTION:Zoom link: masterclass.instituteofhealth.com
URL:https://student.instituteofhealth.com/event/client-health-cases-2-2-2/
END:VEVENT
BEGIN:VEVENT
DTSTART;TZID=UTC:20260401T200000
DTEND;TZID=UTC:20260401T213000
DTSTAMP:20260420T030019
CREATED:20260115T025314
LAST-MODIFIED:20260115T025315
UID:10011370-1775073600-1775079000@student.instituteofhealth.com
SUMMARY:Client Health Cases
DESCRIPTION:Zoom link: masterclass.instituteofhealth.com
URL:https://student.instituteofhealth.com/event/client-health-cases-4/2026-04-02/
CATEGORIES:health initiative
END:VEVENT
BEGIN:VEVENT
DTSTART;TZID=UTC:20260403T000000
DTEND;TZID=UTC:20260403T013000
DTSTAMP:20260420T030019
CREATED:20260112T011153
LAST-MODIFIED:20260331T145635
UID:10011893-1775174400-1775179800@student.instituteofhealth.com
SUMMARY:Lab Series with Amelia: Microbial Biofilms
DESCRIPTION:Zoom link: masterclass.instituteofhealth.com
URL:https://student.instituteofhealth.com/event/lab-series-with-amelia-microbial-biofilms/
CATEGORIES:health initiative
END:VEVENT
END:VCALENDAR