BEGIN:VCALENDAR
VERSION:2.0
PRODID:-//Institute of Health - ECPv6.3.5//NONSGML v1.0//EN
CALSCALE:GREGORIAN
METHOD:PUBLISH
X-WR-CALNAME:Institute of Health
X-ORIGINAL-URL:https://student.instituteofhealth.com
X-WR-CALDESC:Events for Institute of Health
REFRESH-INTERVAL;VALUE=DURATION:PT1H
X-Robots-Tag:noindex
X-PUBLISHED-TTL:PT1H
BEGIN:VTIMEZONE
TZID:Australia/Melbourne
BEGIN:STANDARD
TZOFFSETFROM:+1100
TZOFFSETTO:+1000
TZNAME:AEST
DTSTART:20260404T160000
END:STANDARD
BEGIN:DAYLIGHT
TZOFFSETFROM:+1000
TZOFFSETTO:+1100
TZNAME:AEDT
DTSTART:20261003T160000
END:DAYLIGHT
TZID:Australia/Brisbane
BEGIN:STANDARD
TZOFFSETFROM:+1000
TZOFFSETTO:+1000
TZNAME:AEST
DTSTART:20251231T140000
END:STANDARD
END:VTIMEZONE
BEGIN:VEVENT
DTSTART;TZID=UTC:20260202T070000
DTEND;TZID=UTC:20260202T083000
DTSTAMP:20260420T225845
CREATED:20260115T025406
LAST-MODIFIED:20260402T034618
UID:10007800-1770015600-1770021000@student.instituteofhealth.com
SUMMARY:Business Accelerator
DESCRIPTION:http://masterclass.instituteofhealth.com/
URL:https://student.instituteofhealth.com/event/business-masterclass-2-2/2026-02-02/
END:VEVENT
BEGIN:VEVENT
DTSTART;TZID=UTC:20260203T070000
DTEND;TZID=UTC:20260203T083000
DTSTAMP:20260420T225845
CREATED:20260115T025352
LAST-MODIFIED:20260402T034906
UID:10010584-1770102000-1770107400@student.instituteofhealth.com
SUMMARY:Client Health Cases
DESCRIPTION:Zoom link: masterclass.instituteofhealth.com
URL:https://student.instituteofhealth.com/event/client-health-cases-3-2/2026-02-03/
CATEGORIES:health initiative
END:VEVENT
BEGIN:VEVENT
DTSTART;TZID=UTC:20260204T150000
DTEND;TZID=UTC:20260204T163000
DTSTAMP:20260420T225845
CREATED:20260115T025336
LAST-MODIFIED:20260115T025336
UID:10011103-1770217200-1770222600@student.instituteofhealth.com
SUMMARY:Client Health Cases
DESCRIPTION:Zoom link: masterclass.instituteofhealth.com
URL:https://student.instituteofhealth.com/event/client-health-cases-2-2/2026-02-05/
END:VEVENT
BEGIN:VEVENT
DTSTART;TZID=UTC:20260204T200000
DTEND;TZID=UTC:20260204T213000
DTSTAMP:20260420T225845
CREATED:20260115T025314
LAST-MODIFIED:20260115T025315
UID:10011362-1770235200-1770240600@student.instituteofhealth.com
SUMMARY:Client Health Cases
DESCRIPTION:Zoom link: masterclass.instituteofhealth.com
URL:https://student.instituteofhealth.com/event/client-health-cases-4/2026-02-05/
CATEGORIES:health initiative
END:VEVENT
END:VCALENDAR