BEGIN:VCALENDAR
VERSION:2.0
PRODID:-//Institute of Health - ECPv6.3.5//NONSGML v1.0//EN
CALSCALE:GREGORIAN
METHOD:PUBLISH
X-WR-CALNAME:Institute of Health
X-ORIGINAL-URL:https://student.instituteofhealth.com
X-WR-CALDESC:Events for Institute of Health
REFRESH-INTERVAL;VALUE=DURATION:PT1H
X-Robots-Tag:noindex
X-PUBLISHED-TTL:PT1H
BEGIN:VTIMEZONE
TZID:Australia/Melbourne
BEGIN:STANDARD
TZOFFSETFROM:+1100
TZOFFSETTO:+1000
TZNAME:AEST
DTSTART:20260404T160000
END:STANDARD
BEGIN:DAYLIGHT
TZOFFSETFROM:+1000
TZOFFSETTO:+1100
TZNAME:AEDT
DTSTART:20261003T160000
END:DAYLIGHT
TZID:Australia/Brisbane
BEGIN:STANDARD
TZOFFSETFROM:+1000
TZOFFSETTO:+1000
TZNAME:AEST
DTSTART:20251231T140000
END:STANDARD
END:VTIMEZONE
BEGIN:VEVENT
DTSTART;TZID=UTC:20260112T070000
DTEND;TZID=UTC:20260112T083000
DTSTAMP:20260421T023056
CREATED:20251114T065035
LAST-MODIFIED:20260105T010457
UID:10010295-1768201200-1768206600@student.instituteofhealth.com
SUMMARY:Business Accelerator
DESCRIPTION:http://masterclass.instituteofhealth.com/
URL:https://student.instituteofhealth.com/event/business-masterclass-2/2026-01-12/
END:VEVENT
BEGIN:VEVENT
DTSTART;TZID=UTC:20260113T070000
DTEND;TZID=UTC:20260113T083000
DTSTAMP:20260421T023056
CREATED:20251229T021023
LAST-MODIFIED:20260105T010321
UID:10010581-1768287600-1768293000@student.instituteofhealth.com
SUMMARY:Client Health Cases
DESCRIPTION:Zoom link: masterclass.instituteofhealth.com
URL:https://student.instituteofhealth.com/event/client-health-cases-3/2026-01-13/
CATEGORIES:health initiative
END:VEVENT
BEGIN:VEVENT
DTSTART;TZID=UTC:20260114T150000
DTEND;TZID=UTC:20260114T163000
DTSTAMP:20260421T023056
CREATED:20251229T022511
LAST-MODIFIED:20260105T010301
UID:10011100-1768402800-1768408200@student.instituteofhealth.com
SUMMARY:Client Health Cases
DESCRIPTION:Zoom link: masterclass.instituteofhealth.com
URL:https://student.instituteofhealth.com/event/client-health-cases-2/2026-01-15/
END:VEVENT
BEGIN:VEVENT
DTSTART;TZID=UTC:20260114T200000
DTEND;TZID=UTC:20260114T213000
DTSTAMP:20260421T023056
CREATED:20251229T022634
LAST-MODIFIED:20260105T010237
UID:10011359-1768420800-1768426200@student.instituteofhealth.com
SUMMARY:Client Health Cases
DESCRIPTION:Zoom link: masterclass.instituteofhealth.com
URL:https://student.instituteofhealth.com/event/client-health-cases/2026-01-15/
CATEGORIES:health initiative
END:VEVENT
BEGIN:VEVENT
DTSTART;TZID=UTC:20260115T230000
DTEND;TZID=UTC:20260116T003000
DTSTAMP:20260421T023056
CREATED:20260112T010619
LAST-MODIFIED:20260115T043800
UID:10011623-1768518000-1768523400@student.instituteofhealth.com
SUMMARY:Lab Series with Vibrant Wellness: Cardio Zoomer
DESCRIPTION:Zoom link: masterclass.instituteofhealth.com
URL:https://student.instituteofhealth.com/event/lab-series-with-vibrant-wellness-cardio-zoomer/
CATEGORIES:health initiative
END:VEVENT
END:VCALENDAR