BEGIN:VCALENDAR
VERSION:2.0
PRODID:-//Institute of Health - ECPv6.3.5//NONSGML v1.0//EN
CALSCALE:GREGORIAN
METHOD:PUBLISH
X-WR-CALNAME:Institute of Health
X-ORIGINAL-URL:https://student.instituteofhealth.com
X-WR-CALDESC:Events for Institute of Health
REFRESH-INTERVAL;VALUE=DURATION:PT1H
X-Robots-Tag:noindex
X-PUBLISHED-TTL:PT1H
BEGIN:VTIMEZONE
TZID:Australia/Melbourne
BEGIN:STANDARD
TZOFFSETFROM:+1100
TZOFFSETTO:+1000
TZNAME:AEST
DTSTART:20250405T160000
END:STANDARD
BEGIN:DAYLIGHT
TZOFFSETFROM:+1000
TZOFFSETTO:+1100
TZNAME:AEDT
DTSTART:20251004T160000
END:DAYLIGHT
TZID:Australia/Brisbane
BEGIN:STANDARD
TZOFFSETFROM:+1000
TZOFFSETTO:+1000
TZNAME:AEST
DTSTART:20241231T140000
END:STANDARD
END:VTIMEZONE
BEGIN:VEVENT
DTSTART;TZID=UTC:20251124T070000
DTEND;TZID=UTC:20251124T083000
DTSTAMP:20260421T120444
CREATED:20251101T141502
LAST-MODIFIED:20251101T141502
UID:10010279-1763967600-1763973000@student.instituteofhealth.com
SUMMARY:Week 4 – Funnel Build (Landing Page)
DESCRIPTION:http://business.instituteofhealth.com/
URL:https://student.instituteofhealth.com/event/week-4-funnel-build-landing-page/
END:VEVENT
BEGIN:VEVENT
DTSTART;TZID=UTC:20251125T083000
DTEND;TZID=UTC:20251125T100000
DTSTAMP:20260421T120444
CREATED:20251118T042039
LAST-MODIFIED:20251217T063838
UID:10009630-1764059400-1764064800@student.instituteofhealth.com
SUMMARY:Client Health Cases
DESCRIPTION:Zoom link: masterclass.instituteofhealth.com
URL:https://student.instituteofhealth.com/event/health-whiteboard-sessions-with-larn-2-2/2025-11-25/
CATEGORIES:health initiative
END:VEVENT
END:VCALENDAR