BEGIN:VCALENDAR
VERSION:2.0
PRODID:-//Institute of Health - ECPv6.3.5//NONSGML v1.0//EN
CALSCALE:GREGORIAN
METHOD:PUBLISH
X-WR-CALNAME:Institute of Health
X-ORIGINAL-URL:https://student.instituteofhealth.com
X-WR-CALDESC:Events for Institute of Health
REFRESH-INTERVAL;VALUE=DURATION:PT1H
X-Robots-Tag:noindex
X-PUBLISHED-TTL:PT1H
BEGIN:VTIMEZONE
TZID:Australia/Melbourne
BEGIN:STANDARD
TZOFFSETFROM:+1100
TZOFFSETTO:+1000
TZNAME:AEST
DTSTART:20250405T160000
END:STANDARD
BEGIN:DAYLIGHT
TZOFFSETFROM:+1000
TZOFFSETTO:+1100
TZNAME:AEDT
DTSTART:20251004T160000
END:DAYLIGHT
END:VTIMEZONE
BEGIN:VEVENT
DTSTART;TZID=UTC:20251030T010000
DTEND;TZID=UTC:20251030T023000
DTSTAMP:20260421T213316
CREATED:20251002T173451
LAST-MODIFIED:20251114T065544
UID:10005662-1761786000-1761791400@student.instituteofhealth.com
SUMMARY:Nutrition Deep Dive (US Friendly Time)
DESCRIPTION:Zoom link: http://https://us02web.zoom.us/j/3284143851?pwd=1He0scZaKCo3JfvKXHKMKZK87PYFFc.1
URL:https://student.instituteofhealth.com/event/mastery-2-4-2-2-2-2/2025-10-30/
END:VEVENT
END:VCALENDAR