BEGIN:VCALENDAR
VERSION:2.0
PRODID:-//Institute of Health - ECPv6.3.5//NONSGML v1.0//EN
CALSCALE:GREGORIAN
METHOD:PUBLISH
X-WR-CALNAME:Institute of Health
X-ORIGINAL-URL:https://student.instituteofhealth.com
X-WR-CALDESC:Events for Institute of Health
REFRESH-INTERVAL;VALUE=DURATION:PT1H
X-Robots-Tag:noindex
X-PUBLISHED-TTL:PT1H
BEGIN:VTIMEZONE
TZID:Australia/Melbourne
BEGIN:STANDARD
TZOFFSETFROM:+1100
TZOFFSETTO:+1000
TZNAME:AEST
DTSTART:20260404T160000
END:STANDARD
BEGIN:DAYLIGHT
TZOFFSETFROM:+1000
TZOFFSETTO:+1100
TZNAME:AEDT
DTSTART:20261003T160000
END:DAYLIGHT
END:VTIMEZONE
BEGIN:VEVENT
DTSTART;TZID=UTC:20260518T070000
DTEND;TZID=UTC:20260518T083000
DTSTAMP:20260420T074952
CREATED:20260115T025406
LAST-MODIFIED:20260402T034618
UID:10010309-1779087600-1779093000@student.instituteofhealth.com
SUMMARY:Business Accelerator
DESCRIPTION:http://masterclass.instituteofhealth.com/
URL:https://student.instituteofhealth.com/event/business-masterclass-2-2/2026-05-18/
END:VEVENT
END:VCALENDAR