BEGIN:VCALENDAR
VERSION:2.0
PRODID:-//Institute of Health - ECPv6.3.5//NONSGML v1.0//EN
CALSCALE:GREGORIAN
METHOD:PUBLISH
X-ORIGINAL-URL:https://student.instituteofhealth.com
X-WR-CALDESC:Events for Institute of Health
REFRESH-INTERVAL;VALUE=DURATION:PT1H
X-Robots-Tag:noindex
X-PUBLISHED-TTL:PT1H
BEGIN:VTIMEZONE
TZID:Australia/Melbourne
BEGIN:STANDARD
TZOFFSETFROM:+1100
TZOFFSETTO:+1000
TZNAME:AEST
DTSTART:20280401T160000
END:STANDARD
BEGIN:DAYLIGHT
TZOFFSETFROM:+1000
TZOFFSETTO:+1100
TZNAME:AEDT
DTSTART:20280930T160000
END:DAYLIGHT
END:VTIMEZONE
BEGIN:VEVENT
DTSTART;TZID=UTC:20280221T070000
DTEND;TZID=UTC:20280221T083000
DTSTAMP:20260420T124109
CREATED:20260115T025406
LAST-MODIFIED:20260402T034618
UID:10010380-1834729200-1834734600@student.instituteofhealth.com
SUMMARY:Business Accelerator
DESCRIPTION:http://masterclass.instituteofhealth.com/
URL:https://student.instituteofhealth.com/event/business-masterclass-2-2/2028-02-21/
END:VEVENT
BEGIN:VEVENT
DTSTART;TZID=UTC:20280228T070000
DTEND;TZID=UTC:20280228T083000
DTSTAMP:20260420T124109
CREATED:20260115T025406
LAST-MODIFIED:20260402T034618
UID:10010381-1835334000-1835339400@student.instituteofhealth.com
SUMMARY:Business Accelerator
DESCRIPTION:http://masterclass.instituteofhealth.com/
URL:https://student.instituteofhealth.com/event/business-masterclass-2-2/2028-02-28/
END:VEVENT
BEGIN:VEVENT
DTSTART;TZID=UTC:20280306T070000
DTEND;TZID=UTC:20280306T083000
DTSTAMP:20260420T124109
CREATED:20260115T025406
LAST-MODIFIED:20260402T034618
UID:10007825-1835938800-1835944200@student.instituteofhealth.com
SUMMARY:Business Accelerator
DESCRIPTION:http://masterclass.instituteofhealth.com/
URL:https://student.instituteofhealth.com/event/business-masterclass-2-2/2028-03-06/
END:VEVENT
BEGIN:VEVENT
DTSTART;TZID=UTC:20280313T070000
DTEND;TZID=UTC:20280313T083000
DTSTAMP:20260420T124109
CREATED:20260115T025406
LAST-MODIFIED:20260402T034618
UID:10010382-1836543600-1836549000@student.instituteofhealth.com
SUMMARY:Business Accelerator
DESCRIPTION:http://masterclass.instituteofhealth.com/
URL:https://student.instituteofhealth.com/event/business-masterclass-2-2/2028-03-13/
END:VEVENT
BEGIN:VEVENT
DTSTART;TZID=UTC:20280320T070000
DTEND;TZID=UTC:20280320T083000
DTSTAMP:20260420T124109
CREATED:20260115T025406
LAST-MODIFIED:20260402T034618
UID:10010383-1837148400-1837153800@student.instituteofhealth.com
SUMMARY:Business Accelerator
DESCRIPTION:http://masterclass.instituteofhealth.com/
URL:https://student.instituteofhealth.com/event/business-masterclass-2-2/2028-03-20/
END:VEVENT
BEGIN:VEVENT
DTSTART;TZID=UTC:20280327T070000
DTEND;TZID=UTC:20280327T083000
DTSTAMP:20260420T124109
CREATED:20260115T025406
LAST-MODIFIED:20260402T034618
UID:10010384-1837753200-1837758600@student.instituteofhealth.com
SUMMARY:Business Accelerator
DESCRIPTION:http://masterclass.instituteofhealth.com/
URL:https://student.instituteofhealth.com/event/business-masterclass-2-2/2028-03-27/
END:VEVENT
BEGIN:VEVENT
DTSTART;TZID=UTC:20280403T070000
DTEND;TZID=UTC:20280403T083000
DTSTAMP:20260420T124109
CREATED:20260115T025406
LAST-MODIFIED:20260402T034618
UID:10007826-1838358000-1838363400@student.instituteofhealth.com
SUMMARY:Business Accelerator
DESCRIPTION:http://masterclass.instituteofhealth.com/
URL:https://student.instituteofhealth.com/event/business-masterclass-2-2/2028-04-03/
END:VEVENT
BEGIN:VEVENT
DTSTART;TZID=UTC:20280410T070000
DTEND;TZID=UTC:20280410T083000
DTSTAMP:20260420T124109
CREATED:20260115T025406
LAST-MODIFIED:20260402T034618
UID:10010385-1838962800-1838968200@student.instituteofhealth.com
SUMMARY:Business Accelerator
DESCRIPTION:http://masterclass.instituteofhealth.com/
URL:https://student.instituteofhealth.com/event/business-masterclass-2-2/2028-04-10/
END:VEVENT
BEGIN:VEVENT
DTSTART;TZID=UTC:20280417T070000
DTEND;TZID=UTC:20280417T083000
DTSTAMP:20260420T124109
CREATED:20260115T025406
LAST-MODIFIED:20260402T034618
UID:10010386-1839567600-1839573000@student.instituteofhealth.com
SUMMARY:Business Accelerator
DESCRIPTION:http://masterclass.instituteofhealth.com/
URL:https://student.instituteofhealth.com/event/business-masterclass-2-2/2028-04-17/
END:VEVENT
BEGIN:VEVENT
DTSTART;TZID=UTC:20280424T070000
DTEND;TZID=UTC:20280424T083000
DTSTAMP:20260420T124109
CREATED:20260115T025406
LAST-MODIFIED:20260402T034618
UID:10010387-1840172400-1840177800@student.instituteofhealth.com
SUMMARY:Business Accelerator
DESCRIPTION:http://masterclass.instituteofhealth.com/
URL:https://student.instituteofhealth.com/event/business-masterclass-2-2/2028-04-24/
END:VEVENT
BEGIN:VEVENT
DTSTART;TZID=UTC:20280501T070000
DTEND;TZID=UTC:20280501T083000
DTSTAMP:20260420T124109
CREATED:20260115T025406
LAST-MODIFIED:20260402T034618
UID:10007827-1840777200-1840782600@student.instituteofhealth.com
SUMMARY:Business Accelerator
DESCRIPTION:http://masterclass.instituteofhealth.com/
URL:https://student.instituteofhealth.com/event/business-masterclass-2-2/2028-05-01/
END:VEVENT
BEGIN:VEVENT
DTSTART;TZID=UTC:20280508T070000
DTEND;TZID=UTC:20280508T083000
DTSTAMP:20260420T124109
CREATED:20260115T025406
LAST-MODIFIED:20260402T034618
UID:10010388-1841382000-1841387400@student.instituteofhealth.com
SUMMARY:Business Accelerator
DESCRIPTION:http://masterclass.instituteofhealth.com/
URL:https://student.instituteofhealth.com/event/business-masterclass-2-2/2028-05-08/
END:VEVENT
BEGIN:VEVENT
DTSTART;TZID=UTC:20280515T070000
DTEND;TZID=UTC:20280515T083000
DTSTAMP:20260420T124109
CREATED:20260115T025406
LAST-MODIFIED:20260402T034618
UID:10010389-1841986800-1841992200@student.instituteofhealth.com
SUMMARY:Business Accelerator
DESCRIPTION:http://masterclass.instituteofhealth.com/
URL:https://student.instituteofhealth.com/event/business-masterclass-2-2/2028-05-15/
END:VEVENT
BEGIN:VEVENT
DTSTART;TZID=UTC:20280522T070000
DTEND;TZID=UTC:20280522T083000
DTSTAMP:20260420T124109
CREATED:20260115T025406
LAST-MODIFIED:20260402T034618
UID:10010390-1842591600-1842597000@student.instituteofhealth.com
SUMMARY:Business Accelerator
DESCRIPTION:http://masterclass.instituteofhealth.com/
URL:https://student.instituteofhealth.com/event/business-masterclass-2-2/2028-05-22/
END:VEVENT
BEGIN:VEVENT
DTSTART;TZID=UTC:20280529T070000
DTEND;TZID=UTC:20280529T083000
DTSTAMP:20260420T124109
CREATED:20260115T025406
LAST-MODIFIED:20260402T034618
UID:10010391-1843196400-1843201800@student.instituteofhealth.com
SUMMARY:Business Accelerator
DESCRIPTION:http://masterclass.instituteofhealth.com/
URL:https://student.instituteofhealth.com/event/business-masterclass-2-2/2028-05-29/
END:VEVENT
BEGIN:VEVENT
DTSTART;TZID=UTC:20280605T070000
DTEND;TZID=UTC:20280605T083000
DTSTAMP:20260420T124109
CREATED:20260115T025406
LAST-MODIFIED:20260402T034618
UID:10007828-1843801200-1843806600@student.instituteofhealth.com
SUMMARY:Business Accelerator
DESCRIPTION:http://masterclass.instituteofhealth.com/
URL:https://student.instituteofhealth.com/event/business-masterclass-2-2/2028-06-05/
END:VEVENT
BEGIN:VEVENT
DTSTART;TZID=UTC:20280612T070000
DTEND;TZID=UTC:20280612T083000
DTSTAMP:20260420T124109
CREATED:20260115T025406
LAST-MODIFIED:20260402T034618
UID:10010392-1844406000-1844411400@student.instituteofhealth.com
SUMMARY:Business Accelerator
DESCRIPTION:http://masterclass.instituteofhealth.com/
URL:https://student.instituteofhealth.com/event/business-masterclass-2-2/2028-06-12/
END:VEVENT
BEGIN:VEVENT
DTSTART;TZID=UTC:20280619T070000
DTEND;TZID=UTC:20280619T083000
DTSTAMP:20260420T124109
CREATED:20260115T025406
LAST-MODIFIED:20260402T034618
UID:10010393-1845010800-1845016200@student.instituteofhealth.com
SUMMARY:Business Accelerator
DESCRIPTION:http://masterclass.instituteofhealth.com/
URL:https://student.instituteofhealth.com/event/business-masterclass-2-2/2028-06-19/
END:VEVENT
BEGIN:VEVENT
DTSTART;TZID=UTC:20280626T070000
DTEND;TZID=UTC:20280626T083000
DTSTAMP:20260420T124109
CREATED:20260115T025406
LAST-MODIFIED:20260402T034618
UID:10010394-1845615600-1845621000@student.instituteofhealth.com
SUMMARY:Business Accelerator
DESCRIPTION:http://masterclass.instituteofhealth.com/
URL:https://student.instituteofhealth.com/event/business-masterclass-2-2/2028-06-26/
END:VEVENT
BEGIN:VEVENT
DTSTART;TZID=UTC:20280703T070000
DTEND;TZID=UTC:20280703T083000
DTSTAMP:20260420T124109
CREATED:20260115T025406
LAST-MODIFIED:20260402T034618
UID:10007829-1846220400-1846225800@student.instituteofhealth.com
SUMMARY:Business Accelerator
DESCRIPTION:http://masterclass.instituteofhealth.com/
URL:https://student.instituteofhealth.com/event/business-masterclass-2-2/2028-07-03/
END:VEVENT
BEGIN:VEVENT
DTSTART;TZID=UTC:20280710T070000
DTEND;TZID=UTC:20280710T083000
DTSTAMP:20260420T124109
CREATED:20260115T025406
LAST-MODIFIED:20260402T034618
UID:10010395-1846825200-1846830600@student.instituteofhealth.com
SUMMARY:Business Accelerator
DESCRIPTION:http://masterclass.instituteofhealth.com/
URL:https://student.instituteofhealth.com/event/business-masterclass-2-2/2028-07-10/
END:VEVENT
BEGIN:VEVENT
DTSTART;TZID=UTC:20280717T070000
DTEND;TZID=UTC:20280717T083000
DTSTAMP:20260420T124109
CREATED:20260115T025406
LAST-MODIFIED:20260402T034618
UID:10010396-1847430000-1847435400@student.instituteofhealth.com
SUMMARY:Business Accelerator
DESCRIPTION:http://masterclass.instituteofhealth.com/
URL:https://student.instituteofhealth.com/event/business-masterclass-2-2/2028-07-17/
END:VEVENT
BEGIN:VEVENT
DTSTART;TZID=UTC:20280724T070000
DTEND;TZID=UTC:20280724T083000
DTSTAMP:20260420T124109
CREATED:20260115T025406
LAST-MODIFIED:20260402T034618
UID:10010397-1848034800-1848040200@student.instituteofhealth.com
SUMMARY:Business Accelerator
DESCRIPTION:http://masterclass.instituteofhealth.com/
URL:https://student.instituteofhealth.com/event/business-masterclass-2-2/2028-07-24/
END:VEVENT
BEGIN:VEVENT
DTSTART;TZID=UTC:20280731T070000
DTEND;TZID=UTC:20280731T083000
DTSTAMP:20260420T124109
CREATED:20260115T025406
LAST-MODIFIED:20260402T034618
UID:10010398-1848639600-1848645000@student.instituteofhealth.com
SUMMARY:Business Accelerator
DESCRIPTION:http://masterclass.instituteofhealth.com/
URL:https://student.instituteofhealth.com/event/business-masterclass-2-2/2028-07-31/
END:VEVENT
BEGIN:VEVENT
DTSTART;TZID=UTC:20280807T070000
DTEND;TZID=UTC:20280807T083000
DTSTAMP:20260420T124109
CREATED:20260115T025406
LAST-MODIFIED:20260402T034618
UID:10007830-1849244400-1849249800@student.instituteofhealth.com
SUMMARY:Business Accelerator
DESCRIPTION:http://masterclass.instituteofhealth.com/
URL:https://student.instituteofhealth.com/event/business-masterclass-2-2/2028-08-07/
END:VEVENT
BEGIN:VEVENT
DTSTART;TZID=UTC:20280814T070000
DTEND;TZID=UTC:20280814T083000
DTSTAMP:20260420T124109
CREATED:20260115T025406
LAST-MODIFIED:20260402T034618
UID:10010399-1849849200-1849854600@student.instituteofhealth.com
SUMMARY:Business Accelerator
DESCRIPTION:http://masterclass.instituteofhealth.com/
URL:https://student.instituteofhealth.com/event/business-masterclass-2-2/2028-08-14/
END:VEVENT
BEGIN:VEVENT
DTSTART;TZID=UTC:20280821T070000
DTEND;TZID=UTC:20280821T083000
DTSTAMP:20260420T124109
CREATED:20260115T025406
LAST-MODIFIED:20260402T034618
UID:10010400-1850454000-1850459400@student.instituteofhealth.com
SUMMARY:Business Accelerator
DESCRIPTION:http://masterclass.instituteofhealth.com/
URL:https://student.instituteofhealth.com/event/business-masterclass-2-2/2028-08-21/
END:VEVENT
BEGIN:VEVENT
DTSTART;TZID=UTC:20280828T070000
DTEND;TZID=UTC:20280828T083000
DTSTAMP:20260420T124109
CREATED:20260115T025406
LAST-MODIFIED:20260402T034618
UID:10010401-1851058800-1851064200@student.instituteofhealth.com
SUMMARY:Business Accelerator
DESCRIPTION:http://masterclass.instituteofhealth.com/
URL:https://student.instituteofhealth.com/event/business-masterclass-2-2/2028-08-28/
END:VEVENT
BEGIN:VEVENT
DTSTART;TZID=UTC:20280904T070000
DTEND;TZID=UTC:20280904T083000
DTSTAMP:20260420T124109
CREATED:20260115T025406
LAST-MODIFIED:20260402T034618
UID:10007831-1851663600-1851669000@student.instituteofhealth.com
SUMMARY:Business Accelerator
DESCRIPTION:http://masterclass.instituteofhealth.com/
URL:https://student.instituteofhealth.com/event/business-masterclass-2-2/2028-09-04/
END:VEVENT
BEGIN:VEVENT
DTSTART;TZID=UTC:20280911T070000
DTEND;TZID=UTC:20280911T083000
DTSTAMP:20260420T124109
CREATED:20260115T025406
LAST-MODIFIED:20260402T034618
UID:10010402-1852268400-1852273800@student.instituteofhealth.com
SUMMARY:Business Accelerator
DESCRIPTION:http://masterclass.instituteofhealth.com/
URL:https://student.instituteofhealth.com/event/business-masterclass-2-2/2028-09-11/
END:VEVENT
END:VCALENDAR