BEGIN:VCALENDAR
VERSION:2.0
PRODID:-//Institute of Health - ECPv6.3.5//NONSGML v1.0//EN
CALSCALE:GREGORIAN
METHOD:PUBLISH
X-WR-CALNAME:Institute of Health
X-ORIGINAL-URL:https://student.instituteofhealth.com
X-WR-CALDESC:Events for Institute of Health
REFRESH-INTERVAL;VALUE=DURATION:PT1H
X-Robots-Tag:noindex
X-PUBLISHED-TTL:PT1H
BEGIN:VTIMEZONE
TZID:Australia/Brisbane
BEGIN:STANDARD
TZOFFSETFROM:+1000
TZOFFSETTO:+1000
TZNAME:AEST
DTSTART:20251231T140000
END:STANDARD
TZID:Australia/Melbourne
BEGIN:STANDARD
TZOFFSETFROM:+1100
TZOFFSETTO:+1000
TZNAME:AEST
DTSTART:20260404T160000
END:STANDARD
BEGIN:DAYLIGHT
TZOFFSETFROM:+1000
TZOFFSETTO:+1100
TZNAME:AEDT
DTSTART:20261003T160000
END:DAYLIGHT
BEGIN:STANDARD
TZOFFSETFROM:+1100
TZOFFSETTO:+1000
TZNAME:AEST
DTSTART:20270403T160000
END:STANDARD
BEGIN:DAYLIGHT
TZOFFSETFROM:+1000
TZOFFSETTO:+1100
TZNAME:AEDT
DTSTART:20271002T160000
END:DAYLIGHT
END:VTIMEZONE
BEGIN:VEVENT
DTSTART;TZID=UTC:20261201T070000
DTEND;TZID=UTC:20261201T083000
DTSTAMP:20260420T140134
CREATED:20260115T025352
LAST-MODIFIED:20260402T034906
UID:10010627-1796108400-1796113800@student.instituteofhealth.com
SUMMARY:Client Health Cases
DESCRIPTION:Zoom link: masterclass.instituteofhealth.com
URL:https://student.instituteofhealth.com/event/client-health-cases-3-2/2026-12-01/
CATEGORIES:health initiative
END:VEVENT
BEGIN:VEVENT
DTSTART;TZID=UTC:20261202T060000
DTEND;TZID=UTC:20261202T073000
DTSTAMP:20260420T140134
CREATED:20260406T043015
LAST-MODIFIED:20260406T043015
UID:10011939-1796191200-1796196600@student.instituteofhealth.com
SUMMARY:Client Health Cases
DESCRIPTION:Zoom link: masterclass.instituteofhealth.com
URL:https://student.instituteofhealth.com/event/client-health-cases-2-2-2-2/2026-12-02/
END:VEVENT
BEGIN:VEVENT
DTSTART;TZID=UTC:20261202T200000
DTEND;TZID=UTC:20261202T213000
DTSTAMP:20260420T140134
CREATED:20260406T043044
LAST-MODIFIED:20260406T043044
UID:10011405-1796241600-1796247000@student.instituteofhealth.com
SUMMARY:Client Health Cases
DESCRIPTION:Zoom link: masterclass.instituteofhealth.com
URL:https://student.instituteofhealth.com/event/client-health-cases-4-2/2026-12-03/
CATEGORIES:health initiative
END:VEVENT
BEGIN:VEVENT
DTSTART;TZID=UTC:20261208T070000
DTEND;TZID=UTC:20261208T083000
DTSTAMP:20260420T140134
CREATED:20260115T025352
LAST-MODIFIED:20260402T034906
UID:10010628-1796713200-1796718600@student.instituteofhealth.com
SUMMARY:Client Health Cases
DESCRIPTION:Zoom link: masterclass.instituteofhealth.com
URL:https://student.instituteofhealth.com/event/client-health-cases-3-2/2026-12-08/
CATEGORIES:health initiative
END:VEVENT
BEGIN:VEVENT
DTSTART;TZID=UTC:20261209T060000
DTEND;TZID=UTC:20261209T073000
DTSTAMP:20260420T140134
CREATED:20260406T043015
LAST-MODIFIED:20260406T043015
UID:10011940-1796796000-1796801400@student.instituteofhealth.com
SUMMARY:Client Health Cases
DESCRIPTION:Zoom link: masterclass.instituteofhealth.com
URL:https://student.instituteofhealth.com/event/client-health-cases-2-2-2-2/2026-12-09/
END:VEVENT
BEGIN:VEVENT
DTSTART;TZID=UTC:20261209T200000
DTEND;TZID=UTC:20261209T213000
DTSTAMP:20260420T140134
CREATED:20260406T043044
LAST-MODIFIED:20260406T043044
UID:10011406-1796846400-1796851800@student.instituteofhealth.com
SUMMARY:Client Health Cases
DESCRIPTION:Zoom link: masterclass.instituteofhealth.com
URL:https://student.instituteofhealth.com/event/client-health-cases-4-2/2026-12-10/
CATEGORIES:health initiative
END:VEVENT
BEGIN:VEVENT
DTSTART;TZID=UTC:20261215T070000
DTEND;TZID=UTC:20261215T083000
DTSTAMP:20260420T140134
CREATED:20260115T025352
LAST-MODIFIED:20260402T034906
UID:10010629-1797318000-1797323400@student.instituteofhealth.com
SUMMARY:Client Health Cases
DESCRIPTION:Zoom link: masterclass.instituteofhealth.com
URL:https://student.instituteofhealth.com/event/client-health-cases-3-2/2026-12-15/
CATEGORIES:health initiative
END:VEVENT
BEGIN:VEVENT
DTSTART;TZID=UTC:20261216T060000
DTEND;TZID=UTC:20261216T073000
DTSTAMP:20260420T140134
CREATED:20260406T043015
LAST-MODIFIED:20260406T043015
UID:10011941-1797400800-1797406200@student.instituteofhealth.com
SUMMARY:Client Health Cases
DESCRIPTION:Zoom link: masterclass.instituteofhealth.com
URL:https://student.instituteofhealth.com/event/client-health-cases-2-2-2-2/2026-12-16/
END:VEVENT
BEGIN:VEVENT
DTSTART;TZID=UTC:20261216T200000
DTEND;TZID=UTC:20261216T213000
DTSTAMP:20260420T140134
CREATED:20260406T043044
LAST-MODIFIED:20260406T043044
UID:10011407-1797451200-1797456600@student.instituteofhealth.com
SUMMARY:Client Health Cases
DESCRIPTION:Zoom link: masterclass.instituteofhealth.com
URL:https://student.instituteofhealth.com/event/client-health-cases-4-2/2026-12-17/
CATEGORIES:health initiative
END:VEVENT
BEGIN:VEVENT
DTSTART;TZID=UTC:20261222T070000
DTEND;TZID=UTC:20261222T083000
DTSTAMP:20260420T140134
CREATED:20260115T025352
LAST-MODIFIED:20260402T034906
UID:10010630-1797922800-1797928200@student.instituteofhealth.com
SUMMARY:Client Health Cases
DESCRIPTION:Zoom link: masterclass.instituteofhealth.com
URL:https://student.instituteofhealth.com/event/client-health-cases-3-2/2026-12-22/
CATEGORIES:health initiative
END:VEVENT
BEGIN:VEVENT
DTSTART;TZID=UTC:20261223T060000
DTEND;TZID=UTC:20261223T073000
DTSTAMP:20260420T140134
CREATED:20260406T043015
LAST-MODIFIED:20260406T043015
UID:10011942-1798005600-1798011000@student.instituteofhealth.com
SUMMARY:Client Health Cases
DESCRIPTION:Zoom link: masterclass.instituteofhealth.com
URL:https://student.instituteofhealth.com/event/client-health-cases-2-2-2-2/2026-12-23/
END:VEVENT
BEGIN:VEVENT
DTSTART;TZID=UTC:20261223T200000
DTEND;TZID=UTC:20261223T213000
DTSTAMP:20260420T140134
CREATED:20260406T043044
LAST-MODIFIED:20260406T043044
UID:10011408-1798056000-1798061400@student.instituteofhealth.com
SUMMARY:Client Health Cases
DESCRIPTION:Zoom link: masterclass.instituteofhealth.com
URL:https://student.instituteofhealth.com/event/client-health-cases-4-2/2026-12-24/
CATEGORIES:health initiative
END:VEVENT
BEGIN:VEVENT
DTSTART;TZID=UTC:20261229T070000
DTEND;TZID=UTC:20261229T083000
DTSTAMP:20260420T140134
CREATED:20260115T025352
LAST-MODIFIED:20260402T034906
UID:10010631-1798527600-1798533000@student.instituteofhealth.com
SUMMARY:Client Health Cases
DESCRIPTION:Zoom link: masterclass.instituteofhealth.com
URL:https://student.instituteofhealth.com/event/client-health-cases-3-2/2026-12-29/
CATEGORIES:health initiative
END:VEVENT
BEGIN:VEVENT
DTSTART;TZID=UTC:20261230T060000
DTEND;TZID=UTC:20261230T073000
DTSTAMP:20260420T140134
CREATED:20260406T043015
LAST-MODIFIED:20260406T043015
UID:10011943-1798610400-1798615800@student.instituteofhealth.com
SUMMARY:Client Health Cases
DESCRIPTION:Zoom link: masterclass.instituteofhealth.com
URL:https://student.instituteofhealth.com/event/client-health-cases-2-2-2-2/2026-12-30/
END:VEVENT
BEGIN:VEVENT
DTSTART;TZID=UTC:20261230T200000
DTEND;TZID=UTC:20261230T213000
DTSTAMP:20260420T140134
CREATED:20260406T043044
LAST-MODIFIED:20260406T043044
UID:10011409-1798660800-1798666200@student.instituteofhealth.com
SUMMARY:Client Health Cases
DESCRIPTION:Zoom link: masterclass.instituteofhealth.com
URL:https://student.instituteofhealth.com/event/client-health-cases-4-2/2026-12-31/
CATEGORIES:health initiative
END:VEVENT
BEGIN:VEVENT
DTSTART;TZID=UTC:20270105T070000
DTEND;TZID=UTC:20270105T083000
DTSTAMP:20260420T140134
CREATED:20260115T025352
LAST-MODIFIED:20260402T034906
UID:10010632-1799132400-1799137800@student.instituteofhealth.com
SUMMARY:Client Health Cases
DESCRIPTION:Zoom link: masterclass.instituteofhealth.com
URL:https://student.instituteofhealth.com/event/client-health-cases-3-2/2027-01-05/
CATEGORIES:health initiative
END:VEVENT
BEGIN:VEVENT
DTSTART;TZID=UTC:20270106T060000
DTEND;TZID=UTC:20270106T073000
DTSTAMP:20260420T140134
CREATED:20260406T043015
LAST-MODIFIED:20260406T043015
UID:10011944-1799215200-1799220600@student.instituteofhealth.com
SUMMARY:Client Health Cases
DESCRIPTION:Zoom link: masterclass.instituteofhealth.com
URL:https://student.instituteofhealth.com/event/client-health-cases-2-2-2-2/2027-01-06/
END:VEVENT
BEGIN:VEVENT
DTSTART;TZID=UTC:20270106T200000
DTEND;TZID=UTC:20270106T213000
DTSTAMP:20260420T140134
CREATED:20260406T043044
LAST-MODIFIED:20260406T043044
UID:10011410-1799265600-1799271000@student.instituteofhealth.com
SUMMARY:Client Health Cases
DESCRIPTION:Zoom link: masterclass.instituteofhealth.com
URL:https://student.instituteofhealth.com/event/client-health-cases-4-2/2027-01-07/
CATEGORIES:health initiative
END:VEVENT
BEGIN:VEVENT
DTSTART;TZID=UTC:20270112T070000
DTEND;TZID=UTC:20270112T083000
DTSTAMP:20260420T140134
CREATED:20260115T025352
LAST-MODIFIED:20260402T034906
UID:10010633-1799737200-1799742600@student.instituteofhealth.com
SUMMARY:Client Health Cases
DESCRIPTION:Zoom link: masterclass.instituteofhealth.com
URL:https://student.instituteofhealth.com/event/client-health-cases-3-2/2027-01-12/
CATEGORIES:health initiative
END:VEVENT
BEGIN:VEVENT
DTSTART;TZID=UTC:20270113T060000
DTEND;TZID=UTC:20270113T073000
DTSTAMP:20260420T140134
CREATED:20260406T043015
LAST-MODIFIED:20260406T043015
UID:10011945-1799820000-1799825400@student.instituteofhealth.com
SUMMARY:Client Health Cases
DESCRIPTION:Zoom link: masterclass.instituteofhealth.com
URL:https://student.instituteofhealth.com/event/client-health-cases-2-2-2-2/2027-01-13/
END:VEVENT
BEGIN:VEVENT
DTSTART;TZID=UTC:20270113T200000
DTEND;TZID=UTC:20270113T213000
DTSTAMP:20260420T140134
CREATED:20260406T043044
LAST-MODIFIED:20260406T043044
UID:10011411-1799870400-1799875800@student.instituteofhealth.com
SUMMARY:Client Health Cases
DESCRIPTION:Zoom link: masterclass.instituteofhealth.com
URL:https://student.instituteofhealth.com/event/client-health-cases-4-2/2027-01-14/
CATEGORIES:health initiative
END:VEVENT
BEGIN:VEVENT
DTSTART;TZID=UTC:20270119T070000
DTEND;TZID=UTC:20270119T083000
DTSTAMP:20260420T140134
CREATED:20260115T025352
LAST-MODIFIED:20260402T034906
UID:10010634-1800342000-1800347400@student.instituteofhealth.com
SUMMARY:Client Health Cases
DESCRIPTION:Zoom link: masterclass.instituteofhealth.com
URL:https://student.instituteofhealth.com/event/client-health-cases-3-2/2027-01-19/
CATEGORIES:health initiative
END:VEVENT
BEGIN:VEVENT
DTSTART;TZID=UTC:20270120T060000
DTEND;TZID=UTC:20270120T073000
DTSTAMP:20260420T140134
CREATED:20260406T043015
LAST-MODIFIED:20260406T043015
UID:10011946-1800424800-1800430200@student.instituteofhealth.com
SUMMARY:Client Health Cases
DESCRIPTION:Zoom link: masterclass.instituteofhealth.com
URL:https://student.instituteofhealth.com/event/client-health-cases-2-2-2-2/2027-01-20/
END:VEVENT
BEGIN:VEVENT
DTSTART;TZID=UTC:20270120T200000
DTEND;TZID=UTC:20270120T213000
DTSTAMP:20260420T140134
CREATED:20260406T043044
LAST-MODIFIED:20260406T043044
UID:10011412-1800475200-1800480600@student.instituteofhealth.com
SUMMARY:Client Health Cases
DESCRIPTION:Zoom link: masterclass.instituteofhealth.com
URL:https://student.instituteofhealth.com/event/client-health-cases-4-2/2027-01-21/
CATEGORIES:health initiative
END:VEVENT
BEGIN:VEVENT
DTSTART;TZID=UTC:20270126T070000
DTEND;TZID=UTC:20270126T083000
DTSTAMP:20260420T140134
CREATED:20260115T025352
LAST-MODIFIED:20260402T034906
UID:10010635-1800946800-1800952200@student.instituteofhealth.com
SUMMARY:Client Health Cases
DESCRIPTION:Zoom link: masterclass.instituteofhealth.com
URL:https://student.instituteofhealth.com/event/client-health-cases-3-2/2027-01-26/
CATEGORIES:health initiative
END:VEVENT
BEGIN:VEVENT
DTSTART;TZID=UTC:20270127T060000
DTEND;TZID=UTC:20270127T073000
DTSTAMP:20260420T140134
CREATED:20260406T043015
LAST-MODIFIED:20260406T043015
UID:10011947-1801029600-1801035000@student.instituteofhealth.com
SUMMARY:Client Health Cases
DESCRIPTION:Zoom link: masterclass.instituteofhealth.com
URL:https://student.instituteofhealth.com/event/client-health-cases-2-2-2-2/2027-01-27/
END:VEVENT
BEGIN:VEVENT
DTSTART;TZID=UTC:20270127T200000
DTEND;TZID=UTC:20270127T213000
DTSTAMP:20260420T140134
CREATED:20260406T043044
LAST-MODIFIED:20260406T043044
UID:10011413-1801080000-1801085400@student.instituteofhealth.com
SUMMARY:Client Health Cases
DESCRIPTION:Zoom link: masterclass.instituteofhealth.com
URL:https://student.instituteofhealth.com/event/client-health-cases-4-2/2027-01-28/
CATEGORIES:health initiative
END:VEVENT
BEGIN:VEVENT
DTSTART;TZID=UTC:20270202T070000
DTEND;TZID=UTC:20270202T083000
DTSTAMP:20260420T140134
CREATED:20260115T025352
LAST-MODIFIED:20260402T034906
UID:10010636-1801551600-1801557000@student.instituteofhealth.com
SUMMARY:Client Health Cases
DESCRIPTION:Zoom link: masterclass.instituteofhealth.com
URL:https://student.instituteofhealth.com/event/client-health-cases-3-2/2027-02-02/
CATEGORIES:health initiative
END:VEVENT
BEGIN:VEVENT
DTSTART;TZID=UTC:20270203T060000
DTEND;TZID=UTC:20270203T073000
DTSTAMP:20260420T140134
CREATED:20260406T043015
LAST-MODIFIED:20260406T043015
UID:10011948-1801634400-1801639800@student.instituteofhealth.com
SUMMARY:Client Health Cases
DESCRIPTION:Zoom link: masterclass.instituteofhealth.com
URL:https://student.instituteofhealth.com/event/client-health-cases-2-2-2-2/2027-02-03/
END:VEVENT
BEGIN:VEVENT
DTSTART;TZID=UTC:20270203T200000
DTEND;TZID=UTC:20270203T213000
DTSTAMP:20260420T140134
CREATED:20260406T043044
LAST-MODIFIED:20260406T043044
UID:10011414-1801684800-1801690200@student.instituteofhealth.com
SUMMARY:Client Health Cases
DESCRIPTION:Zoom link: masterclass.instituteofhealth.com
URL:https://student.instituteofhealth.com/event/client-health-cases-4-2/2027-02-04/
CATEGORIES:health initiative
END:VEVENT
END:VCALENDAR