BEGIN:VCALENDAR
VERSION:2.0
PRODID:-//Institute of Health - ECPv6.3.5//NONSGML v1.0//EN
CALSCALE:GREGORIAN
METHOD:PUBLISH
X-WR-CALNAME:Institute of Health
X-ORIGINAL-URL:https://student.instituteofhealth.com
X-WR-CALDESC:Events for Institute of Health
REFRESH-INTERVAL;VALUE=DURATION:PT1H
X-Robots-Tag:noindex
X-PUBLISHED-TTL:PT1H
BEGIN:VTIMEZONE
TZID:Australia/Brisbane
BEGIN:STANDARD
TZOFFSETFROM:+1000
TZOFFSETTO:+1000
TZNAME:AEST
DTSTART:20301231T140000
END:STANDARD
TZID:Australia/Melbourne
BEGIN:STANDARD
TZOFFSETFROM:+1100
TZOFFSETTO:+1000
TZNAME:AEST
DTSTART:20310405T160000
END:STANDARD
BEGIN:DAYLIGHT
TZOFFSETFROM:+1000
TZOFFSETTO:+1100
TZNAME:AEDT
DTSTART:20311004T160000
END:DAYLIGHT
END:VTIMEZONE
BEGIN:VEVENT
DTSTART;TZID=UTC:20310128T070000
DTEND;TZID=UTC:20310128T083000
DTSTAMP:20260426T022440
CREATED:20260115T025352
LAST-MODIFIED:20260402T034906
UID:10012178-1927350000-1927355400@student.instituteofhealth.com
SUMMARY:Client Health Cases
DESCRIPTION:Zoom link: masterclass.instituteofhealth.com
URL:https://student.instituteofhealth.com/event/client-health-cases-3-2/2031-01-28/
CATEGORIES:health initiative
END:VEVENT
BEGIN:VEVENT
DTSTART;TZID=UTC:20310129T060000
DTEND;TZID=UTC:20310129T073000
DTSTAMP:20260426T022440
CREATED:20260406T043015
LAST-MODIFIED:20260406T043015
UID:10012156-1927432800-1927438200@student.instituteofhealth.com
SUMMARY:Client Health Cases
DESCRIPTION:Zoom link: masterclass.instituteofhealth.com
URL:https://student.instituteofhealth.com/event/client-health-cases-2-2-2-2/2031-01-29/
END:VEVENT
BEGIN:VEVENT
DTSTART;TZID=UTC:20310129T200000
DTEND;TZID=UTC:20310129T213000
DTSTAMP:20260426T022440
CREATED:20260406T043044
LAST-MODIFIED:20260406T043044
UID:10012191-1927483200-1927488600@student.instituteofhealth.com
SUMMARY:Client Health Cases
DESCRIPTION:Zoom link: masterclass.instituteofhealth.com
URL:https://student.instituteofhealth.com/event/client-health-cases-4-2/2031-01-30/
CATEGORIES:health initiative
END:VEVENT
BEGIN:VEVENT
DTSTART;TZID=UTC:20310204T070000
DTEND;TZID=UTC:20310204T083000
DTSTAMP:20260426T022440
CREATED:20260115T025352
LAST-MODIFIED:20260402T034906
UID:10012179-1927954800-1927960200@student.instituteofhealth.com
SUMMARY:Client Health Cases
DESCRIPTION:Zoom link: masterclass.instituteofhealth.com
URL:https://student.instituteofhealth.com/event/client-health-cases-3-2/2031-02-04/
CATEGORIES:health initiative
END:VEVENT
BEGIN:VEVENT
DTSTART;TZID=UTC:20310205T060000
DTEND;TZID=UTC:20310205T073000
DTSTAMP:20260426T022440
CREATED:20260406T043015
LAST-MODIFIED:20260406T043015
UID:10012157-1928037600-1928043000@student.instituteofhealth.com
SUMMARY:Client Health Cases
DESCRIPTION:Zoom link: masterclass.instituteofhealth.com
URL:https://student.instituteofhealth.com/event/client-health-cases-2-2-2-2/2031-02-05/
END:VEVENT
BEGIN:VEVENT
DTSTART;TZID=UTC:20310205T200000
DTEND;TZID=UTC:20310205T213000
DTSTAMP:20260426T022440
CREATED:20260406T043044
LAST-MODIFIED:20260406T043044
UID:10012192-1928088000-1928093400@student.instituteofhealth.com
SUMMARY:Client Health Cases
DESCRIPTION:Zoom link: masterclass.instituteofhealth.com
URL:https://student.instituteofhealth.com/event/client-health-cases-4-2/2031-02-06/
CATEGORIES:health initiative
END:VEVENT
BEGIN:VEVENT
DTSTART;TZID=UTC:20310211T070000
DTEND;TZID=UTC:20310211T083000
DTSTAMP:20260426T022440
CREATED:20260115T025352
LAST-MODIFIED:20260402T034906
UID:10012180-1928559600-1928565000@student.instituteofhealth.com
SUMMARY:Client Health Cases
DESCRIPTION:Zoom link: masterclass.instituteofhealth.com
URL:https://student.instituteofhealth.com/event/client-health-cases-3-2/2031-02-11/
CATEGORIES:health initiative
END:VEVENT
BEGIN:VEVENT
DTSTART;TZID=UTC:20310212T060000
DTEND;TZID=UTC:20310212T073000
DTSTAMP:20260426T022440
CREATED:20260406T043015
LAST-MODIFIED:20260406T043015
UID:10012158-1928642400-1928647800@student.instituteofhealth.com
SUMMARY:Client Health Cases
DESCRIPTION:Zoom link: masterclass.instituteofhealth.com
URL:https://student.instituteofhealth.com/event/client-health-cases-2-2-2-2/2031-02-12/
END:VEVENT
BEGIN:VEVENT
DTSTART;TZID=UTC:20310212T200000
DTEND;TZID=UTC:20310212T213000
DTSTAMP:20260426T022440
CREATED:20260406T043044
LAST-MODIFIED:20260406T043044
UID:10012193-1928692800-1928698200@student.instituteofhealth.com
SUMMARY:Client Health Cases
DESCRIPTION:Zoom link: masterclass.instituteofhealth.com
URL:https://student.instituteofhealth.com/event/client-health-cases-4-2/2031-02-13/
CATEGORIES:health initiative
END:VEVENT
BEGIN:VEVENT
DTSTART;TZID=UTC:20310218T070000
DTEND;TZID=UTC:20310218T083000
DTSTAMP:20260426T022440
CREATED:20260115T025352
LAST-MODIFIED:20260402T034906
UID:10012181-1929164400-1929169800@student.instituteofhealth.com
SUMMARY:Client Health Cases
DESCRIPTION:Zoom link: masterclass.instituteofhealth.com
URL:https://student.instituteofhealth.com/event/client-health-cases-3-2/2031-02-18/
CATEGORIES:health initiative
END:VEVENT
BEGIN:VEVENT
DTSTART;TZID=UTC:20310219T060000
DTEND;TZID=UTC:20310219T073000
DTSTAMP:20260426T022440
CREATED:20260406T043015
LAST-MODIFIED:20260406T043015
UID:10012159-1929247200-1929252600@student.instituteofhealth.com
SUMMARY:Client Health Cases
DESCRIPTION:Zoom link: masterclass.instituteofhealth.com
URL:https://student.instituteofhealth.com/event/client-health-cases-2-2-2-2/2031-02-19/
END:VEVENT
BEGIN:VEVENT
DTSTART;TZID=UTC:20310219T200000
DTEND;TZID=UTC:20310219T213000
DTSTAMP:20260426T022440
CREATED:20260406T043044
LAST-MODIFIED:20260406T043044
UID:10012194-1929297600-1929303000@student.instituteofhealth.com
SUMMARY:Client Health Cases
DESCRIPTION:Zoom link: masterclass.instituteofhealth.com
URL:https://student.instituteofhealth.com/event/client-health-cases-4-2/2031-02-20/
CATEGORIES:health initiative
END:VEVENT
BEGIN:VEVENT
DTSTART;TZID=UTC:20310225T070000
DTEND;TZID=UTC:20310225T083000
DTSTAMP:20260426T022440
CREATED:20260115T025352
LAST-MODIFIED:20260402T034906
UID:10012182-1929769200-1929774600@student.instituteofhealth.com
SUMMARY:Client Health Cases
DESCRIPTION:Zoom link: masterclass.instituteofhealth.com
URL:https://student.instituteofhealth.com/event/client-health-cases-3-2/2031-02-25/
CATEGORIES:health initiative
END:VEVENT
BEGIN:VEVENT
DTSTART;TZID=UTC:20310226T060000
DTEND;TZID=UTC:20310226T073000
DTSTAMP:20260426T022440
CREATED:20260406T043015
LAST-MODIFIED:20260406T043015
UID:10012160-1929852000-1929857400@student.instituteofhealth.com
SUMMARY:Client Health Cases
DESCRIPTION:Zoom link: masterclass.instituteofhealth.com
URL:https://student.instituteofhealth.com/event/client-health-cases-2-2-2-2/2031-02-26/
END:VEVENT
BEGIN:VEVENT
DTSTART;TZID=UTC:20310226T200000
DTEND;TZID=UTC:20310226T213000
DTSTAMP:20260426T022440
CREATED:20260406T043044
LAST-MODIFIED:20260406T043044
UID:10012195-1929902400-1929907800@student.instituteofhealth.com
SUMMARY:Client Health Cases
DESCRIPTION:Zoom link: masterclass.instituteofhealth.com
URL:https://student.instituteofhealth.com/event/client-health-cases-4-2/2031-02-27/
CATEGORIES:health initiative
END:VEVENT
BEGIN:VEVENT
DTSTART;TZID=UTC:20310304T070000
DTEND;TZID=UTC:20310304T083000
DTSTAMP:20260426T022440
CREATED:20260115T025352
LAST-MODIFIED:20260402T034906
UID:10012183-1930374000-1930379400@student.instituteofhealth.com
SUMMARY:Client Health Cases
DESCRIPTION:Zoom link: masterclass.instituteofhealth.com
URL:https://student.instituteofhealth.com/event/client-health-cases-3-2/2031-03-04/
CATEGORIES:health initiative
END:VEVENT
BEGIN:VEVENT
DTSTART;TZID=UTC:20310305T060000
DTEND;TZID=UTC:20310305T073000
DTSTAMP:20260426T022440
CREATED:20260406T043015
LAST-MODIFIED:20260406T043015
UID:10012161-1930456800-1930462200@student.instituteofhealth.com
SUMMARY:Client Health Cases
DESCRIPTION:Zoom link: masterclass.instituteofhealth.com
URL:https://student.instituteofhealth.com/event/client-health-cases-2-2-2-2/2031-03-05/
END:VEVENT
BEGIN:VEVENT
DTSTART;TZID=UTC:20310305T200000
DTEND;TZID=UTC:20310305T213000
DTSTAMP:20260426T022440
CREATED:20260406T043044
LAST-MODIFIED:20260406T043044
UID:10012196-1930507200-1930512600@student.instituteofhealth.com
SUMMARY:Client Health Cases
DESCRIPTION:Zoom link: masterclass.instituteofhealth.com
URL:https://student.instituteofhealth.com/event/client-health-cases-4-2/2031-03-06/
CATEGORIES:health initiative
END:VEVENT
BEGIN:VEVENT
DTSTART;TZID=UTC:20310311T070000
DTEND;TZID=UTC:20310311T083000
DTSTAMP:20260426T022440
CREATED:20260115T025352
LAST-MODIFIED:20260402T034906
UID:10012184-1930978800-1930984200@student.instituteofhealth.com
SUMMARY:Client Health Cases
DESCRIPTION:Zoom link: masterclass.instituteofhealth.com
URL:https://student.instituteofhealth.com/event/client-health-cases-3-2/2031-03-11/
CATEGORIES:health initiative
END:VEVENT
BEGIN:VEVENT
DTSTART;TZID=UTC:20310312T060000
DTEND;TZID=UTC:20310312T073000
DTSTAMP:20260426T022440
CREATED:20260406T043015
LAST-MODIFIED:20260406T043015
UID:10012162-1931061600-1931067000@student.instituteofhealth.com
SUMMARY:Client Health Cases
DESCRIPTION:Zoom link: masterclass.instituteofhealth.com
URL:https://student.instituteofhealth.com/event/client-health-cases-2-2-2-2/2031-03-12/
END:VEVENT
BEGIN:VEVENT
DTSTART;TZID=UTC:20310312T200000
DTEND;TZID=UTC:20310312T213000
DTSTAMP:20260426T022440
CREATED:20260406T043044
LAST-MODIFIED:20260406T043044
UID:10012197-1931112000-1931117400@student.instituteofhealth.com
SUMMARY:Client Health Cases
DESCRIPTION:Zoom link: masterclass.instituteofhealth.com
URL:https://student.instituteofhealth.com/event/client-health-cases-4-2/2031-03-13/
CATEGORIES:health initiative
END:VEVENT
BEGIN:VEVENT
DTSTART;TZID=UTC:20310318T070000
DTEND;TZID=UTC:20310318T083000
DTSTAMP:20260426T022440
CREATED:20260115T025352
LAST-MODIFIED:20260402T034906
UID:10012185-1931583600-1931589000@student.instituteofhealth.com
SUMMARY:Client Health Cases
DESCRIPTION:Zoom link: masterclass.instituteofhealth.com
URL:https://student.instituteofhealth.com/event/client-health-cases-3-2/2031-03-18/
CATEGORIES:health initiative
END:VEVENT
BEGIN:VEVENT
DTSTART;TZID=UTC:20310319T060000
DTEND;TZID=UTC:20310319T073000
DTSTAMP:20260426T022440
CREATED:20260406T043015
LAST-MODIFIED:20260406T043015
UID:10012163-1931666400-1931671800@student.instituteofhealth.com
SUMMARY:Client Health Cases
DESCRIPTION:Zoom link: masterclass.instituteofhealth.com
URL:https://student.instituteofhealth.com/event/client-health-cases-2-2-2-2/2031-03-19/
END:VEVENT
BEGIN:VEVENT
DTSTART;TZID=UTC:20310319T200000
DTEND;TZID=UTC:20310319T213000
DTSTAMP:20260426T022440
CREATED:20260406T043044
LAST-MODIFIED:20260406T043044
UID:10012198-1931716800-1931722200@student.instituteofhealth.com
SUMMARY:Client Health Cases
DESCRIPTION:Zoom link: masterclass.instituteofhealth.com
URL:https://student.instituteofhealth.com/event/client-health-cases-4-2/2031-03-20/
CATEGORIES:health initiative
END:VEVENT
BEGIN:VEVENT
DTSTART;TZID=UTC:20310325T070000
DTEND;TZID=UTC:20310325T083000
DTSTAMP:20260426T022440
CREATED:20260115T025352
LAST-MODIFIED:20260402T034906
UID:10012186-1932188400-1932193800@student.instituteofhealth.com
SUMMARY:Client Health Cases
DESCRIPTION:Zoom link: masterclass.instituteofhealth.com
URL:https://student.instituteofhealth.com/event/client-health-cases-3-2/2031-03-25/
CATEGORIES:health initiative
END:VEVENT
BEGIN:VEVENT
DTSTART;TZID=UTC:20310326T060000
DTEND;TZID=UTC:20310326T073000
DTSTAMP:20260426T022440
CREATED:20260406T043015
LAST-MODIFIED:20260406T043015
UID:10012164-1932271200-1932276600@student.instituteofhealth.com
SUMMARY:Client Health Cases
DESCRIPTION:Zoom link: masterclass.instituteofhealth.com
URL:https://student.instituteofhealth.com/event/client-health-cases-2-2-2-2/2031-03-26/
END:VEVENT
BEGIN:VEVENT
DTSTART;TZID=UTC:20310326T200000
DTEND;TZID=UTC:20310326T213000
DTSTAMP:20260426T022440
CREATED:20260406T043044
LAST-MODIFIED:20260406T043044
UID:10012199-1932321600-1932327000@student.instituteofhealth.com
SUMMARY:Client Health Cases
DESCRIPTION:Zoom link: masterclass.instituteofhealth.com
URL:https://student.instituteofhealth.com/event/client-health-cases-4-2/2031-03-27/
CATEGORIES:health initiative
END:VEVENT
BEGIN:VEVENT
DTSTART;TZID=UTC:20310401T070000
DTEND;TZID=UTC:20310401T083000
DTSTAMP:20260426T022440
CREATED:20260115T025352
LAST-MODIFIED:20260402T034906
UID:10012187-1932793200-1932798600@student.instituteofhealth.com
SUMMARY:Client Health Cases
DESCRIPTION:Zoom link: masterclass.instituteofhealth.com
URL:https://student.instituteofhealth.com/event/client-health-cases-3-2/2031-04-01/
CATEGORIES:health initiative
END:VEVENT
BEGIN:VEVENT
DTSTART;TZID=UTC:20310402T060000
DTEND;TZID=UTC:20310402T073000
DTSTAMP:20260426T022440
CREATED:20260406T043015
LAST-MODIFIED:20260406T043015
UID:10012188-1932876000-1932881400@student.instituteofhealth.com
SUMMARY:Client Health Cases
DESCRIPTION:Zoom link: masterclass.instituteofhealth.com
URL:https://student.instituteofhealth.com/event/client-health-cases-2-2-2-2/2031-04-02/
END:VEVENT
BEGIN:VEVENT
DTSTART;TZID=UTC:20310402T200000
DTEND;TZID=UTC:20310402T213000
DTSTAMP:20260426T022440
CREATED:20260406T043044
LAST-MODIFIED:20260406T043044
UID:10012200-1932926400-1932931800@student.instituteofhealth.com
SUMMARY:Client Health Cases
DESCRIPTION:Zoom link: masterclass.instituteofhealth.com
URL:https://student.instituteofhealth.com/event/client-health-cases-4-2/2031-04-03/
CATEGORIES:health initiative
END:VEVENT
END:VCALENDAR