BEGIN:VCALENDAR
VERSION:2.0
PRODID:-//Institute of Health - ECPv6.3.5//NONSGML v1.0//EN
CALSCALE:GREGORIAN
METHOD:PUBLISH
X-ORIGINAL-URL:https://student.instituteofhealth.com
X-WR-CALDESC:Events for Institute of Health
REFRESH-INTERVAL;VALUE=DURATION:PT1H
X-Robots-Tag:noindex
X-PUBLISHED-TTL:PT1H
BEGIN:VTIMEZONE
TZID:Australia/Brisbane
BEGIN:STANDARD
TZOFFSETFROM:+1000
TZOFFSETTO:+1000
TZNAME:AEST
DTSTART:20291231T140000
END:STANDARD
TZID:Australia/Melbourne
BEGIN:STANDARD
TZOFFSETFROM:+1100
TZOFFSETTO:+1000
TZNAME:AEST
DTSTART:20300406T160000
END:STANDARD
BEGIN:DAYLIGHT
TZOFFSETFROM:+1000
TZOFFSETTO:+1100
TZNAME:AEDT
DTSTART:20301005T160000
END:DAYLIGHT
BEGIN:STANDARD
TZOFFSETFROM:+1100
TZOFFSETTO:+1000
TZNAME:AEST
DTSTART:20310405T160000
END:STANDARD
BEGIN:DAYLIGHT
TZOFFSETFROM:+1000
TZOFFSETTO:+1100
TZNAME:AEDT
DTSTART:20311004T160000
END:DAYLIGHT
END:VTIMEZONE
BEGIN:VEVENT
DTSTART;TZID=UTC:20301203T070000
DTEND;TZID=UTC:20301203T083000
DTSTAMP:20260425T233348
CREATED:20260115T025352
LAST-MODIFIED:20260402T034906
UID:10010836-1922511600-1922517000@student.instituteofhealth.com
SUMMARY:Client Health Cases
DESCRIPTION:Zoom link: masterclass.instituteofhealth.com
URL:https://student.instituteofhealth.com/event/client-health-cases-3-2/2030-12-03/
CATEGORIES:health initiative
END:VEVENT
BEGIN:VEVENT
DTSTART;TZID=UTC:20301204T060000
DTEND;TZID=UTC:20301204T073000
DTSTAMP:20260425T233348
CREATED:20260406T043015
LAST-MODIFIED:20260406T043015
UID:10012148-1922594400-1922599800@student.instituteofhealth.com
SUMMARY:Client Health Cases
DESCRIPTION:Zoom link: masterclass.instituteofhealth.com
URL:https://student.instituteofhealth.com/event/client-health-cases-2-2-2-2/2030-12-04/
END:VEVENT
BEGIN:VEVENT
DTSTART;TZID=UTC:20301204T200000
DTEND;TZID=UTC:20301204T213000
DTSTAMP:20260425T233348
CREATED:20260406T043044
LAST-MODIFIED:20260406T043044
UID:10011614-1922644800-1922650200@student.instituteofhealth.com
SUMMARY:Client Health Cases
DESCRIPTION:Zoom link: masterclass.instituteofhealth.com
URL:https://student.instituteofhealth.com/event/client-health-cases-4-2/2030-12-05/
CATEGORIES:health initiative
END:VEVENT
BEGIN:VEVENT
DTSTART;TZID=UTC:20301210T070000
DTEND;TZID=UTC:20301210T083000
DTSTAMP:20260425T233348
CREATED:20260115T025352
LAST-MODIFIED:20260402T034906
UID:10010837-1923116400-1923121800@student.instituteofhealth.com
SUMMARY:Client Health Cases
DESCRIPTION:Zoom link: masterclass.instituteofhealth.com
URL:https://student.instituteofhealth.com/event/client-health-cases-3-2/2030-12-10/
CATEGORIES:health initiative
END:VEVENT
BEGIN:VEVENT
DTSTART;TZID=UTC:20301211T060000
DTEND;TZID=UTC:20301211T073000
DTSTAMP:20260425T233348
CREATED:20260406T043015
LAST-MODIFIED:20260406T043015
UID:10012149-1923199200-1923204600@student.instituteofhealth.com
SUMMARY:Client Health Cases
DESCRIPTION:Zoom link: masterclass.instituteofhealth.com
URL:https://student.instituteofhealth.com/event/client-health-cases-2-2-2-2/2030-12-11/
END:VEVENT
BEGIN:VEVENT
DTSTART;TZID=UTC:20301211T200000
DTEND;TZID=UTC:20301211T213000
DTSTAMP:20260425T233348
CREATED:20260406T043044
LAST-MODIFIED:20260406T043044
UID:10011615-1923249600-1923255000@student.instituteofhealth.com
SUMMARY:Client Health Cases
DESCRIPTION:Zoom link: masterclass.instituteofhealth.com
URL:https://student.instituteofhealth.com/event/client-health-cases-4-2/2030-12-12/
CATEGORIES:health initiative
END:VEVENT
BEGIN:VEVENT
DTSTART;TZID=UTC:20301217T070000
DTEND;TZID=UTC:20301217T083000
DTSTAMP:20260425T233348
CREATED:20260115T025352
LAST-MODIFIED:20260402T034906
UID:10010838-1923721200-1923726600@student.instituteofhealth.com
SUMMARY:Client Health Cases
DESCRIPTION:Zoom link: masterclass.instituteofhealth.com
URL:https://student.instituteofhealth.com/event/client-health-cases-3-2/2030-12-17/
CATEGORIES:health initiative
END:VEVENT
BEGIN:VEVENT
DTSTART;TZID=UTC:20301218T060000
DTEND;TZID=UTC:20301218T073000
DTSTAMP:20260425T233348
CREATED:20260406T043015
LAST-MODIFIED:20260406T043015
UID:10012150-1923804000-1923809400@student.instituteofhealth.com
SUMMARY:Client Health Cases
DESCRIPTION:Zoom link: masterclass.instituteofhealth.com
URL:https://student.instituteofhealth.com/event/client-health-cases-2-2-2-2/2030-12-18/
END:VEVENT
BEGIN:VEVENT
DTSTART;TZID=UTC:20301218T200000
DTEND;TZID=UTC:20301218T213000
DTSTAMP:20260425T233348
CREATED:20260406T043044
LAST-MODIFIED:20260406T043044
UID:10011616-1923854400-1923859800@student.instituteofhealth.com
SUMMARY:Client Health Cases
DESCRIPTION:Zoom link: masterclass.instituteofhealth.com
URL:https://student.instituteofhealth.com/event/client-health-cases-4-2/2030-12-19/
CATEGORIES:health initiative
END:VEVENT
BEGIN:VEVENT
DTSTART;TZID=UTC:20301224T070000
DTEND;TZID=UTC:20301224T083000
DTSTAMP:20260425T233348
CREATED:20260115T025352
LAST-MODIFIED:20260402T034906
UID:10010839-1924326000-1924331400@student.instituteofhealth.com
SUMMARY:Client Health Cases
DESCRIPTION:Zoom link: masterclass.instituteofhealth.com
URL:https://student.instituteofhealth.com/event/client-health-cases-3-2/2030-12-24/
CATEGORIES:health initiative
END:VEVENT
BEGIN:VEVENT
DTSTART;TZID=UTC:20301225T060000
DTEND;TZID=UTC:20301225T073000
DTSTAMP:20260425T233348
CREATED:20260406T043015
LAST-MODIFIED:20260406T043015
UID:10012151-1924408800-1924414200@student.instituteofhealth.com
SUMMARY:Client Health Cases
DESCRIPTION:Zoom link: masterclass.instituteofhealth.com
URL:https://student.instituteofhealth.com/event/client-health-cases-2-2-2-2/2030-12-25/
END:VEVENT
BEGIN:VEVENT
DTSTART;TZID=UTC:20301225T200000
DTEND;TZID=UTC:20301225T213000
DTSTAMP:20260425T233348
CREATED:20260406T043044
LAST-MODIFIED:20260406T043044
UID:10011617-1924459200-1924464600@student.instituteofhealth.com
SUMMARY:Client Health Cases
DESCRIPTION:Zoom link: masterclass.instituteofhealth.com
URL:https://student.instituteofhealth.com/event/client-health-cases-4-2/2030-12-26/
CATEGORIES:health initiative
END:VEVENT
BEGIN:VEVENT
DTSTART;TZID=UTC:20301231T070000
DTEND;TZID=UTC:20301231T083000
DTSTAMP:20260425T233348
CREATED:20260115T025352
LAST-MODIFIED:20260402T034906
UID:10011620-1924930800-1924936200@student.instituteofhealth.com
SUMMARY:Client Health Cases
DESCRIPTION:Zoom link: masterclass.instituteofhealth.com
URL:https://student.instituteofhealth.com/event/client-health-cases-3-2/2030-12-31/
CATEGORIES:health initiative
END:VEVENT
BEGIN:VEVENT
DTSTART;TZID=UTC:20310101T060000
DTEND;TZID=UTC:20310101T073000
DTSTAMP:20260425T233348
CREATED:20260406T043015
LAST-MODIFIED:20260406T043015
UID:10012152-1925013600-1925019000@student.instituteofhealth.com
SUMMARY:Client Health Cases
DESCRIPTION:Zoom link: masterclass.instituteofhealth.com
URL:https://student.instituteofhealth.com/event/client-health-cases-2-2-2-2/2031-01-01/
END:VEVENT
BEGIN:VEVENT
DTSTART;TZID=UTC:20310101T200000
DTEND;TZID=UTC:20310101T213000
DTSTAMP:20260425T233348
CREATED:20260406T043044
LAST-MODIFIED:20260406T043044
UID:10011618-1925064000-1925069400@student.instituteofhealth.com
SUMMARY:Client Health Cases
DESCRIPTION:Zoom link: masterclass.instituteofhealth.com
URL:https://student.instituteofhealth.com/event/client-health-cases-4-2/2031-01-02/
CATEGORIES:health initiative
END:VEVENT
BEGIN:VEVENT
DTSTART;TZID=UTC:20310107T070000
DTEND;TZID=UTC:20310107T083000
DTSTAMP:20260425T233348
CREATED:20260115T025352
LAST-MODIFIED:20260402T034906
UID:10011899-1925535600-1925541000@student.instituteofhealth.com
SUMMARY:Client Health Cases
DESCRIPTION:Zoom link: masterclass.instituteofhealth.com
URL:https://student.instituteofhealth.com/event/client-health-cases-3-2/2031-01-07/
CATEGORIES:health initiative
END:VEVENT
BEGIN:VEVENT
DTSTART;TZID=UTC:20310108T060000
DTEND;TZID=UTC:20310108T073000
DTSTAMP:20260425T233348
CREATED:20260406T043015
LAST-MODIFIED:20260406T043015
UID:10012153-1925618400-1925623800@student.instituteofhealth.com
SUMMARY:Client Health Cases
DESCRIPTION:Zoom link: masterclass.instituteofhealth.com
URL:https://student.instituteofhealth.com/event/client-health-cases-2-2-2-2/2031-01-08/
END:VEVENT
BEGIN:VEVENT
DTSTART;TZID=UTC:20310108T200000
DTEND;TZID=UTC:20310108T213000
DTSTAMP:20260425T233348
CREATED:20260406T043044
LAST-MODIFIED:20260406T043044
UID:10011897-1925668800-1925674200@student.instituteofhealth.com
SUMMARY:Client Health Cases
DESCRIPTION:Zoom link: masterclass.instituteofhealth.com
URL:https://student.instituteofhealth.com/event/client-health-cases-4-2/2031-01-09/
CATEGORIES:health initiative
END:VEVENT
BEGIN:VEVENT
DTSTART;TZID=UTC:20310114T070000
DTEND;TZID=UTC:20310114T083000
DTSTAMP:20260425T233348
CREATED:20260115T025352
LAST-MODIFIED:20260402T034906
UID:10011900-1926140400-1926145800@student.instituteofhealth.com
SUMMARY:Client Health Cases
DESCRIPTION:Zoom link: masterclass.instituteofhealth.com
URL:https://student.instituteofhealth.com/event/client-health-cases-3-2/2031-01-14/
CATEGORIES:health initiative
END:VEVENT
BEGIN:VEVENT
DTSTART;TZID=UTC:20310115T060000
DTEND;TZID=UTC:20310115T073000
DTSTAMP:20260425T233348
CREATED:20260406T043015
LAST-MODIFIED:20260406T043015
UID:10012154-1926223200-1926228600@student.instituteofhealth.com
SUMMARY:Client Health Cases
DESCRIPTION:Zoom link: masterclass.instituteofhealth.com
URL:https://student.instituteofhealth.com/event/client-health-cases-2-2-2-2/2031-01-15/
END:VEVENT
BEGIN:VEVENT
DTSTART;TZID=UTC:20310115T200000
DTEND;TZID=UTC:20310115T213000
DTSTAMP:20260425T233348
CREATED:20260406T043044
LAST-MODIFIED:20260406T043044
UID:10012189-1926273600-1926279000@student.instituteofhealth.com
SUMMARY:Client Health Cases
DESCRIPTION:Zoom link: masterclass.instituteofhealth.com
URL:https://student.instituteofhealth.com/event/client-health-cases-4-2/2031-01-16/
CATEGORIES:health initiative
END:VEVENT
BEGIN:VEVENT
DTSTART;TZID=UTC:20310121T070000
DTEND;TZID=UTC:20310121T083000
DTSTAMP:20260425T233348
CREATED:20260115T025352
LAST-MODIFIED:20260402T034906
UID:10012177-1926745200-1926750600@student.instituteofhealth.com
SUMMARY:Client Health Cases
DESCRIPTION:Zoom link: masterclass.instituteofhealth.com
URL:https://student.instituteofhealth.com/event/client-health-cases-3-2/2031-01-21/
CATEGORIES:health initiative
END:VEVENT
BEGIN:VEVENT
DTSTART;TZID=UTC:20310122T060000
DTEND;TZID=UTC:20310122T073000
DTSTAMP:20260425T233348
CREATED:20260406T043015
LAST-MODIFIED:20260406T043015
UID:10012155-1926828000-1926833400@student.instituteofhealth.com
SUMMARY:Client Health Cases
DESCRIPTION:Zoom link: masterclass.instituteofhealth.com
URL:https://student.instituteofhealth.com/event/client-health-cases-2-2-2-2/2031-01-22/
END:VEVENT
BEGIN:VEVENT
DTSTART;TZID=UTC:20310122T200000
DTEND;TZID=UTC:20310122T213000
DTSTAMP:20260425T233348
CREATED:20260406T043044
LAST-MODIFIED:20260406T043044
UID:10012190-1926878400-1926883800@student.instituteofhealth.com
SUMMARY:Client Health Cases
DESCRIPTION:Zoom link: masterclass.instituteofhealth.com
URL:https://student.instituteofhealth.com/event/client-health-cases-4-2/2031-01-23/
CATEGORIES:health initiative
END:VEVENT
BEGIN:VEVENT
DTSTART;TZID=UTC:20310128T070000
DTEND;TZID=UTC:20310128T083000
DTSTAMP:20260425T233348
CREATED:20260115T025352
LAST-MODIFIED:20260402T034906
UID:10012178-1927350000-1927355400@student.instituteofhealth.com
SUMMARY:Client Health Cases
DESCRIPTION:Zoom link: masterclass.instituteofhealth.com
URL:https://student.instituteofhealth.com/event/client-health-cases-3-2/2031-01-28/
CATEGORIES:health initiative
END:VEVENT
BEGIN:VEVENT
DTSTART;TZID=UTC:20310129T060000
DTEND;TZID=UTC:20310129T073000
DTSTAMP:20260425T233348
CREATED:20260406T043015
LAST-MODIFIED:20260406T043015
UID:10012156-1927432800-1927438200@student.instituteofhealth.com
SUMMARY:Client Health Cases
DESCRIPTION:Zoom link: masterclass.instituteofhealth.com
URL:https://student.instituteofhealth.com/event/client-health-cases-2-2-2-2/2031-01-29/
END:VEVENT
BEGIN:VEVENT
DTSTART;TZID=UTC:20310129T200000
DTEND;TZID=UTC:20310129T213000
DTSTAMP:20260425T233348
CREATED:20260406T043044
LAST-MODIFIED:20260406T043044
UID:10012191-1927483200-1927488600@student.instituteofhealth.com
SUMMARY:Client Health Cases
DESCRIPTION:Zoom link: masterclass.instituteofhealth.com
URL:https://student.instituteofhealth.com/event/client-health-cases-4-2/2031-01-30/
CATEGORIES:health initiative
END:VEVENT
BEGIN:VEVENT
DTSTART;TZID=UTC:20310204T070000
DTEND;TZID=UTC:20310204T083000
DTSTAMP:20260425T233348
CREATED:20260115T025352
LAST-MODIFIED:20260402T034906
UID:10012179-1927954800-1927960200@student.instituteofhealth.com
SUMMARY:Client Health Cases
DESCRIPTION:Zoom link: masterclass.instituteofhealth.com
URL:https://student.instituteofhealth.com/event/client-health-cases-3-2/2031-02-04/
CATEGORIES:health initiative
END:VEVENT
BEGIN:VEVENT
DTSTART;TZID=UTC:20310205T060000
DTEND;TZID=UTC:20310205T073000
DTSTAMP:20260425T233348
CREATED:20260406T043015
LAST-MODIFIED:20260406T043015
UID:10012157-1928037600-1928043000@student.instituteofhealth.com
SUMMARY:Client Health Cases
DESCRIPTION:Zoom link: masterclass.instituteofhealth.com
URL:https://student.instituteofhealth.com/event/client-health-cases-2-2-2-2/2031-02-05/
END:VEVENT
BEGIN:VEVENT
DTSTART;TZID=UTC:20310205T200000
DTEND;TZID=UTC:20310205T213000
DTSTAMP:20260425T233348
CREATED:20260406T043044
LAST-MODIFIED:20260406T043044
UID:10012192-1928088000-1928093400@student.instituteofhealth.com
SUMMARY:Client Health Cases
DESCRIPTION:Zoom link: masterclass.instituteofhealth.com
URL:https://student.instituteofhealth.com/event/client-health-cases-4-2/2031-02-06/
CATEGORIES:health initiative
END:VEVENT
END:VCALENDAR