BEGIN:VCALENDAR
VERSION:2.0
PRODID:-//Institute of Health - ECPv6.3.5//NONSGML v1.0//EN
CALSCALE:GREGORIAN
METHOD:PUBLISH
X-WR-CALNAME:Institute of Health
X-ORIGINAL-URL:https://student.instituteofhealth.com
X-WR-CALDESC:Events for Institute of Health
REFRESH-INTERVAL;VALUE=DURATION:PT1H
X-Robots-Tag:noindex
X-PUBLISHED-TTL:PT1H
BEGIN:VTIMEZONE
TZID:Australia/Brisbane
BEGIN:STANDARD
TZOFFSETFROM:+1000
TZOFFSETTO:+1000
TZNAME:AEST
DTSTART:20291231T140000
END:STANDARD
TZID:Australia/Melbourne
BEGIN:STANDARD
TZOFFSETFROM:+1100
TZOFFSETTO:+1000
TZNAME:AEST
DTSTART:20300406T160000
END:STANDARD
BEGIN:DAYLIGHT
TZOFFSETFROM:+1000
TZOFFSETTO:+1100
TZNAME:AEDT
DTSTART:20301005T160000
END:DAYLIGHT
END:VTIMEZONE
BEGIN:VEVENT
DTSTART;TZID=UTC:20300910T070000
DTEND;TZID=UTC:20300910T083000
DTSTAMP:20260425T190711
CREATED:20260115T025352
LAST-MODIFIED:20260402T034906
UID:10010824-1915254000-1915259400@student.instituteofhealth.com
SUMMARY:Client Health Cases
DESCRIPTION:Zoom link: masterclass.instituteofhealth.com
URL:https://student.instituteofhealth.com/event/client-health-cases-3-2/2030-09-10/
CATEGORIES:health initiative
END:VEVENT
BEGIN:VEVENT
DTSTART;TZID=UTC:20300911T060000
DTEND;TZID=UTC:20300911T073000
DTSTAMP:20260425T190711
CREATED:20260406T043015
LAST-MODIFIED:20260406T043015
UID:10012136-1915336800-1915342200@student.instituteofhealth.com
SUMMARY:Client Health Cases
DESCRIPTION:Zoom link: masterclass.instituteofhealth.com
URL:https://student.instituteofhealth.com/event/client-health-cases-2-2-2-2/2030-09-11/
END:VEVENT
BEGIN:VEVENT
DTSTART;TZID=UTC:20300911T200000
DTEND;TZID=UTC:20300911T213000
DTSTAMP:20260425T190711
CREATED:20260406T043044
LAST-MODIFIED:20260406T043044
UID:10011602-1915387200-1915392600@student.instituteofhealth.com
SUMMARY:Client Health Cases
DESCRIPTION:Zoom link: masterclass.instituteofhealth.com
URL:https://student.instituteofhealth.com/event/client-health-cases-4-2/2030-09-12/
CATEGORIES:health initiative
END:VEVENT
BEGIN:VEVENT
DTSTART;TZID=UTC:20300917T070000
DTEND;TZID=UTC:20300917T083000
DTSTAMP:20260425T190711
CREATED:20260115T025352
LAST-MODIFIED:20260402T034906
UID:10010825-1915858800-1915864200@student.instituteofhealth.com
SUMMARY:Client Health Cases
DESCRIPTION:Zoom link: masterclass.instituteofhealth.com
URL:https://student.instituteofhealth.com/event/client-health-cases-3-2/2030-09-17/
CATEGORIES:health initiative
END:VEVENT
BEGIN:VEVENT
DTSTART;TZID=UTC:20300918T060000
DTEND;TZID=UTC:20300918T073000
DTSTAMP:20260425T190711
CREATED:20260406T043015
LAST-MODIFIED:20260406T043015
UID:10012137-1915941600-1915947000@student.instituteofhealth.com
SUMMARY:Client Health Cases
DESCRIPTION:Zoom link: masterclass.instituteofhealth.com
URL:https://student.instituteofhealth.com/event/client-health-cases-2-2-2-2/2030-09-18/
END:VEVENT
BEGIN:VEVENT
DTSTART;TZID=UTC:20300918T200000
DTEND;TZID=UTC:20300918T213000
DTSTAMP:20260425T190711
CREATED:20260406T043044
LAST-MODIFIED:20260406T043044
UID:10011603-1915992000-1915997400@student.instituteofhealth.com
SUMMARY:Client Health Cases
DESCRIPTION:Zoom link: masterclass.instituteofhealth.com
URL:https://student.instituteofhealth.com/event/client-health-cases-4-2/2030-09-19/
CATEGORIES:health initiative
END:VEVENT
BEGIN:VEVENT
DTSTART;TZID=UTC:20300924T070000
DTEND;TZID=UTC:20300924T083000
DTSTAMP:20260425T190711
CREATED:20260115T025352
LAST-MODIFIED:20260402T034906
UID:10010826-1916463600-1916469000@student.instituteofhealth.com
SUMMARY:Client Health Cases
DESCRIPTION:Zoom link: masterclass.instituteofhealth.com
URL:https://student.instituteofhealth.com/event/client-health-cases-3-2/2030-09-24/
CATEGORIES:health initiative
END:VEVENT
BEGIN:VEVENT
DTSTART;TZID=UTC:20300925T060000
DTEND;TZID=UTC:20300925T073000
DTSTAMP:20260425T190711
CREATED:20260406T043015
LAST-MODIFIED:20260406T043015
UID:10012138-1916546400-1916551800@student.instituteofhealth.com
SUMMARY:Client Health Cases
DESCRIPTION:Zoom link: masterclass.instituteofhealth.com
URL:https://student.instituteofhealth.com/event/client-health-cases-2-2-2-2/2030-09-25/
END:VEVENT
BEGIN:VEVENT
DTSTART;TZID=UTC:20300925T200000
DTEND;TZID=UTC:20300925T213000
DTSTAMP:20260425T190711
CREATED:20260406T043044
LAST-MODIFIED:20260406T043044
UID:10011604-1916596800-1916602200@student.instituteofhealth.com
SUMMARY:Client Health Cases
DESCRIPTION:Zoom link: masterclass.instituteofhealth.com
URL:https://student.instituteofhealth.com/event/client-health-cases-4-2/2030-09-26/
CATEGORIES:health initiative
END:VEVENT
BEGIN:VEVENT
DTSTART;TZID=UTC:20301001T070000
DTEND;TZID=UTC:20301001T083000
DTSTAMP:20260425T190711
CREATED:20260115T025352
LAST-MODIFIED:20260402T034906
UID:10010827-1917068400-1917073800@student.instituteofhealth.com
SUMMARY:Client Health Cases
DESCRIPTION:Zoom link: masterclass.instituteofhealth.com
URL:https://student.instituteofhealth.com/event/client-health-cases-3-2/2030-10-01/
CATEGORIES:health initiative
END:VEVENT
BEGIN:VEVENT
DTSTART;TZID=UTC:20301002T060000
DTEND;TZID=UTC:20301002T073000
DTSTAMP:20260425T190711
CREATED:20260406T043015
LAST-MODIFIED:20260406T043015
UID:10012139-1917151200-1917156600@student.instituteofhealth.com
SUMMARY:Client Health Cases
DESCRIPTION:Zoom link: masterclass.instituteofhealth.com
URL:https://student.instituteofhealth.com/event/client-health-cases-2-2-2-2/2030-10-02/
END:VEVENT
BEGIN:VEVENT
DTSTART;TZID=UTC:20301002T200000
DTEND;TZID=UTC:20301002T213000
DTSTAMP:20260425T190711
CREATED:20260406T043044
LAST-MODIFIED:20260406T043044
UID:10011605-1917201600-1917207000@student.instituteofhealth.com
SUMMARY:Client Health Cases
DESCRIPTION:Zoom link: masterclass.instituteofhealth.com
URL:https://student.instituteofhealth.com/event/client-health-cases-4-2/2030-10-03/
CATEGORIES:health initiative
END:VEVENT
BEGIN:VEVENT
DTSTART;TZID=UTC:20301008T070000
DTEND;TZID=UTC:20301008T083000
DTSTAMP:20260425T190711
CREATED:20260115T025352
LAST-MODIFIED:20260402T034906
UID:10010828-1917673200-1917678600@student.instituteofhealth.com
SUMMARY:Client Health Cases
DESCRIPTION:Zoom link: masterclass.instituteofhealth.com
URL:https://student.instituteofhealth.com/event/client-health-cases-3-2/2030-10-08/
CATEGORIES:health initiative
END:VEVENT
BEGIN:VEVENT
DTSTART;TZID=UTC:20301009T060000
DTEND;TZID=UTC:20301009T073000
DTSTAMP:20260425T190711
CREATED:20260406T043015
LAST-MODIFIED:20260406T043015
UID:10012140-1917756000-1917761400@student.instituteofhealth.com
SUMMARY:Client Health Cases
DESCRIPTION:Zoom link: masterclass.instituteofhealth.com
URL:https://student.instituteofhealth.com/event/client-health-cases-2-2-2-2/2030-10-09/
END:VEVENT
BEGIN:VEVENT
DTSTART;TZID=UTC:20301009T200000
DTEND;TZID=UTC:20301009T213000
DTSTAMP:20260425T190711
CREATED:20260406T043044
LAST-MODIFIED:20260406T043044
UID:10011606-1917806400-1917811800@student.instituteofhealth.com
SUMMARY:Client Health Cases
DESCRIPTION:Zoom link: masterclass.instituteofhealth.com
URL:https://student.instituteofhealth.com/event/client-health-cases-4-2/2030-10-10/
CATEGORIES:health initiative
END:VEVENT
BEGIN:VEVENT
DTSTART;TZID=UTC:20301015T070000
DTEND;TZID=UTC:20301015T083000
DTSTAMP:20260425T190711
CREATED:20260115T025352
LAST-MODIFIED:20260402T034906
UID:10010829-1918278000-1918283400@student.instituteofhealth.com
SUMMARY:Client Health Cases
DESCRIPTION:Zoom link: masterclass.instituteofhealth.com
URL:https://student.instituteofhealth.com/event/client-health-cases-3-2/2030-10-15/
CATEGORIES:health initiative
END:VEVENT
BEGIN:VEVENT
DTSTART;TZID=UTC:20301016T060000
DTEND;TZID=UTC:20301016T073000
DTSTAMP:20260425T190711
CREATED:20260406T043015
LAST-MODIFIED:20260406T043015
UID:10012141-1918360800-1918366200@student.instituteofhealth.com
SUMMARY:Client Health Cases
DESCRIPTION:Zoom link: masterclass.instituteofhealth.com
URL:https://student.instituteofhealth.com/event/client-health-cases-2-2-2-2/2030-10-16/
END:VEVENT
BEGIN:VEVENT
DTSTART;TZID=UTC:20301016T200000
DTEND;TZID=UTC:20301016T213000
DTSTAMP:20260425T190711
CREATED:20260406T043044
LAST-MODIFIED:20260406T043044
UID:10011607-1918411200-1918416600@student.instituteofhealth.com
SUMMARY:Client Health Cases
DESCRIPTION:Zoom link: masterclass.instituteofhealth.com
URL:https://student.instituteofhealth.com/event/client-health-cases-4-2/2030-10-17/
CATEGORIES:health initiative
END:VEVENT
BEGIN:VEVENT
DTSTART;TZID=UTC:20301022T070000
DTEND;TZID=UTC:20301022T083000
DTSTAMP:20260425T190711
CREATED:20260115T025352
LAST-MODIFIED:20260402T034906
UID:10010830-1918882800-1918888200@student.instituteofhealth.com
SUMMARY:Client Health Cases
DESCRIPTION:Zoom link: masterclass.instituteofhealth.com
URL:https://student.instituteofhealth.com/event/client-health-cases-3-2/2030-10-22/
CATEGORIES:health initiative
END:VEVENT
BEGIN:VEVENT
DTSTART;TZID=UTC:20301023T060000
DTEND;TZID=UTC:20301023T073000
DTSTAMP:20260425T190711
CREATED:20260406T043015
LAST-MODIFIED:20260406T043015
UID:10012142-1918965600-1918971000@student.instituteofhealth.com
SUMMARY:Client Health Cases
DESCRIPTION:Zoom link: masterclass.instituteofhealth.com
URL:https://student.instituteofhealth.com/event/client-health-cases-2-2-2-2/2030-10-23/
END:VEVENT
BEGIN:VEVENT
DTSTART;TZID=UTC:20301023T200000
DTEND;TZID=UTC:20301023T213000
DTSTAMP:20260425T190711
CREATED:20260406T043044
LAST-MODIFIED:20260406T043044
UID:10011608-1919016000-1919021400@student.instituteofhealth.com
SUMMARY:Client Health Cases
DESCRIPTION:Zoom link: masterclass.instituteofhealth.com
URL:https://student.instituteofhealth.com/event/client-health-cases-4-2/2030-10-24/
CATEGORIES:health initiative
END:VEVENT
BEGIN:VEVENT
DTSTART;TZID=UTC:20301029T070000
DTEND;TZID=UTC:20301029T083000
DTSTAMP:20260425T190711
CREATED:20260115T025352
LAST-MODIFIED:20260402T034906
UID:10010831-1919487600-1919493000@student.instituteofhealth.com
SUMMARY:Client Health Cases
DESCRIPTION:Zoom link: masterclass.instituteofhealth.com
URL:https://student.instituteofhealth.com/event/client-health-cases-3-2/2030-10-29/
CATEGORIES:health initiative
END:VEVENT
BEGIN:VEVENT
DTSTART;TZID=UTC:20301030T060000
DTEND;TZID=UTC:20301030T073000
DTSTAMP:20260425T190711
CREATED:20260406T043015
LAST-MODIFIED:20260406T043015
UID:10012143-1919570400-1919575800@student.instituteofhealth.com
SUMMARY:Client Health Cases
DESCRIPTION:Zoom link: masterclass.instituteofhealth.com
URL:https://student.instituteofhealth.com/event/client-health-cases-2-2-2-2/2030-10-30/
END:VEVENT
BEGIN:VEVENT
DTSTART;TZID=UTC:20301030T200000
DTEND;TZID=UTC:20301030T213000
DTSTAMP:20260425T190711
CREATED:20260406T043044
LAST-MODIFIED:20260406T043044
UID:10011609-1919620800-1919626200@student.instituteofhealth.com
SUMMARY:Client Health Cases
DESCRIPTION:Zoom link: masterclass.instituteofhealth.com
URL:https://student.instituteofhealth.com/event/client-health-cases-4-2/2030-10-31/
CATEGORIES:health initiative
END:VEVENT
BEGIN:VEVENT
DTSTART;TZID=UTC:20301105T070000
DTEND;TZID=UTC:20301105T083000
DTSTAMP:20260425T190711
CREATED:20260115T025352
LAST-MODIFIED:20260402T034906
UID:10010832-1920092400-1920097800@student.instituteofhealth.com
SUMMARY:Client Health Cases
DESCRIPTION:Zoom link: masterclass.instituteofhealth.com
URL:https://student.instituteofhealth.com/event/client-health-cases-3-2/2030-11-05/
CATEGORIES:health initiative
END:VEVENT
BEGIN:VEVENT
DTSTART;TZID=UTC:20301106T060000
DTEND;TZID=UTC:20301106T073000
DTSTAMP:20260425T190711
CREATED:20260406T043015
LAST-MODIFIED:20260406T043015
UID:10012144-1920175200-1920180600@student.instituteofhealth.com
SUMMARY:Client Health Cases
DESCRIPTION:Zoom link: masterclass.instituteofhealth.com
URL:https://student.instituteofhealth.com/event/client-health-cases-2-2-2-2/2030-11-06/
END:VEVENT
BEGIN:VEVENT
DTSTART;TZID=UTC:20301106T200000
DTEND;TZID=UTC:20301106T213000
DTSTAMP:20260425T190711
CREATED:20260406T043044
LAST-MODIFIED:20260406T043044
UID:10011610-1920225600-1920231000@student.instituteofhealth.com
SUMMARY:Client Health Cases
DESCRIPTION:Zoom link: masterclass.instituteofhealth.com
URL:https://student.instituteofhealth.com/event/client-health-cases-4-2/2030-11-07/
CATEGORIES:health initiative
END:VEVENT
BEGIN:VEVENT
DTSTART;TZID=UTC:20301112T070000
DTEND;TZID=UTC:20301112T083000
DTSTAMP:20260425T190711
CREATED:20260115T025352
LAST-MODIFIED:20260402T034906
UID:10010833-1920697200-1920702600@student.instituteofhealth.com
SUMMARY:Client Health Cases
DESCRIPTION:Zoom link: masterclass.instituteofhealth.com
URL:https://student.instituteofhealth.com/event/client-health-cases-3-2/2030-11-12/
CATEGORIES:health initiative
END:VEVENT
BEGIN:VEVENT
DTSTART;TZID=UTC:20301113T060000
DTEND;TZID=UTC:20301113T073000
DTSTAMP:20260425T190711
CREATED:20260406T043015
LAST-MODIFIED:20260406T043015
UID:10012145-1920780000-1920785400@student.instituteofhealth.com
SUMMARY:Client Health Cases
DESCRIPTION:Zoom link: masterclass.instituteofhealth.com
URL:https://student.instituteofhealth.com/event/client-health-cases-2-2-2-2/2030-11-13/
END:VEVENT
BEGIN:VEVENT
DTSTART;TZID=UTC:20301113T200000
DTEND;TZID=UTC:20301113T213000
DTSTAMP:20260425T190711
CREATED:20260406T043044
LAST-MODIFIED:20260406T043044
UID:10011611-1920830400-1920835800@student.instituteofhealth.com
SUMMARY:Client Health Cases
DESCRIPTION:Zoom link: masterclass.instituteofhealth.com
URL:https://student.instituteofhealth.com/event/client-health-cases-4-2/2030-11-14/
CATEGORIES:health initiative
END:VEVENT
END:VCALENDAR