BEGIN:VCALENDAR
VERSION:2.0
PRODID:-//Institute of Health - ECPv6.3.5//NONSGML v1.0//EN
CALSCALE:GREGORIAN
METHOD:PUBLISH
X-WR-CALNAME:Institute of Health
X-ORIGINAL-URL:https://student.instituteofhealth.com
X-WR-CALDESC:Events for Institute of Health
REFRESH-INTERVAL;VALUE=DURATION:PT1H
X-Robots-Tag:noindex
X-PUBLISHED-TTL:PT1H
BEGIN:VTIMEZONE
TZID:Australia/Brisbane
BEGIN:STANDARD
TZOFFSETFROM:+1000
TZOFFSETTO:+1000
TZNAME:AEST
DTSTART:20291231T140000
END:STANDARD
TZID:Australia/Melbourne
BEGIN:STANDARD
TZOFFSETFROM:+1100
TZOFFSETTO:+1000
TZNAME:AEST
DTSTART:20300406T160000
END:STANDARD
BEGIN:DAYLIGHT
TZOFFSETFROM:+1000
TZOFFSETTO:+1100
TZNAME:AEDT
DTSTART:20301005T160000
END:DAYLIGHT
END:VTIMEZONE
BEGIN:VEVENT
DTSTART;TZID=UTC:20300618T070000
DTEND;TZID=UTC:20300618T083000
DTSTAMP:20260423T153555
CREATED:20260115T025352
LAST-MODIFIED:20260402T034906
UID:10010812-1907996400-1908001800@student.instituteofhealth.com
SUMMARY:Client Health Cases
DESCRIPTION:Zoom link: masterclass.instituteofhealth.com
URL:https://student.instituteofhealth.com/event/client-health-cases-3-2/2030-06-18/
CATEGORIES:health initiative
END:VEVENT
BEGIN:VEVENT
DTSTART;TZID=UTC:20300619T060000
DTEND;TZID=UTC:20300619T073000
DTSTAMP:20260423T153555
CREATED:20260406T043015
LAST-MODIFIED:20260406T043015
UID:10012124-1908079200-1908084600@student.instituteofhealth.com
SUMMARY:Client Health Cases
DESCRIPTION:Zoom link: masterclass.instituteofhealth.com
URL:https://student.instituteofhealth.com/event/client-health-cases-2-2-2-2/2030-06-19/
END:VEVENT
BEGIN:VEVENT
DTSTART;TZID=UTC:20300619T200000
DTEND;TZID=UTC:20300619T213000
DTSTAMP:20260423T153555
CREATED:20260406T043044
LAST-MODIFIED:20260406T043044
UID:10011590-1908129600-1908135000@student.instituteofhealth.com
SUMMARY:Client Health Cases
DESCRIPTION:Zoom link: masterclass.instituteofhealth.com
URL:https://student.instituteofhealth.com/event/client-health-cases-4-2/2030-06-20/
CATEGORIES:health initiative
END:VEVENT
BEGIN:VEVENT
DTSTART;TZID=UTC:20300625T070000
DTEND;TZID=UTC:20300625T083000
DTSTAMP:20260423T153555
CREATED:20260115T025352
LAST-MODIFIED:20260402T034906
UID:10010813-1908601200-1908606600@student.instituteofhealth.com
SUMMARY:Client Health Cases
DESCRIPTION:Zoom link: masterclass.instituteofhealth.com
URL:https://student.instituteofhealth.com/event/client-health-cases-3-2/2030-06-25/
CATEGORIES:health initiative
END:VEVENT
BEGIN:VEVENT
DTSTART;TZID=UTC:20300626T060000
DTEND;TZID=UTC:20300626T073000
DTSTAMP:20260423T153555
CREATED:20260406T043015
LAST-MODIFIED:20260406T043015
UID:10012125-1908684000-1908689400@student.instituteofhealth.com
SUMMARY:Client Health Cases
DESCRIPTION:Zoom link: masterclass.instituteofhealth.com
URL:https://student.instituteofhealth.com/event/client-health-cases-2-2-2-2/2030-06-26/
END:VEVENT
BEGIN:VEVENT
DTSTART;TZID=UTC:20300626T200000
DTEND;TZID=UTC:20300626T213000
DTSTAMP:20260423T153555
CREATED:20260406T043044
LAST-MODIFIED:20260406T043044
UID:10011591-1908734400-1908739800@student.instituteofhealth.com
SUMMARY:Client Health Cases
DESCRIPTION:Zoom link: masterclass.instituteofhealth.com
URL:https://student.instituteofhealth.com/event/client-health-cases-4-2/2030-06-27/
CATEGORIES:health initiative
END:VEVENT
BEGIN:VEVENT
DTSTART;TZID=UTC:20300702T070000
DTEND;TZID=UTC:20300702T083000
DTSTAMP:20260423T153555
CREATED:20260115T025352
LAST-MODIFIED:20260402T034906
UID:10010814-1909206000-1909211400@student.instituteofhealth.com
SUMMARY:Client Health Cases
DESCRIPTION:Zoom link: masterclass.instituteofhealth.com
URL:https://student.instituteofhealth.com/event/client-health-cases-3-2/2030-07-02/
CATEGORIES:health initiative
END:VEVENT
BEGIN:VEVENT
DTSTART;TZID=UTC:20300703T060000
DTEND;TZID=UTC:20300703T073000
DTSTAMP:20260423T153555
CREATED:20260406T043015
LAST-MODIFIED:20260406T043015
UID:10012126-1909288800-1909294200@student.instituteofhealth.com
SUMMARY:Client Health Cases
DESCRIPTION:Zoom link: masterclass.instituteofhealth.com
URL:https://student.instituteofhealth.com/event/client-health-cases-2-2-2-2/2030-07-03/
END:VEVENT
BEGIN:VEVENT
DTSTART;TZID=UTC:20300703T200000
DTEND;TZID=UTC:20300703T213000
DTSTAMP:20260423T153555
CREATED:20260406T043044
LAST-MODIFIED:20260406T043044
UID:10011592-1909339200-1909344600@student.instituteofhealth.com
SUMMARY:Client Health Cases
DESCRIPTION:Zoom link: masterclass.instituteofhealth.com
URL:https://student.instituteofhealth.com/event/client-health-cases-4-2/2030-07-04/
CATEGORIES:health initiative
END:VEVENT
BEGIN:VEVENT
DTSTART;TZID=UTC:20300709T070000
DTEND;TZID=UTC:20300709T083000
DTSTAMP:20260423T153555
CREATED:20260115T025352
LAST-MODIFIED:20260402T034906
UID:10010815-1909810800-1909816200@student.instituteofhealth.com
SUMMARY:Client Health Cases
DESCRIPTION:Zoom link: masterclass.instituteofhealth.com
URL:https://student.instituteofhealth.com/event/client-health-cases-3-2/2030-07-09/
CATEGORIES:health initiative
END:VEVENT
BEGIN:VEVENT
DTSTART;TZID=UTC:20300710T060000
DTEND;TZID=UTC:20300710T073000
DTSTAMP:20260423T153555
CREATED:20260406T043015
LAST-MODIFIED:20260406T043015
UID:10012127-1909893600-1909899000@student.instituteofhealth.com
SUMMARY:Client Health Cases
DESCRIPTION:Zoom link: masterclass.instituteofhealth.com
URL:https://student.instituteofhealth.com/event/client-health-cases-2-2-2-2/2030-07-10/
END:VEVENT
BEGIN:VEVENT
DTSTART;TZID=UTC:20300710T200000
DTEND;TZID=UTC:20300710T213000
DTSTAMP:20260423T153555
CREATED:20260406T043044
LAST-MODIFIED:20260406T043044
UID:10011593-1909944000-1909949400@student.instituteofhealth.com
SUMMARY:Client Health Cases
DESCRIPTION:Zoom link: masterclass.instituteofhealth.com
URL:https://student.instituteofhealth.com/event/client-health-cases-4-2/2030-07-11/
CATEGORIES:health initiative
END:VEVENT
BEGIN:VEVENT
DTSTART;TZID=UTC:20300716T070000
DTEND;TZID=UTC:20300716T083000
DTSTAMP:20260423T153555
CREATED:20260115T025352
LAST-MODIFIED:20260402T034906
UID:10010816-1910415600-1910421000@student.instituteofhealth.com
SUMMARY:Client Health Cases
DESCRIPTION:Zoom link: masterclass.instituteofhealth.com
URL:https://student.instituteofhealth.com/event/client-health-cases-3-2/2030-07-16/
CATEGORIES:health initiative
END:VEVENT
BEGIN:VEVENT
DTSTART;TZID=UTC:20300717T060000
DTEND;TZID=UTC:20300717T073000
DTSTAMP:20260423T153555
CREATED:20260406T043015
LAST-MODIFIED:20260406T043015
UID:10012128-1910498400-1910503800@student.instituteofhealth.com
SUMMARY:Client Health Cases
DESCRIPTION:Zoom link: masterclass.instituteofhealth.com
URL:https://student.instituteofhealth.com/event/client-health-cases-2-2-2-2/2030-07-17/
END:VEVENT
BEGIN:VEVENT
DTSTART;TZID=UTC:20300717T200000
DTEND;TZID=UTC:20300717T213000
DTSTAMP:20260423T153555
CREATED:20260406T043044
LAST-MODIFIED:20260406T043044
UID:10011594-1910548800-1910554200@student.instituteofhealth.com
SUMMARY:Client Health Cases
DESCRIPTION:Zoom link: masterclass.instituteofhealth.com
URL:https://student.instituteofhealth.com/event/client-health-cases-4-2/2030-07-18/
CATEGORIES:health initiative
END:VEVENT
BEGIN:VEVENT
DTSTART;TZID=UTC:20300723T070000
DTEND;TZID=UTC:20300723T083000
DTSTAMP:20260423T153555
CREATED:20260115T025352
LAST-MODIFIED:20260402T034906
UID:10010817-1911020400-1911025800@student.instituteofhealth.com
SUMMARY:Client Health Cases
DESCRIPTION:Zoom link: masterclass.instituteofhealth.com
URL:https://student.instituteofhealth.com/event/client-health-cases-3-2/2030-07-23/
CATEGORIES:health initiative
END:VEVENT
BEGIN:VEVENT
DTSTART;TZID=UTC:20300724T060000
DTEND;TZID=UTC:20300724T073000
DTSTAMP:20260423T153555
CREATED:20260406T043015
LAST-MODIFIED:20260406T043015
UID:10012129-1911103200-1911108600@student.instituteofhealth.com
SUMMARY:Client Health Cases
DESCRIPTION:Zoom link: masterclass.instituteofhealth.com
URL:https://student.instituteofhealth.com/event/client-health-cases-2-2-2-2/2030-07-24/
END:VEVENT
BEGIN:VEVENT
DTSTART;TZID=UTC:20300724T200000
DTEND;TZID=UTC:20300724T213000
DTSTAMP:20260423T153555
CREATED:20260406T043044
LAST-MODIFIED:20260406T043044
UID:10011595-1911153600-1911159000@student.instituteofhealth.com
SUMMARY:Client Health Cases
DESCRIPTION:Zoom link: masterclass.instituteofhealth.com
URL:https://student.instituteofhealth.com/event/client-health-cases-4-2/2030-07-25/
CATEGORIES:health initiative
END:VEVENT
BEGIN:VEVENT
DTSTART;TZID=UTC:20300730T070000
DTEND;TZID=UTC:20300730T083000
DTSTAMP:20260423T153555
CREATED:20260115T025352
LAST-MODIFIED:20260402T034906
UID:10010818-1911625200-1911630600@student.instituteofhealth.com
SUMMARY:Client Health Cases
DESCRIPTION:Zoom link: masterclass.instituteofhealth.com
URL:https://student.instituteofhealth.com/event/client-health-cases-3-2/2030-07-30/
CATEGORIES:health initiative
END:VEVENT
BEGIN:VEVENT
DTSTART;TZID=UTC:20300731T060000
DTEND;TZID=UTC:20300731T073000
DTSTAMP:20260423T153555
CREATED:20260406T043015
LAST-MODIFIED:20260406T043015
UID:10012130-1911708000-1911713400@student.instituteofhealth.com
SUMMARY:Client Health Cases
DESCRIPTION:Zoom link: masterclass.instituteofhealth.com
URL:https://student.instituteofhealth.com/event/client-health-cases-2-2-2-2/2030-07-31/
END:VEVENT
BEGIN:VEVENT
DTSTART;TZID=UTC:20300731T200000
DTEND;TZID=UTC:20300731T213000
DTSTAMP:20260423T153555
CREATED:20260406T043044
LAST-MODIFIED:20260406T043044
UID:10011596-1911758400-1911763800@student.instituteofhealth.com
SUMMARY:Client Health Cases
DESCRIPTION:Zoom link: masterclass.instituteofhealth.com
URL:https://student.instituteofhealth.com/event/client-health-cases-4-2/2030-08-01/
CATEGORIES:health initiative
END:VEVENT
BEGIN:VEVENT
DTSTART;TZID=UTC:20300806T070000
DTEND;TZID=UTC:20300806T083000
DTSTAMP:20260423T153555
CREATED:20260115T025352
LAST-MODIFIED:20260402T034906
UID:10010819-1912230000-1912235400@student.instituteofhealth.com
SUMMARY:Client Health Cases
DESCRIPTION:Zoom link: masterclass.instituteofhealth.com
URL:https://student.instituteofhealth.com/event/client-health-cases-3-2/2030-08-06/
CATEGORIES:health initiative
END:VEVENT
BEGIN:VEVENT
DTSTART;TZID=UTC:20300807T060000
DTEND;TZID=UTC:20300807T073000
DTSTAMP:20260423T153555
CREATED:20260406T043015
LAST-MODIFIED:20260406T043015
UID:10012131-1912312800-1912318200@student.instituteofhealth.com
SUMMARY:Client Health Cases
DESCRIPTION:Zoom link: masterclass.instituteofhealth.com
URL:https://student.instituteofhealth.com/event/client-health-cases-2-2-2-2/2030-08-07/
END:VEVENT
BEGIN:VEVENT
DTSTART;TZID=UTC:20300807T200000
DTEND;TZID=UTC:20300807T213000
DTSTAMP:20260423T153555
CREATED:20260406T043044
LAST-MODIFIED:20260406T043044
UID:10011597-1912363200-1912368600@student.instituteofhealth.com
SUMMARY:Client Health Cases
DESCRIPTION:Zoom link: masterclass.instituteofhealth.com
URL:https://student.instituteofhealth.com/event/client-health-cases-4-2/2030-08-08/
CATEGORIES:health initiative
END:VEVENT
BEGIN:VEVENT
DTSTART;TZID=UTC:20300813T070000
DTEND;TZID=UTC:20300813T083000
DTSTAMP:20260423T153555
CREATED:20260115T025352
LAST-MODIFIED:20260402T034906
UID:10010820-1912834800-1912840200@student.instituteofhealth.com
SUMMARY:Client Health Cases
DESCRIPTION:Zoom link: masterclass.instituteofhealth.com
URL:https://student.instituteofhealth.com/event/client-health-cases-3-2/2030-08-13/
CATEGORIES:health initiative
END:VEVENT
BEGIN:VEVENT
DTSTART;TZID=UTC:20300814T060000
DTEND;TZID=UTC:20300814T073000
DTSTAMP:20260423T153555
CREATED:20260406T043015
LAST-MODIFIED:20260406T043015
UID:10012132-1912917600-1912923000@student.instituteofhealth.com
SUMMARY:Client Health Cases
DESCRIPTION:Zoom link: masterclass.instituteofhealth.com
URL:https://student.instituteofhealth.com/event/client-health-cases-2-2-2-2/2030-08-14/
END:VEVENT
BEGIN:VEVENT
DTSTART;TZID=UTC:20300814T200000
DTEND;TZID=UTC:20300814T213000
DTSTAMP:20260423T153555
CREATED:20260406T043044
LAST-MODIFIED:20260406T043044
UID:10011598-1912968000-1912973400@student.instituteofhealth.com
SUMMARY:Client Health Cases
DESCRIPTION:Zoom link: masterclass.instituteofhealth.com
URL:https://student.instituteofhealth.com/event/client-health-cases-4-2/2030-08-15/
CATEGORIES:health initiative
END:VEVENT
BEGIN:VEVENT
DTSTART;TZID=UTC:20300820T070000
DTEND;TZID=UTC:20300820T083000
DTSTAMP:20260423T153555
CREATED:20260115T025352
LAST-MODIFIED:20260402T034906
UID:10010821-1913439600-1913445000@student.instituteofhealth.com
SUMMARY:Client Health Cases
DESCRIPTION:Zoom link: masterclass.instituteofhealth.com
URL:https://student.instituteofhealth.com/event/client-health-cases-3-2/2030-08-20/
CATEGORIES:health initiative
END:VEVENT
BEGIN:VEVENT
DTSTART;TZID=UTC:20300821T060000
DTEND;TZID=UTC:20300821T073000
DTSTAMP:20260423T153555
CREATED:20260406T043015
LAST-MODIFIED:20260406T043015
UID:10012133-1913522400-1913527800@student.instituteofhealth.com
SUMMARY:Client Health Cases
DESCRIPTION:Zoom link: masterclass.instituteofhealth.com
URL:https://student.instituteofhealth.com/event/client-health-cases-2-2-2-2/2030-08-21/
END:VEVENT
BEGIN:VEVENT
DTSTART;TZID=UTC:20300821T200000
DTEND;TZID=UTC:20300821T213000
DTSTAMP:20260423T153555
CREATED:20260406T043044
LAST-MODIFIED:20260406T043044
UID:10011599-1913572800-1913578200@student.instituteofhealth.com
SUMMARY:Client Health Cases
DESCRIPTION:Zoom link: masterclass.instituteofhealth.com
URL:https://student.instituteofhealth.com/event/client-health-cases-4-2/2030-08-22/
CATEGORIES:health initiative
END:VEVENT
END:VCALENDAR