BEGIN:VCALENDAR
VERSION:2.0
PRODID:-//Institute of Health - ECPv6.3.5//NONSGML v1.0//EN
CALSCALE:GREGORIAN
METHOD:PUBLISH
X-WR-CALNAME:Institute of Health
X-ORIGINAL-URL:https://student.instituteofhealth.com
X-WR-CALDESC:Events for Institute of Health
REFRESH-INTERVAL;VALUE=DURATION:PT1H
X-Robots-Tag:noindex
X-PUBLISHED-TTL:PT1H
BEGIN:VTIMEZONE
TZID:Australia/Brisbane
BEGIN:STANDARD
TZOFFSETFROM:+1000
TZOFFSETTO:+1000
TZNAME:AEST
DTSTART:20291231T140000
END:STANDARD
TZID:Australia/Melbourne
BEGIN:STANDARD
TZOFFSETFROM:+1100
TZOFFSETTO:+1000
TZNAME:AEST
DTSTART:20300406T160000
END:STANDARD
BEGIN:DAYLIGHT
TZOFFSETFROM:+1000
TZOFFSETTO:+1100
TZNAME:AEDT
DTSTART:20301005T160000
END:DAYLIGHT
END:VTIMEZONE
BEGIN:VEVENT
DTSTART;TZID=UTC:20300326T070000
DTEND;TZID=UTC:20300326T083000
DTSTAMP:20260423T111752
CREATED:20260115T025352
LAST-MODIFIED:20260402T034906
UID:10010800-1900738800-1900744200@student.instituteofhealth.com
SUMMARY:Client Health Cases
DESCRIPTION:Zoom link: masterclass.instituteofhealth.com
URL:https://student.instituteofhealth.com/event/client-health-cases-3-2/2030-03-26/
CATEGORIES:health initiative
END:VEVENT
BEGIN:VEVENT
DTSTART;TZID=UTC:20300327T060000
DTEND;TZID=UTC:20300327T073000
DTSTAMP:20260423T111752
CREATED:20260406T043015
LAST-MODIFIED:20260406T043015
UID:10012112-1900821600-1900827000@student.instituteofhealth.com
SUMMARY:Client Health Cases
DESCRIPTION:Zoom link: masterclass.instituteofhealth.com
URL:https://student.instituteofhealth.com/event/client-health-cases-2-2-2-2/2030-03-27/
END:VEVENT
BEGIN:VEVENT
DTSTART;TZID=UTC:20300327T200000
DTEND;TZID=UTC:20300327T213000
DTSTAMP:20260423T111752
CREATED:20260406T043044
LAST-MODIFIED:20260406T043044
UID:10011578-1900872000-1900877400@student.instituteofhealth.com
SUMMARY:Client Health Cases
DESCRIPTION:Zoom link: masterclass.instituteofhealth.com
URL:https://student.instituteofhealth.com/event/client-health-cases-4-2/2030-03-28/
CATEGORIES:health initiative
END:VEVENT
BEGIN:VEVENT
DTSTART;TZID=UTC:20300402T070000
DTEND;TZID=UTC:20300402T083000
DTSTAMP:20260423T111752
CREATED:20260115T025352
LAST-MODIFIED:20260402T034906
UID:10010801-1901343600-1901349000@student.instituteofhealth.com
SUMMARY:Client Health Cases
DESCRIPTION:Zoom link: masterclass.instituteofhealth.com
URL:https://student.instituteofhealth.com/event/client-health-cases-3-2/2030-04-02/
CATEGORIES:health initiative
END:VEVENT
BEGIN:VEVENT
DTSTART;TZID=UTC:20300403T060000
DTEND;TZID=UTC:20300403T073000
DTSTAMP:20260423T111752
CREATED:20260406T043015
LAST-MODIFIED:20260406T043015
UID:10012113-1901426400-1901431800@student.instituteofhealth.com
SUMMARY:Client Health Cases
DESCRIPTION:Zoom link: masterclass.instituteofhealth.com
URL:https://student.instituteofhealth.com/event/client-health-cases-2-2-2-2/2030-04-03/
END:VEVENT
BEGIN:VEVENT
DTSTART;TZID=UTC:20300403T200000
DTEND;TZID=UTC:20300403T213000
DTSTAMP:20260423T111752
CREATED:20260406T043044
LAST-MODIFIED:20260406T043044
UID:10011579-1901476800-1901482200@student.instituteofhealth.com
SUMMARY:Client Health Cases
DESCRIPTION:Zoom link: masterclass.instituteofhealth.com
URL:https://student.instituteofhealth.com/event/client-health-cases-4-2/2030-04-04/
CATEGORIES:health initiative
END:VEVENT
BEGIN:VEVENT
DTSTART;TZID=UTC:20300409T070000
DTEND;TZID=UTC:20300409T083000
DTSTAMP:20260423T111752
CREATED:20260115T025352
LAST-MODIFIED:20260402T034906
UID:10010802-1901948400-1901953800@student.instituteofhealth.com
SUMMARY:Client Health Cases
DESCRIPTION:Zoom link: masterclass.instituteofhealth.com
URL:https://student.instituteofhealth.com/event/client-health-cases-3-2/2030-04-09/
CATEGORIES:health initiative
END:VEVENT
BEGIN:VEVENT
DTSTART;TZID=UTC:20300410T060000
DTEND;TZID=UTC:20300410T073000
DTSTAMP:20260423T111752
CREATED:20260406T043015
LAST-MODIFIED:20260406T043015
UID:10012114-1902031200-1902036600@student.instituteofhealth.com
SUMMARY:Client Health Cases
DESCRIPTION:Zoom link: masterclass.instituteofhealth.com
URL:https://student.instituteofhealth.com/event/client-health-cases-2-2-2-2/2030-04-10/
END:VEVENT
BEGIN:VEVENT
DTSTART;TZID=UTC:20300410T200000
DTEND;TZID=UTC:20300410T213000
DTSTAMP:20260423T111752
CREATED:20260406T043044
LAST-MODIFIED:20260406T043044
UID:10011580-1902081600-1902087000@student.instituteofhealth.com
SUMMARY:Client Health Cases
DESCRIPTION:Zoom link: masterclass.instituteofhealth.com
URL:https://student.instituteofhealth.com/event/client-health-cases-4-2/2030-04-11/
CATEGORIES:health initiative
END:VEVENT
BEGIN:VEVENT
DTSTART;TZID=UTC:20300416T070000
DTEND;TZID=UTC:20300416T083000
DTSTAMP:20260423T111752
CREATED:20260115T025352
LAST-MODIFIED:20260402T034906
UID:10010803-1902553200-1902558600@student.instituteofhealth.com
SUMMARY:Client Health Cases
DESCRIPTION:Zoom link: masterclass.instituteofhealth.com
URL:https://student.instituteofhealth.com/event/client-health-cases-3-2/2030-04-16/
CATEGORIES:health initiative
END:VEVENT
BEGIN:VEVENT
DTSTART;TZID=UTC:20300417T060000
DTEND;TZID=UTC:20300417T073000
DTSTAMP:20260423T111752
CREATED:20260406T043015
LAST-MODIFIED:20260406T043015
UID:10012115-1902636000-1902641400@student.instituteofhealth.com
SUMMARY:Client Health Cases
DESCRIPTION:Zoom link: masterclass.instituteofhealth.com
URL:https://student.instituteofhealth.com/event/client-health-cases-2-2-2-2/2030-04-17/
END:VEVENT
BEGIN:VEVENT
DTSTART;TZID=UTC:20300417T200000
DTEND;TZID=UTC:20300417T213000
DTSTAMP:20260423T111752
CREATED:20260406T043044
LAST-MODIFIED:20260406T043044
UID:10011581-1902686400-1902691800@student.instituteofhealth.com
SUMMARY:Client Health Cases
DESCRIPTION:Zoom link: masterclass.instituteofhealth.com
URL:https://student.instituteofhealth.com/event/client-health-cases-4-2/2030-04-18/
CATEGORIES:health initiative
END:VEVENT
BEGIN:VEVENT
DTSTART;TZID=UTC:20300423T070000
DTEND;TZID=UTC:20300423T083000
DTSTAMP:20260423T111752
CREATED:20260115T025352
LAST-MODIFIED:20260402T034906
UID:10010804-1903158000-1903163400@student.instituteofhealth.com
SUMMARY:Client Health Cases
DESCRIPTION:Zoom link: masterclass.instituteofhealth.com
URL:https://student.instituteofhealth.com/event/client-health-cases-3-2/2030-04-23/
CATEGORIES:health initiative
END:VEVENT
BEGIN:VEVENT
DTSTART;TZID=UTC:20300424T060000
DTEND;TZID=UTC:20300424T073000
DTSTAMP:20260423T111752
CREATED:20260406T043015
LAST-MODIFIED:20260406T043015
UID:10012116-1903240800-1903246200@student.instituteofhealth.com
SUMMARY:Client Health Cases
DESCRIPTION:Zoom link: masterclass.instituteofhealth.com
URL:https://student.instituteofhealth.com/event/client-health-cases-2-2-2-2/2030-04-24/
END:VEVENT
BEGIN:VEVENT
DTSTART;TZID=UTC:20300424T200000
DTEND;TZID=UTC:20300424T213000
DTSTAMP:20260423T111752
CREATED:20260406T043044
LAST-MODIFIED:20260406T043044
UID:10011582-1903291200-1903296600@student.instituteofhealth.com
SUMMARY:Client Health Cases
DESCRIPTION:Zoom link: masterclass.instituteofhealth.com
URL:https://student.instituteofhealth.com/event/client-health-cases-4-2/2030-04-25/
CATEGORIES:health initiative
END:VEVENT
BEGIN:VEVENT
DTSTART;TZID=UTC:20300430T070000
DTEND;TZID=UTC:20300430T083000
DTSTAMP:20260423T111752
CREATED:20260115T025352
LAST-MODIFIED:20260402T034906
UID:10010805-1903762800-1903768200@student.instituteofhealth.com
SUMMARY:Client Health Cases
DESCRIPTION:Zoom link: masterclass.instituteofhealth.com
URL:https://student.instituteofhealth.com/event/client-health-cases-3-2/2030-04-30/
CATEGORIES:health initiative
END:VEVENT
BEGIN:VEVENT
DTSTART;TZID=UTC:20300501T060000
DTEND;TZID=UTC:20300501T073000
DTSTAMP:20260423T111752
CREATED:20260406T043015
LAST-MODIFIED:20260406T043015
UID:10012117-1903845600-1903851000@student.instituteofhealth.com
SUMMARY:Client Health Cases
DESCRIPTION:Zoom link: masterclass.instituteofhealth.com
URL:https://student.instituteofhealth.com/event/client-health-cases-2-2-2-2/2030-05-01/
END:VEVENT
BEGIN:VEVENT
DTSTART;TZID=UTC:20300501T200000
DTEND;TZID=UTC:20300501T213000
DTSTAMP:20260423T111752
CREATED:20260406T043044
LAST-MODIFIED:20260406T043044
UID:10011583-1903896000-1903901400@student.instituteofhealth.com
SUMMARY:Client Health Cases
DESCRIPTION:Zoom link: masterclass.instituteofhealth.com
URL:https://student.instituteofhealth.com/event/client-health-cases-4-2/2030-05-02/
CATEGORIES:health initiative
END:VEVENT
BEGIN:VEVENT
DTSTART;TZID=UTC:20300507T070000
DTEND;TZID=UTC:20300507T083000
DTSTAMP:20260423T111752
CREATED:20260115T025352
LAST-MODIFIED:20260402T034906
UID:10010806-1904367600-1904373000@student.instituteofhealth.com
SUMMARY:Client Health Cases
DESCRIPTION:Zoom link: masterclass.instituteofhealth.com
URL:https://student.instituteofhealth.com/event/client-health-cases-3-2/2030-05-07/
CATEGORIES:health initiative
END:VEVENT
BEGIN:VEVENT
DTSTART;TZID=UTC:20300508T060000
DTEND;TZID=UTC:20300508T073000
DTSTAMP:20260423T111752
CREATED:20260406T043015
LAST-MODIFIED:20260406T043015
UID:10012118-1904450400-1904455800@student.instituteofhealth.com
SUMMARY:Client Health Cases
DESCRIPTION:Zoom link: masterclass.instituteofhealth.com
URL:https://student.instituteofhealth.com/event/client-health-cases-2-2-2-2/2030-05-08/
END:VEVENT
BEGIN:VEVENT
DTSTART;TZID=UTC:20300508T200000
DTEND;TZID=UTC:20300508T213000
DTSTAMP:20260423T111752
CREATED:20260406T043044
LAST-MODIFIED:20260406T043044
UID:10011584-1904500800-1904506200@student.instituteofhealth.com
SUMMARY:Client Health Cases
DESCRIPTION:Zoom link: masterclass.instituteofhealth.com
URL:https://student.instituteofhealth.com/event/client-health-cases-4-2/2030-05-09/
CATEGORIES:health initiative
END:VEVENT
BEGIN:VEVENT
DTSTART;TZID=UTC:20300514T070000
DTEND;TZID=UTC:20300514T083000
DTSTAMP:20260423T111752
CREATED:20260115T025352
LAST-MODIFIED:20260402T034906
UID:10010807-1904972400-1904977800@student.instituteofhealth.com
SUMMARY:Client Health Cases
DESCRIPTION:Zoom link: masterclass.instituteofhealth.com
URL:https://student.instituteofhealth.com/event/client-health-cases-3-2/2030-05-14/
CATEGORIES:health initiative
END:VEVENT
BEGIN:VEVENT
DTSTART;TZID=UTC:20300515T060000
DTEND;TZID=UTC:20300515T073000
DTSTAMP:20260423T111752
CREATED:20260406T043015
LAST-MODIFIED:20260406T043015
UID:10012119-1905055200-1905060600@student.instituteofhealth.com
SUMMARY:Client Health Cases
DESCRIPTION:Zoom link: masterclass.instituteofhealth.com
URL:https://student.instituteofhealth.com/event/client-health-cases-2-2-2-2/2030-05-15/
END:VEVENT
BEGIN:VEVENT
DTSTART;TZID=UTC:20300515T200000
DTEND;TZID=UTC:20300515T213000
DTSTAMP:20260423T111752
CREATED:20260406T043044
LAST-MODIFIED:20260406T043044
UID:10011585-1905105600-1905111000@student.instituteofhealth.com
SUMMARY:Client Health Cases
DESCRIPTION:Zoom link: masterclass.instituteofhealth.com
URL:https://student.instituteofhealth.com/event/client-health-cases-4-2/2030-05-16/
CATEGORIES:health initiative
END:VEVENT
BEGIN:VEVENT
DTSTART;TZID=UTC:20300521T070000
DTEND;TZID=UTC:20300521T083000
DTSTAMP:20260423T111752
CREATED:20260115T025352
LAST-MODIFIED:20260402T034906
UID:10010808-1905577200-1905582600@student.instituteofhealth.com
SUMMARY:Client Health Cases
DESCRIPTION:Zoom link: masterclass.instituteofhealth.com
URL:https://student.instituteofhealth.com/event/client-health-cases-3-2/2030-05-21/
CATEGORIES:health initiative
END:VEVENT
BEGIN:VEVENT
DTSTART;TZID=UTC:20300522T060000
DTEND;TZID=UTC:20300522T073000
DTSTAMP:20260423T111752
CREATED:20260406T043015
LAST-MODIFIED:20260406T043015
UID:10012120-1905660000-1905665400@student.instituteofhealth.com
SUMMARY:Client Health Cases
DESCRIPTION:Zoom link: masterclass.instituteofhealth.com
URL:https://student.instituteofhealth.com/event/client-health-cases-2-2-2-2/2030-05-22/
END:VEVENT
BEGIN:VEVENT
DTSTART;TZID=UTC:20300522T200000
DTEND;TZID=UTC:20300522T213000
DTSTAMP:20260423T111752
CREATED:20260406T043044
LAST-MODIFIED:20260406T043044
UID:10011586-1905710400-1905715800@student.instituteofhealth.com
SUMMARY:Client Health Cases
DESCRIPTION:Zoom link: masterclass.instituteofhealth.com
URL:https://student.instituteofhealth.com/event/client-health-cases-4-2/2030-05-23/
CATEGORIES:health initiative
END:VEVENT
BEGIN:VEVENT
DTSTART;TZID=UTC:20300528T070000
DTEND;TZID=UTC:20300528T083000
DTSTAMP:20260423T111752
CREATED:20260115T025352
LAST-MODIFIED:20260402T034906
UID:10010809-1906182000-1906187400@student.instituteofhealth.com
SUMMARY:Client Health Cases
DESCRIPTION:Zoom link: masterclass.instituteofhealth.com
URL:https://student.instituteofhealth.com/event/client-health-cases-3-2/2030-05-28/
CATEGORIES:health initiative
END:VEVENT
BEGIN:VEVENT
DTSTART;TZID=UTC:20300529T060000
DTEND;TZID=UTC:20300529T073000
DTSTAMP:20260423T111752
CREATED:20260406T043015
LAST-MODIFIED:20260406T043015
UID:10012121-1906264800-1906270200@student.instituteofhealth.com
SUMMARY:Client Health Cases
DESCRIPTION:Zoom link: masterclass.instituteofhealth.com
URL:https://student.instituteofhealth.com/event/client-health-cases-2-2-2-2/2030-05-29/
END:VEVENT
BEGIN:VEVENT
DTSTART;TZID=UTC:20300529T200000
DTEND;TZID=UTC:20300529T213000
DTSTAMP:20260423T111752
CREATED:20260406T043044
LAST-MODIFIED:20260406T043044
UID:10011587-1906315200-1906320600@student.instituteofhealth.com
SUMMARY:Client Health Cases
DESCRIPTION:Zoom link: masterclass.instituteofhealth.com
URL:https://student.instituteofhealth.com/event/client-health-cases-4-2/2030-05-30/
CATEGORIES:health initiative
END:VEVENT
END:VCALENDAR