BEGIN:VCALENDAR
VERSION:2.0
PRODID:-//Institute of Health - ECPv6.3.5//NONSGML v1.0//EN
CALSCALE:GREGORIAN
METHOD:PUBLISH
X-ORIGINAL-URL:https://student.instituteofhealth.com
X-WR-CALDESC:Events for Institute of Health
REFRESH-INTERVAL;VALUE=DURATION:PT1H
X-Robots-Tag:noindex
X-PUBLISHED-TTL:PT1H
BEGIN:VTIMEZONE
TZID:Australia/Brisbane
BEGIN:STANDARD
TZOFFSETFROM:+1000
TZOFFSETTO:+1000
TZNAME:AEST
DTSTART:20291231T140000
END:STANDARD
TZID:Australia/Melbourne
BEGIN:STANDARD
TZOFFSETFROM:+1100
TZOFFSETTO:+1000
TZNAME:AEST
DTSTART:20300406T160000
END:STANDARD
BEGIN:DAYLIGHT
TZOFFSETFROM:+1000
TZOFFSETTO:+1100
TZNAME:AEDT
DTSTART:20301005T160000
END:DAYLIGHT
END:VTIMEZONE
BEGIN:VEVENT
DTSTART;TZID=UTC:20300129T070000
DTEND;TZID=UTC:20300129T083000
DTSTAMP:20260423T075611
CREATED:20260115T025352
LAST-MODIFIED:20260402T034906
UID:10010792-1895900400-1895905800@student.instituteofhealth.com
SUMMARY:Client Health Cases
DESCRIPTION:Zoom link: masterclass.instituteofhealth.com
URL:https://student.instituteofhealth.com/event/client-health-cases-3-2/2030-01-29/
CATEGORIES:health initiative
END:VEVENT
BEGIN:VEVENT
DTSTART;TZID=UTC:20300130T060000
DTEND;TZID=UTC:20300130T073000
DTSTAMP:20260423T075611
CREATED:20260406T043015
LAST-MODIFIED:20260406T043015
UID:10012104-1895983200-1895988600@student.instituteofhealth.com
SUMMARY:Client Health Cases
DESCRIPTION:Zoom link: masterclass.instituteofhealth.com
URL:https://student.instituteofhealth.com/event/client-health-cases-2-2-2-2/2030-01-30/
END:VEVENT
BEGIN:VEVENT
DTSTART;TZID=UTC:20300130T200000
DTEND;TZID=UTC:20300130T213000
DTSTAMP:20260423T075611
CREATED:20260406T043044
LAST-MODIFIED:20260406T043044
UID:10011570-1896033600-1896039000@student.instituteofhealth.com
SUMMARY:Client Health Cases
DESCRIPTION:Zoom link: masterclass.instituteofhealth.com
URL:https://student.instituteofhealth.com/event/client-health-cases-4-2/2030-01-31/
CATEGORIES:health initiative
END:VEVENT
BEGIN:VEVENT
DTSTART;TZID=UTC:20300205T070000
DTEND;TZID=UTC:20300205T083000
DTSTAMP:20260423T075611
CREATED:20260115T025352
LAST-MODIFIED:20260402T034906
UID:10010793-1896505200-1896510600@student.instituteofhealth.com
SUMMARY:Client Health Cases
DESCRIPTION:Zoom link: masterclass.instituteofhealth.com
URL:https://student.instituteofhealth.com/event/client-health-cases-3-2/2030-02-05/
CATEGORIES:health initiative
END:VEVENT
BEGIN:VEVENT
DTSTART;TZID=UTC:20300206T060000
DTEND;TZID=UTC:20300206T073000
DTSTAMP:20260423T075611
CREATED:20260406T043015
LAST-MODIFIED:20260406T043015
UID:10012105-1896588000-1896593400@student.instituteofhealth.com
SUMMARY:Client Health Cases
DESCRIPTION:Zoom link: masterclass.instituteofhealth.com
URL:https://student.instituteofhealth.com/event/client-health-cases-2-2-2-2/2030-02-06/
END:VEVENT
BEGIN:VEVENT
DTSTART;TZID=UTC:20300206T200000
DTEND;TZID=UTC:20300206T213000
DTSTAMP:20260423T075611
CREATED:20260406T043044
LAST-MODIFIED:20260406T043044
UID:10011571-1896638400-1896643800@student.instituteofhealth.com
SUMMARY:Client Health Cases
DESCRIPTION:Zoom link: masterclass.instituteofhealth.com
URL:https://student.instituteofhealth.com/event/client-health-cases-4-2/2030-02-07/
CATEGORIES:health initiative
END:VEVENT
BEGIN:VEVENT
DTSTART;TZID=UTC:20300212T070000
DTEND;TZID=UTC:20300212T083000
DTSTAMP:20260423T075611
CREATED:20260115T025352
LAST-MODIFIED:20260402T034906
UID:10010794-1897110000-1897115400@student.instituteofhealth.com
SUMMARY:Client Health Cases
DESCRIPTION:Zoom link: masterclass.instituteofhealth.com
URL:https://student.instituteofhealth.com/event/client-health-cases-3-2/2030-02-12/
CATEGORIES:health initiative
END:VEVENT
BEGIN:VEVENT
DTSTART;TZID=UTC:20300213T060000
DTEND;TZID=UTC:20300213T073000
DTSTAMP:20260423T075611
CREATED:20260406T043015
LAST-MODIFIED:20260406T043015
UID:10012106-1897192800-1897198200@student.instituteofhealth.com
SUMMARY:Client Health Cases
DESCRIPTION:Zoom link: masterclass.instituteofhealth.com
URL:https://student.instituteofhealth.com/event/client-health-cases-2-2-2-2/2030-02-13/
END:VEVENT
BEGIN:VEVENT
DTSTART;TZID=UTC:20300213T200000
DTEND;TZID=UTC:20300213T213000
DTSTAMP:20260423T075611
CREATED:20260406T043044
LAST-MODIFIED:20260406T043044
UID:10011572-1897243200-1897248600@student.instituteofhealth.com
SUMMARY:Client Health Cases
DESCRIPTION:Zoom link: masterclass.instituteofhealth.com
URL:https://student.instituteofhealth.com/event/client-health-cases-4-2/2030-02-14/
CATEGORIES:health initiative
END:VEVENT
BEGIN:VEVENT
DTSTART;TZID=UTC:20300219T070000
DTEND;TZID=UTC:20300219T083000
DTSTAMP:20260423T075611
CREATED:20260115T025352
LAST-MODIFIED:20260402T034906
UID:10010795-1897714800-1897720200@student.instituteofhealth.com
SUMMARY:Client Health Cases
DESCRIPTION:Zoom link: masterclass.instituteofhealth.com
URL:https://student.instituteofhealth.com/event/client-health-cases-3-2/2030-02-19/
CATEGORIES:health initiative
END:VEVENT
BEGIN:VEVENT
DTSTART;TZID=UTC:20300220T060000
DTEND;TZID=UTC:20300220T073000
DTSTAMP:20260423T075611
CREATED:20260406T043015
LAST-MODIFIED:20260406T043015
UID:10012107-1897797600-1897803000@student.instituteofhealth.com
SUMMARY:Client Health Cases
DESCRIPTION:Zoom link: masterclass.instituteofhealth.com
URL:https://student.instituteofhealth.com/event/client-health-cases-2-2-2-2/2030-02-20/
END:VEVENT
BEGIN:VEVENT
DTSTART;TZID=UTC:20300220T200000
DTEND;TZID=UTC:20300220T213000
DTSTAMP:20260423T075611
CREATED:20260406T043044
LAST-MODIFIED:20260406T043044
UID:10011573-1897848000-1897853400@student.instituteofhealth.com
SUMMARY:Client Health Cases
DESCRIPTION:Zoom link: masterclass.instituteofhealth.com
URL:https://student.instituteofhealth.com/event/client-health-cases-4-2/2030-02-21/
CATEGORIES:health initiative
END:VEVENT
BEGIN:VEVENT
DTSTART;TZID=UTC:20300226T070000
DTEND;TZID=UTC:20300226T083000
DTSTAMP:20260423T075611
CREATED:20260115T025352
LAST-MODIFIED:20260402T034906
UID:10010796-1898319600-1898325000@student.instituteofhealth.com
SUMMARY:Client Health Cases
DESCRIPTION:Zoom link: masterclass.instituteofhealth.com
URL:https://student.instituteofhealth.com/event/client-health-cases-3-2/2030-02-26/
CATEGORIES:health initiative
END:VEVENT
BEGIN:VEVENT
DTSTART;TZID=UTC:20300227T060000
DTEND;TZID=UTC:20300227T073000
DTSTAMP:20260423T075611
CREATED:20260406T043015
LAST-MODIFIED:20260406T043015
UID:10012108-1898402400-1898407800@student.instituteofhealth.com
SUMMARY:Client Health Cases
DESCRIPTION:Zoom link: masterclass.instituteofhealth.com
URL:https://student.instituteofhealth.com/event/client-health-cases-2-2-2-2/2030-02-27/
END:VEVENT
BEGIN:VEVENT
DTSTART;TZID=UTC:20300227T200000
DTEND;TZID=UTC:20300227T213000
DTSTAMP:20260423T075611
CREATED:20260406T043044
LAST-MODIFIED:20260406T043044
UID:10011574-1898452800-1898458200@student.instituteofhealth.com
SUMMARY:Client Health Cases
DESCRIPTION:Zoom link: masterclass.instituteofhealth.com
URL:https://student.instituteofhealth.com/event/client-health-cases-4-2/2030-02-28/
CATEGORIES:health initiative
END:VEVENT
BEGIN:VEVENT
DTSTART;TZID=UTC:20300305T070000
DTEND;TZID=UTC:20300305T083000
DTSTAMP:20260423T075611
CREATED:20260115T025352
LAST-MODIFIED:20260402T034906
UID:10010797-1898924400-1898929800@student.instituteofhealth.com
SUMMARY:Client Health Cases
DESCRIPTION:Zoom link: masterclass.instituteofhealth.com
URL:https://student.instituteofhealth.com/event/client-health-cases-3-2/2030-03-05/
CATEGORIES:health initiative
END:VEVENT
BEGIN:VEVENT
DTSTART;TZID=UTC:20300306T060000
DTEND;TZID=UTC:20300306T073000
DTSTAMP:20260423T075611
CREATED:20260406T043015
LAST-MODIFIED:20260406T043015
UID:10012109-1899007200-1899012600@student.instituteofhealth.com
SUMMARY:Client Health Cases
DESCRIPTION:Zoom link: masterclass.instituteofhealth.com
URL:https://student.instituteofhealth.com/event/client-health-cases-2-2-2-2/2030-03-06/
END:VEVENT
BEGIN:VEVENT
DTSTART;TZID=UTC:20300306T200000
DTEND;TZID=UTC:20300306T213000
DTSTAMP:20260423T075611
CREATED:20260406T043044
LAST-MODIFIED:20260406T043044
UID:10011575-1899057600-1899063000@student.instituteofhealth.com
SUMMARY:Client Health Cases
DESCRIPTION:Zoom link: masterclass.instituteofhealth.com
URL:https://student.instituteofhealth.com/event/client-health-cases-4-2/2030-03-07/
CATEGORIES:health initiative
END:VEVENT
BEGIN:VEVENT
DTSTART;TZID=UTC:20300312T070000
DTEND;TZID=UTC:20300312T083000
DTSTAMP:20260423T075611
CREATED:20260115T025352
LAST-MODIFIED:20260402T034906
UID:10010798-1899529200-1899534600@student.instituteofhealth.com
SUMMARY:Client Health Cases
DESCRIPTION:Zoom link: masterclass.instituteofhealth.com
URL:https://student.instituteofhealth.com/event/client-health-cases-3-2/2030-03-12/
CATEGORIES:health initiative
END:VEVENT
BEGIN:VEVENT
DTSTART;TZID=UTC:20300313T060000
DTEND;TZID=UTC:20300313T073000
DTSTAMP:20260423T075611
CREATED:20260406T043015
LAST-MODIFIED:20260406T043015
UID:10012110-1899612000-1899617400@student.instituteofhealth.com
SUMMARY:Client Health Cases
DESCRIPTION:Zoom link: masterclass.instituteofhealth.com
URL:https://student.instituteofhealth.com/event/client-health-cases-2-2-2-2/2030-03-13/
END:VEVENT
BEGIN:VEVENT
DTSTART;TZID=UTC:20300313T200000
DTEND;TZID=UTC:20300313T213000
DTSTAMP:20260423T075611
CREATED:20260406T043044
LAST-MODIFIED:20260406T043044
UID:10011576-1899662400-1899667800@student.instituteofhealth.com
SUMMARY:Client Health Cases
DESCRIPTION:Zoom link: masterclass.instituteofhealth.com
URL:https://student.instituteofhealth.com/event/client-health-cases-4-2/2030-03-14/
CATEGORIES:health initiative
END:VEVENT
BEGIN:VEVENT
DTSTART;TZID=UTC:20300319T070000
DTEND;TZID=UTC:20300319T083000
DTSTAMP:20260423T075611
CREATED:20260115T025352
LAST-MODIFIED:20260402T034906
UID:10010799-1900134000-1900139400@student.instituteofhealth.com
SUMMARY:Client Health Cases
DESCRIPTION:Zoom link: masterclass.instituteofhealth.com
URL:https://student.instituteofhealth.com/event/client-health-cases-3-2/2030-03-19/
CATEGORIES:health initiative
END:VEVENT
BEGIN:VEVENT
DTSTART;TZID=UTC:20300320T060000
DTEND;TZID=UTC:20300320T073000
DTSTAMP:20260423T075611
CREATED:20260406T043015
LAST-MODIFIED:20260406T043015
UID:10012111-1900216800-1900222200@student.instituteofhealth.com
SUMMARY:Client Health Cases
DESCRIPTION:Zoom link: masterclass.instituteofhealth.com
URL:https://student.instituteofhealth.com/event/client-health-cases-2-2-2-2/2030-03-20/
END:VEVENT
BEGIN:VEVENT
DTSTART;TZID=UTC:20300320T200000
DTEND;TZID=UTC:20300320T213000
DTSTAMP:20260423T075611
CREATED:20260406T043044
LAST-MODIFIED:20260406T043044
UID:10011577-1900267200-1900272600@student.instituteofhealth.com
SUMMARY:Client Health Cases
DESCRIPTION:Zoom link: masterclass.instituteofhealth.com
URL:https://student.instituteofhealth.com/event/client-health-cases-4-2/2030-03-21/
CATEGORIES:health initiative
END:VEVENT
BEGIN:VEVENT
DTSTART;TZID=UTC:20300326T070000
DTEND;TZID=UTC:20300326T083000
DTSTAMP:20260423T075611
CREATED:20260115T025352
LAST-MODIFIED:20260402T034906
UID:10010800-1900738800-1900744200@student.instituteofhealth.com
SUMMARY:Client Health Cases
DESCRIPTION:Zoom link: masterclass.instituteofhealth.com
URL:https://student.instituteofhealth.com/event/client-health-cases-3-2/2030-03-26/
CATEGORIES:health initiative
END:VEVENT
BEGIN:VEVENT
DTSTART;TZID=UTC:20300327T060000
DTEND;TZID=UTC:20300327T073000
DTSTAMP:20260423T075611
CREATED:20260406T043015
LAST-MODIFIED:20260406T043015
UID:10012112-1900821600-1900827000@student.instituteofhealth.com
SUMMARY:Client Health Cases
DESCRIPTION:Zoom link: masterclass.instituteofhealth.com
URL:https://student.instituteofhealth.com/event/client-health-cases-2-2-2-2/2030-03-27/
END:VEVENT
BEGIN:VEVENT
DTSTART;TZID=UTC:20300327T200000
DTEND;TZID=UTC:20300327T213000
DTSTAMP:20260423T075611
CREATED:20260406T043044
LAST-MODIFIED:20260406T043044
UID:10011578-1900872000-1900877400@student.instituteofhealth.com
SUMMARY:Client Health Cases
DESCRIPTION:Zoom link: masterclass.instituteofhealth.com
URL:https://student.instituteofhealth.com/event/client-health-cases-4-2/2030-03-28/
CATEGORIES:health initiative
END:VEVENT
BEGIN:VEVENT
DTSTART;TZID=UTC:20300402T070000
DTEND;TZID=UTC:20300402T083000
DTSTAMP:20260423T075611
CREATED:20260115T025352
LAST-MODIFIED:20260402T034906
UID:10010801-1901343600-1901349000@student.instituteofhealth.com
SUMMARY:Client Health Cases
DESCRIPTION:Zoom link: masterclass.instituteofhealth.com
URL:https://student.instituteofhealth.com/event/client-health-cases-3-2/2030-04-02/
CATEGORIES:health initiative
END:VEVENT
BEGIN:VEVENT
DTSTART;TZID=UTC:20300403T060000
DTEND;TZID=UTC:20300403T073000
DTSTAMP:20260423T075611
CREATED:20260406T043015
LAST-MODIFIED:20260406T043015
UID:10012113-1901426400-1901431800@student.instituteofhealth.com
SUMMARY:Client Health Cases
DESCRIPTION:Zoom link: masterclass.instituteofhealth.com
URL:https://student.instituteofhealth.com/event/client-health-cases-2-2-2-2/2030-04-03/
END:VEVENT
BEGIN:VEVENT
DTSTART;TZID=UTC:20300403T200000
DTEND;TZID=UTC:20300403T213000
DTSTAMP:20260423T075611
CREATED:20260406T043044
LAST-MODIFIED:20260406T043044
UID:10011579-1901476800-1901482200@student.instituteofhealth.com
SUMMARY:Client Health Cases
DESCRIPTION:Zoom link: masterclass.instituteofhealth.com
URL:https://student.instituteofhealth.com/event/client-health-cases-4-2/2030-04-04/
CATEGORIES:health initiative
END:VEVENT
END:VCALENDAR