BEGIN:VCALENDAR
VERSION:2.0
PRODID:-//Institute of Health - ECPv6.3.5//NONSGML v1.0//EN
CALSCALE:GREGORIAN
METHOD:PUBLISH
X-WR-CALNAME:Institute of Health
X-ORIGINAL-URL:https://student.instituteofhealth.com
X-WR-CALDESC:Events for Institute of Health
REFRESH-INTERVAL;VALUE=DURATION:PT1H
X-Robots-Tag:noindex
X-PUBLISHED-TTL:PT1H
BEGIN:VTIMEZONE
TZID:Australia/Brisbane
BEGIN:STANDARD
TZOFFSETFROM:+1000
TZOFFSETTO:+1000
TZNAME:AEST
DTSTART:20251231T140000
END:STANDARD
TZID:Australia/Melbourne
BEGIN:STANDARD
TZOFFSETFROM:+1100
TZOFFSETTO:+1000
TZNAME:AEST
DTSTART:20260404T160000
END:STANDARD
BEGIN:DAYLIGHT
TZOFFSETFROM:+1000
TZOFFSETTO:+1100
TZNAME:AEDT
DTSTART:20261003T160000
END:DAYLIGHT
END:VTIMEZONE
BEGIN:VEVENT
DTSTART;TZID=UTC:20260811T070000
DTEND;TZID=UTC:20260811T083000
DTSTAMP:20260420T045245
CREATED:20260115T025352
LAST-MODIFIED:20260402T034906
UID:10010611-1786431600-1786437000@student.instituteofhealth.com
SUMMARY:Client Health Cases
DESCRIPTION:Zoom link: masterclass.instituteofhealth.com
URL:https://student.instituteofhealth.com/event/client-health-cases-3-2/2026-08-11/
CATEGORIES:health initiative
END:VEVENT
BEGIN:VEVENT
DTSTART;TZID=UTC:20260812T060000
DTEND;TZID=UTC:20260812T073000
DTSTAMP:20260420T045245
CREATED:20260406T043015
LAST-MODIFIED:20260406T043015
UID:10011923-1786514400-1786519800@student.instituteofhealth.com
SUMMARY:Client Health Cases
DESCRIPTION:Zoom link: masterclass.instituteofhealth.com
URL:https://student.instituteofhealth.com/event/client-health-cases-2-2-2-2/2026-08-12/
END:VEVENT
BEGIN:VEVENT
DTSTART;TZID=UTC:20260812T200000
DTEND;TZID=UTC:20260812T213000
DTSTAMP:20260420T045245
CREATED:20260406T043044
LAST-MODIFIED:20260406T043044
UID:10011389-1786564800-1786570200@student.instituteofhealth.com
SUMMARY:Client Health Cases
DESCRIPTION:Zoom link: masterclass.instituteofhealth.com
URL:https://student.instituteofhealth.com/event/client-health-cases-4-2/2026-08-13/
CATEGORIES:health initiative
END:VEVENT
BEGIN:VEVENT
DTSTART;TZID=UTC:20260818T070000
DTEND;TZID=UTC:20260818T083000
DTSTAMP:20260420T045245
CREATED:20260115T025352
LAST-MODIFIED:20260402T034906
UID:10010612-1787036400-1787041800@student.instituteofhealth.com
SUMMARY:Client Health Cases
DESCRIPTION:Zoom link: masterclass.instituteofhealth.com
URL:https://student.instituteofhealth.com/event/client-health-cases-3-2/2026-08-18/
CATEGORIES:health initiative
END:VEVENT
BEGIN:VEVENT
DTSTART;TZID=UTC:20260819T060000
DTEND;TZID=UTC:20260819T073000
DTSTAMP:20260420T045245
CREATED:20260406T043015
LAST-MODIFIED:20260406T043015
UID:10011924-1787119200-1787124600@student.instituteofhealth.com
SUMMARY:Client Health Cases
DESCRIPTION:Zoom link: masterclass.instituteofhealth.com
URL:https://student.instituteofhealth.com/event/client-health-cases-2-2-2-2/2026-08-19/
END:VEVENT
BEGIN:VEVENT
DTSTART;TZID=UTC:20260819T200000
DTEND;TZID=UTC:20260819T213000
DTSTAMP:20260420T045245
CREATED:20260406T043044
LAST-MODIFIED:20260406T043044
UID:10011390-1787169600-1787175000@student.instituteofhealth.com
SUMMARY:Client Health Cases
DESCRIPTION:Zoom link: masterclass.instituteofhealth.com
URL:https://student.instituteofhealth.com/event/client-health-cases-4-2/2026-08-20/
CATEGORIES:health initiative
END:VEVENT
BEGIN:VEVENT
DTSTART;TZID=UTC:20260825T070000
DTEND;TZID=UTC:20260825T083000
DTSTAMP:20260420T045245
CREATED:20260115T025352
LAST-MODIFIED:20260402T034906
UID:10010613-1787641200-1787646600@student.instituteofhealth.com
SUMMARY:Client Health Cases
DESCRIPTION:Zoom link: masterclass.instituteofhealth.com
URL:https://student.instituteofhealth.com/event/client-health-cases-3-2/2026-08-25/
CATEGORIES:health initiative
END:VEVENT
BEGIN:VEVENT
DTSTART;TZID=UTC:20260826T060000
DTEND;TZID=UTC:20260826T073000
DTSTAMP:20260420T045245
CREATED:20260406T043015
LAST-MODIFIED:20260406T043015
UID:10011925-1787724000-1787729400@student.instituteofhealth.com
SUMMARY:Client Health Cases
DESCRIPTION:Zoom link: masterclass.instituteofhealth.com
URL:https://student.instituteofhealth.com/event/client-health-cases-2-2-2-2/2026-08-26/
END:VEVENT
BEGIN:VEVENT
DTSTART;TZID=UTC:20260826T200000
DTEND;TZID=UTC:20260826T213000
DTSTAMP:20260420T045245
CREATED:20260406T043044
LAST-MODIFIED:20260406T043044
UID:10011391-1787774400-1787779800@student.instituteofhealth.com
SUMMARY:Client Health Cases
DESCRIPTION:Zoom link: masterclass.instituteofhealth.com
URL:https://student.instituteofhealth.com/event/client-health-cases-4-2/2026-08-27/
CATEGORIES:health initiative
END:VEVENT
BEGIN:VEVENT
DTSTART;TZID=UTC:20260901T070000
DTEND;TZID=UTC:20260901T083000
DTSTAMP:20260420T045245
CREATED:20260115T025352
LAST-MODIFIED:20260402T034906
UID:10010614-1788246000-1788251400@student.instituteofhealth.com
SUMMARY:Client Health Cases
DESCRIPTION:Zoom link: masterclass.instituteofhealth.com
URL:https://student.instituteofhealth.com/event/client-health-cases-3-2/2026-09-01/
CATEGORIES:health initiative
END:VEVENT
BEGIN:VEVENT
DTSTART;TZID=UTC:20260902T060000
DTEND;TZID=UTC:20260902T073000
DTSTAMP:20260420T045245
CREATED:20260406T043015
LAST-MODIFIED:20260406T043015
UID:10011926-1788328800-1788334200@student.instituteofhealth.com
SUMMARY:Client Health Cases
DESCRIPTION:Zoom link: masterclass.instituteofhealth.com
URL:https://student.instituteofhealth.com/event/client-health-cases-2-2-2-2/2026-09-02/
END:VEVENT
BEGIN:VEVENT
DTSTART;TZID=UTC:20260902T200000
DTEND;TZID=UTC:20260902T213000
DTSTAMP:20260420T045245
CREATED:20260406T043044
LAST-MODIFIED:20260406T043044
UID:10011392-1788379200-1788384600@student.instituteofhealth.com
SUMMARY:Client Health Cases
DESCRIPTION:Zoom link: masterclass.instituteofhealth.com
URL:https://student.instituteofhealth.com/event/client-health-cases-4-2/2026-09-03/
CATEGORIES:health initiative
END:VEVENT
BEGIN:VEVENT
DTSTART;TZID=UTC:20260908T070000
DTEND;TZID=UTC:20260908T083000
DTSTAMP:20260420T045245
CREATED:20260115T025352
LAST-MODIFIED:20260402T034906
UID:10010615-1788850800-1788856200@student.instituteofhealth.com
SUMMARY:Client Health Cases
DESCRIPTION:Zoom link: masterclass.instituteofhealth.com
URL:https://student.instituteofhealth.com/event/client-health-cases-3-2/2026-09-08/
CATEGORIES:health initiative
END:VEVENT
BEGIN:VEVENT
DTSTART;TZID=UTC:20260909T060000
DTEND;TZID=UTC:20260909T073000
DTSTAMP:20260420T045245
CREATED:20260406T043015
LAST-MODIFIED:20260406T043015
UID:10011927-1788933600-1788939000@student.instituteofhealth.com
SUMMARY:Client Health Cases
DESCRIPTION:Zoom link: masterclass.instituteofhealth.com
URL:https://student.instituteofhealth.com/event/client-health-cases-2-2-2-2/2026-09-09/
END:VEVENT
BEGIN:VEVENT
DTSTART;TZID=UTC:20260909T200000
DTEND;TZID=UTC:20260909T213000
DTSTAMP:20260420T045245
CREATED:20260406T043044
LAST-MODIFIED:20260406T043044
UID:10011393-1788984000-1788989400@student.instituteofhealth.com
SUMMARY:Client Health Cases
DESCRIPTION:Zoom link: masterclass.instituteofhealth.com
URL:https://student.instituteofhealth.com/event/client-health-cases-4-2/2026-09-10/
CATEGORIES:health initiative
END:VEVENT
BEGIN:VEVENT
DTSTART;TZID=UTC:20260915T070000
DTEND;TZID=UTC:20260915T083000
DTSTAMP:20260420T045245
CREATED:20260115T025352
LAST-MODIFIED:20260402T034906
UID:10010616-1789455600-1789461000@student.instituteofhealth.com
SUMMARY:Client Health Cases
DESCRIPTION:Zoom link: masterclass.instituteofhealth.com
URL:https://student.instituteofhealth.com/event/client-health-cases-3-2/2026-09-15/
CATEGORIES:health initiative
END:VEVENT
BEGIN:VEVENT
DTSTART;TZID=UTC:20260916T060000
DTEND;TZID=UTC:20260916T073000
DTSTAMP:20260420T045245
CREATED:20260406T043015
LAST-MODIFIED:20260406T043015
UID:10011928-1789538400-1789543800@student.instituteofhealth.com
SUMMARY:Client Health Cases
DESCRIPTION:Zoom link: masterclass.instituteofhealth.com
URL:https://student.instituteofhealth.com/event/client-health-cases-2-2-2-2/2026-09-16/
END:VEVENT
BEGIN:VEVENT
DTSTART;TZID=UTC:20260916T200000
DTEND;TZID=UTC:20260916T213000
DTSTAMP:20260420T045245
CREATED:20260406T043044
LAST-MODIFIED:20260406T043044
UID:10011394-1789588800-1789594200@student.instituteofhealth.com
SUMMARY:Client Health Cases
DESCRIPTION:Zoom link: masterclass.instituteofhealth.com
URL:https://student.instituteofhealth.com/event/client-health-cases-4-2/2026-09-17/
CATEGORIES:health initiative
END:VEVENT
BEGIN:VEVENT
DTSTART;TZID=UTC:20260922T070000
DTEND;TZID=UTC:20260922T083000
DTSTAMP:20260420T045245
CREATED:20260115T025352
LAST-MODIFIED:20260402T034906
UID:10010617-1790060400-1790065800@student.instituteofhealth.com
SUMMARY:Client Health Cases
DESCRIPTION:Zoom link: masterclass.instituteofhealth.com
URL:https://student.instituteofhealth.com/event/client-health-cases-3-2/2026-09-22/
CATEGORIES:health initiative
END:VEVENT
BEGIN:VEVENT
DTSTART;TZID=UTC:20260923T060000
DTEND;TZID=UTC:20260923T073000
DTSTAMP:20260420T045245
CREATED:20260406T043015
LAST-MODIFIED:20260406T043015
UID:10011929-1790143200-1790148600@student.instituteofhealth.com
SUMMARY:Client Health Cases
DESCRIPTION:Zoom link: masterclass.instituteofhealth.com
URL:https://student.instituteofhealth.com/event/client-health-cases-2-2-2-2/2026-09-23/
END:VEVENT
BEGIN:VEVENT
DTSTART;TZID=UTC:20260923T200000
DTEND;TZID=UTC:20260923T213000
DTSTAMP:20260420T045245
CREATED:20260406T043044
LAST-MODIFIED:20260406T043044
UID:10011395-1790193600-1790199000@student.instituteofhealth.com
SUMMARY:Client Health Cases
DESCRIPTION:Zoom link: masterclass.instituteofhealth.com
URL:https://student.instituteofhealth.com/event/client-health-cases-4-2/2026-09-24/
CATEGORIES:health initiative
END:VEVENT
BEGIN:VEVENT
DTSTART;TZID=UTC:20260929T070000
DTEND;TZID=UTC:20260929T083000
DTSTAMP:20260420T045245
CREATED:20260115T025352
LAST-MODIFIED:20260402T034906
UID:10010618-1790665200-1790670600@student.instituteofhealth.com
SUMMARY:Client Health Cases
DESCRIPTION:Zoom link: masterclass.instituteofhealth.com
URL:https://student.instituteofhealth.com/event/client-health-cases-3-2/2026-09-29/
CATEGORIES:health initiative
END:VEVENT
BEGIN:VEVENT
DTSTART;TZID=UTC:20260930T060000
DTEND;TZID=UTC:20260930T073000
DTSTAMP:20260420T045245
CREATED:20260406T043015
LAST-MODIFIED:20260406T043015
UID:10011930-1790748000-1790753400@student.instituteofhealth.com
SUMMARY:Client Health Cases
DESCRIPTION:Zoom link: masterclass.instituteofhealth.com
URL:https://student.instituteofhealth.com/event/client-health-cases-2-2-2-2/2026-09-30/
END:VEVENT
BEGIN:VEVENT
DTSTART;TZID=UTC:20260930T200000
DTEND;TZID=UTC:20260930T213000
DTSTAMP:20260420T045245
CREATED:20260406T043044
LAST-MODIFIED:20260406T043044
UID:10011396-1790798400-1790803800@student.instituteofhealth.com
SUMMARY:Client Health Cases
DESCRIPTION:Zoom link: masterclass.instituteofhealth.com
URL:https://student.instituteofhealth.com/event/client-health-cases-4-2/2026-10-01/
CATEGORIES:health initiative
END:VEVENT
BEGIN:VEVENT
DTSTART;TZID=UTC:20261006T070000
DTEND;TZID=UTC:20261006T083000
DTSTAMP:20260420T045245
CREATED:20260115T025352
LAST-MODIFIED:20260402T034906
UID:10010619-1791270000-1791275400@student.instituteofhealth.com
SUMMARY:Client Health Cases
DESCRIPTION:Zoom link: masterclass.instituteofhealth.com
URL:https://student.instituteofhealth.com/event/client-health-cases-3-2/2026-10-06/
CATEGORIES:health initiative
END:VEVENT
BEGIN:VEVENT
DTSTART;TZID=UTC:20261007T060000
DTEND;TZID=UTC:20261007T073000
DTSTAMP:20260420T045245
CREATED:20260406T043015
LAST-MODIFIED:20260406T043015
UID:10011931-1791352800-1791358200@student.instituteofhealth.com
SUMMARY:Client Health Cases
DESCRIPTION:Zoom link: masterclass.instituteofhealth.com
URL:https://student.instituteofhealth.com/event/client-health-cases-2-2-2-2/2026-10-07/
END:VEVENT
BEGIN:VEVENT
DTSTART;TZID=UTC:20261007T200000
DTEND;TZID=UTC:20261007T213000
DTSTAMP:20260420T045245
CREATED:20260406T043044
LAST-MODIFIED:20260406T043044
UID:10011397-1791403200-1791408600@student.instituteofhealth.com
SUMMARY:Client Health Cases
DESCRIPTION:Zoom link: masterclass.instituteofhealth.com
URL:https://student.instituteofhealth.com/event/client-health-cases-4-2/2026-10-08/
CATEGORIES:health initiative
END:VEVENT
BEGIN:VEVENT
DTSTART;TZID=UTC:20261013T070000
DTEND;TZID=UTC:20261013T083000
DTSTAMP:20260420T045245
CREATED:20260115T025352
LAST-MODIFIED:20260402T034906
UID:10010620-1791874800-1791880200@student.instituteofhealth.com
SUMMARY:Client Health Cases
DESCRIPTION:Zoom link: masterclass.instituteofhealth.com
URL:https://student.instituteofhealth.com/event/client-health-cases-3-2/2026-10-13/
CATEGORIES:health initiative
END:VEVENT
BEGIN:VEVENT
DTSTART;TZID=UTC:20261014T060000
DTEND;TZID=UTC:20261014T073000
DTSTAMP:20260420T045245
CREATED:20260406T043015
LAST-MODIFIED:20260406T043015
UID:10011932-1791957600-1791963000@student.instituteofhealth.com
SUMMARY:Client Health Cases
DESCRIPTION:Zoom link: masterclass.instituteofhealth.com
URL:https://student.instituteofhealth.com/event/client-health-cases-2-2-2-2/2026-10-14/
END:VEVENT
BEGIN:VEVENT
DTSTART;TZID=UTC:20261014T200000
DTEND;TZID=UTC:20261014T213000
DTSTAMP:20260420T045245
CREATED:20260406T043044
LAST-MODIFIED:20260406T043044
UID:10011398-1792008000-1792013400@student.instituteofhealth.com
SUMMARY:Client Health Cases
DESCRIPTION:Zoom link: masterclass.instituteofhealth.com
URL:https://student.instituteofhealth.com/event/client-health-cases-4-2/2026-10-15/
CATEGORIES:health initiative
END:VEVENT
END:VCALENDAR