BEGIN:VCALENDAR
VERSION:2.0
PRODID:-//Institute of Health - ECPv6.3.5//NONSGML v1.0//EN
CALSCALE:GREGORIAN
METHOD:PUBLISH
X-WR-CALNAME:Institute of Health
X-ORIGINAL-URL:https://student.instituteofhealth.com
X-WR-CALDESC:Events for Institute of Health
REFRESH-INTERVAL;VALUE=DURATION:PT1H
X-Robots-Tag:noindex
X-PUBLISHED-TTL:PT1H
BEGIN:VTIMEZONE
TZID:Australia/Melbourne
BEGIN:STANDARD
TZOFFSETFROM:+1100
TZOFFSETTO:+1000
TZNAME:AEST
DTSTART:20290331T160000
END:STANDARD
BEGIN:DAYLIGHT
TZOFFSETFROM:+1000
TZOFFSETTO:+1100
TZNAME:AEDT
DTSTART:20291006T160000
END:DAYLIGHT
TZID:Australia/Brisbane
BEGIN:STANDARD
TZOFFSETFROM:+1000
TZOFFSETTO:+1000
TZNAME:AEST
DTSTART:20281231T140000
END:STANDARD
END:VTIMEZONE
BEGIN:VEVENT
DTSTART;TZID=UTC:20290905T200000
DTEND;TZID=UTC:20290905T213000
DTSTAMP:20260422T231155
CREATED:20260406T043044
LAST-MODIFIED:20260406T043044
UID:10011549-1883332800-1883338200@student.instituteofhealth.com
SUMMARY:Client Health Cases
DESCRIPTION:Zoom link: masterclass.instituteofhealth.com
URL:https://student.instituteofhealth.com/event/client-health-cases-4-2/2029-09-06/
CATEGORIES:health initiative
END:VEVENT
BEGIN:VEVENT
DTSTART;TZID=UTC:20290911T070000
DTEND;TZID=UTC:20290911T083000
DTSTAMP:20260422T231155
CREATED:20260115T025352
LAST-MODIFIED:20260402T034906
UID:10010772-1883804400-1883809800@student.instituteofhealth.com
SUMMARY:Client Health Cases
DESCRIPTION:Zoom link: masterclass.instituteofhealth.com
URL:https://student.instituteofhealth.com/event/client-health-cases-3-2/2029-09-11/
CATEGORIES:health initiative
END:VEVENT
BEGIN:VEVENT
DTSTART;TZID=UTC:20290912T060000
DTEND;TZID=UTC:20290912T073000
DTSTAMP:20260422T231155
CREATED:20260406T043015
LAST-MODIFIED:20260406T043015
UID:10012084-1883887200-1883892600@student.instituteofhealth.com
SUMMARY:Client Health Cases
DESCRIPTION:Zoom link: masterclass.instituteofhealth.com
URL:https://student.instituteofhealth.com/event/client-health-cases-2-2-2-2/2029-09-12/
END:VEVENT
BEGIN:VEVENT
DTSTART;TZID=UTC:20290912T200000
DTEND;TZID=UTC:20290912T213000
DTSTAMP:20260422T231155
CREATED:20260406T043044
LAST-MODIFIED:20260406T043044
UID:10011550-1883937600-1883943000@student.instituteofhealth.com
SUMMARY:Client Health Cases
DESCRIPTION:Zoom link: masterclass.instituteofhealth.com
URL:https://student.instituteofhealth.com/event/client-health-cases-4-2/2029-09-13/
CATEGORIES:health initiative
END:VEVENT
BEGIN:VEVENT
DTSTART;TZID=UTC:20290918T070000
DTEND;TZID=UTC:20290918T083000
DTSTAMP:20260422T231155
CREATED:20260115T025352
LAST-MODIFIED:20260402T034906
UID:10010773-1884409200-1884414600@student.instituteofhealth.com
SUMMARY:Client Health Cases
DESCRIPTION:Zoom link: masterclass.instituteofhealth.com
URL:https://student.instituteofhealth.com/event/client-health-cases-3-2/2029-09-18/
CATEGORIES:health initiative
END:VEVENT
BEGIN:VEVENT
DTSTART;TZID=UTC:20290919T060000
DTEND;TZID=UTC:20290919T073000
DTSTAMP:20260422T231155
CREATED:20260406T043015
LAST-MODIFIED:20260406T043015
UID:10012085-1884492000-1884497400@student.instituteofhealth.com
SUMMARY:Client Health Cases
DESCRIPTION:Zoom link: masterclass.instituteofhealth.com
URL:https://student.instituteofhealth.com/event/client-health-cases-2-2-2-2/2029-09-19/
END:VEVENT
BEGIN:VEVENT
DTSTART;TZID=UTC:20290919T200000
DTEND;TZID=UTC:20290919T213000
DTSTAMP:20260422T231155
CREATED:20260406T043044
LAST-MODIFIED:20260406T043044
UID:10011551-1884542400-1884547800@student.instituteofhealth.com
SUMMARY:Client Health Cases
DESCRIPTION:Zoom link: masterclass.instituteofhealth.com
URL:https://student.instituteofhealth.com/event/client-health-cases-4-2/2029-09-20/
CATEGORIES:health initiative
END:VEVENT
BEGIN:VEVENT
DTSTART;TZID=UTC:20290925T070000
DTEND;TZID=UTC:20290925T083000
DTSTAMP:20260422T231155
CREATED:20260115T025352
LAST-MODIFIED:20260402T034906
UID:10010774-1885014000-1885019400@student.instituteofhealth.com
SUMMARY:Client Health Cases
DESCRIPTION:Zoom link: masterclass.instituteofhealth.com
URL:https://student.instituteofhealth.com/event/client-health-cases-3-2/2029-09-25/
CATEGORIES:health initiative
END:VEVENT
BEGIN:VEVENT
DTSTART;TZID=UTC:20290926T060000
DTEND;TZID=UTC:20290926T073000
DTSTAMP:20260422T231155
CREATED:20260406T043015
LAST-MODIFIED:20260406T043015
UID:10012086-1885096800-1885102200@student.instituteofhealth.com
SUMMARY:Client Health Cases
DESCRIPTION:Zoom link: masterclass.instituteofhealth.com
URL:https://student.instituteofhealth.com/event/client-health-cases-2-2-2-2/2029-09-26/
END:VEVENT
BEGIN:VEVENT
DTSTART;TZID=UTC:20290926T200000
DTEND;TZID=UTC:20290926T213000
DTSTAMP:20260422T231155
CREATED:20260406T043044
LAST-MODIFIED:20260406T043044
UID:10011552-1885147200-1885152600@student.instituteofhealth.com
SUMMARY:Client Health Cases
DESCRIPTION:Zoom link: masterclass.instituteofhealth.com
URL:https://student.instituteofhealth.com/event/client-health-cases-4-2/2029-09-27/
CATEGORIES:health initiative
END:VEVENT
BEGIN:VEVENT
DTSTART;TZID=UTC:20291002T070000
DTEND;TZID=UTC:20291002T083000
DTSTAMP:20260422T231155
CREATED:20260115T025352
LAST-MODIFIED:20260402T034906
UID:10010775-1885618800-1885624200@student.instituteofhealth.com
SUMMARY:Client Health Cases
DESCRIPTION:Zoom link: masterclass.instituteofhealth.com
URL:https://student.instituteofhealth.com/event/client-health-cases-3-2/2029-10-02/
CATEGORIES:health initiative
END:VEVENT
BEGIN:VEVENT
DTSTART;TZID=UTC:20291003T060000
DTEND;TZID=UTC:20291003T073000
DTSTAMP:20260422T231155
CREATED:20260406T043015
LAST-MODIFIED:20260406T043015
UID:10012087-1885701600-1885707000@student.instituteofhealth.com
SUMMARY:Client Health Cases
DESCRIPTION:Zoom link: masterclass.instituteofhealth.com
URL:https://student.instituteofhealth.com/event/client-health-cases-2-2-2-2/2029-10-03/
END:VEVENT
BEGIN:VEVENT
DTSTART;TZID=UTC:20291003T200000
DTEND;TZID=UTC:20291003T213000
DTSTAMP:20260422T231155
CREATED:20260406T043044
LAST-MODIFIED:20260406T043044
UID:10011553-1885752000-1885757400@student.instituteofhealth.com
SUMMARY:Client Health Cases
DESCRIPTION:Zoom link: masterclass.instituteofhealth.com
URL:https://student.instituteofhealth.com/event/client-health-cases-4-2/2029-10-04/
CATEGORIES:health initiative
END:VEVENT
BEGIN:VEVENT
DTSTART;TZID=UTC:20291009T070000
DTEND;TZID=UTC:20291009T083000
DTSTAMP:20260422T231155
CREATED:20260115T025352
LAST-MODIFIED:20260402T034906
UID:10010776-1886223600-1886229000@student.instituteofhealth.com
SUMMARY:Client Health Cases
DESCRIPTION:Zoom link: masterclass.instituteofhealth.com
URL:https://student.instituteofhealth.com/event/client-health-cases-3-2/2029-10-09/
CATEGORIES:health initiative
END:VEVENT
BEGIN:VEVENT
DTSTART;TZID=UTC:20291010T060000
DTEND;TZID=UTC:20291010T073000
DTSTAMP:20260422T231155
CREATED:20260406T043015
LAST-MODIFIED:20260406T043015
UID:10012088-1886306400-1886311800@student.instituteofhealth.com
SUMMARY:Client Health Cases
DESCRIPTION:Zoom link: masterclass.instituteofhealth.com
URL:https://student.instituteofhealth.com/event/client-health-cases-2-2-2-2/2029-10-10/
END:VEVENT
BEGIN:VEVENT
DTSTART;TZID=UTC:20291010T200000
DTEND;TZID=UTC:20291010T213000
DTSTAMP:20260422T231155
CREATED:20260406T043044
LAST-MODIFIED:20260406T043044
UID:10011554-1886356800-1886362200@student.instituteofhealth.com
SUMMARY:Client Health Cases
DESCRIPTION:Zoom link: masterclass.instituteofhealth.com
URL:https://student.instituteofhealth.com/event/client-health-cases-4-2/2029-10-11/
CATEGORIES:health initiative
END:VEVENT
BEGIN:VEVENT
DTSTART;TZID=UTC:20291016T070000
DTEND;TZID=UTC:20291016T083000
DTSTAMP:20260422T231155
CREATED:20260115T025352
LAST-MODIFIED:20260402T034906
UID:10010777-1886828400-1886833800@student.instituteofhealth.com
SUMMARY:Client Health Cases
DESCRIPTION:Zoom link: masterclass.instituteofhealth.com
URL:https://student.instituteofhealth.com/event/client-health-cases-3-2/2029-10-16/
CATEGORIES:health initiative
END:VEVENT
BEGIN:VEVENT
DTSTART;TZID=UTC:20291017T060000
DTEND;TZID=UTC:20291017T073000
DTSTAMP:20260422T231155
CREATED:20260406T043015
LAST-MODIFIED:20260406T043015
UID:10012089-1886911200-1886916600@student.instituteofhealth.com
SUMMARY:Client Health Cases
DESCRIPTION:Zoom link: masterclass.instituteofhealth.com
URL:https://student.instituteofhealth.com/event/client-health-cases-2-2-2-2/2029-10-17/
END:VEVENT
BEGIN:VEVENT
DTSTART;TZID=UTC:20291017T200000
DTEND;TZID=UTC:20291017T213000
DTSTAMP:20260422T231155
CREATED:20260406T043044
LAST-MODIFIED:20260406T043044
UID:10011555-1886961600-1886967000@student.instituteofhealth.com
SUMMARY:Client Health Cases
DESCRIPTION:Zoom link: masterclass.instituteofhealth.com
URL:https://student.instituteofhealth.com/event/client-health-cases-4-2/2029-10-18/
CATEGORIES:health initiative
END:VEVENT
BEGIN:VEVENT
DTSTART;TZID=UTC:20291023T070000
DTEND;TZID=UTC:20291023T083000
DTSTAMP:20260422T231155
CREATED:20260115T025352
LAST-MODIFIED:20260402T034906
UID:10010778-1887433200-1887438600@student.instituteofhealth.com
SUMMARY:Client Health Cases
DESCRIPTION:Zoom link: masterclass.instituteofhealth.com
URL:https://student.instituteofhealth.com/event/client-health-cases-3-2/2029-10-23/
CATEGORIES:health initiative
END:VEVENT
BEGIN:VEVENT
DTSTART;TZID=UTC:20291024T060000
DTEND;TZID=UTC:20291024T073000
DTSTAMP:20260422T231155
CREATED:20260406T043015
LAST-MODIFIED:20260406T043015
UID:10012090-1887516000-1887521400@student.instituteofhealth.com
SUMMARY:Client Health Cases
DESCRIPTION:Zoom link: masterclass.instituteofhealth.com
URL:https://student.instituteofhealth.com/event/client-health-cases-2-2-2-2/2029-10-24/
END:VEVENT
BEGIN:VEVENT
DTSTART;TZID=UTC:20291024T200000
DTEND;TZID=UTC:20291024T213000
DTSTAMP:20260422T231155
CREATED:20260406T043044
LAST-MODIFIED:20260406T043044
UID:10011556-1887566400-1887571800@student.instituteofhealth.com
SUMMARY:Client Health Cases
DESCRIPTION:Zoom link: masterclass.instituteofhealth.com
URL:https://student.instituteofhealth.com/event/client-health-cases-4-2/2029-10-25/
CATEGORIES:health initiative
END:VEVENT
BEGIN:VEVENT
DTSTART;TZID=UTC:20291030T070000
DTEND;TZID=UTC:20291030T083000
DTSTAMP:20260422T231155
CREATED:20260115T025352
LAST-MODIFIED:20260402T034906
UID:10010779-1888038000-1888043400@student.instituteofhealth.com
SUMMARY:Client Health Cases
DESCRIPTION:Zoom link: masterclass.instituteofhealth.com
URL:https://student.instituteofhealth.com/event/client-health-cases-3-2/2029-10-30/
CATEGORIES:health initiative
END:VEVENT
BEGIN:VEVENT
DTSTART;TZID=UTC:20291031T060000
DTEND;TZID=UTC:20291031T073000
DTSTAMP:20260422T231155
CREATED:20260406T043015
LAST-MODIFIED:20260406T043015
UID:10012091-1888120800-1888126200@student.instituteofhealth.com
SUMMARY:Client Health Cases
DESCRIPTION:Zoom link: masterclass.instituteofhealth.com
URL:https://student.instituteofhealth.com/event/client-health-cases-2-2-2-2/2029-10-31/
END:VEVENT
BEGIN:VEVENT
DTSTART;TZID=UTC:20291031T200000
DTEND;TZID=UTC:20291031T213000
DTSTAMP:20260422T231155
CREATED:20260406T043044
LAST-MODIFIED:20260406T043044
UID:10011557-1888171200-1888176600@student.instituteofhealth.com
SUMMARY:Client Health Cases
DESCRIPTION:Zoom link: masterclass.instituteofhealth.com
URL:https://student.instituteofhealth.com/event/client-health-cases-4-2/2029-11-01/
CATEGORIES:health initiative
END:VEVENT
BEGIN:VEVENT
DTSTART;TZID=UTC:20291106T070000
DTEND;TZID=UTC:20291106T083000
DTSTAMP:20260422T231155
CREATED:20260115T025352
LAST-MODIFIED:20260402T034906
UID:10010780-1888642800-1888648200@student.instituteofhealth.com
SUMMARY:Client Health Cases
DESCRIPTION:Zoom link: masterclass.instituteofhealth.com
URL:https://student.instituteofhealth.com/event/client-health-cases-3-2/2029-11-06/
CATEGORIES:health initiative
END:VEVENT
BEGIN:VEVENT
DTSTART;TZID=UTC:20291107T060000
DTEND;TZID=UTC:20291107T073000
DTSTAMP:20260422T231155
CREATED:20260406T043015
LAST-MODIFIED:20260406T043015
UID:10012092-1888725600-1888731000@student.instituteofhealth.com
SUMMARY:Client Health Cases
DESCRIPTION:Zoom link: masterclass.instituteofhealth.com
URL:https://student.instituteofhealth.com/event/client-health-cases-2-2-2-2/2029-11-07/
END:VEVENT
BEGIN:VEVENT
DTSTART;TZID=UTC:20291107T200000
DTEND;TZID=UTC:20291107T213000
DTSTAMP:20260422T231155
CREATED:20260406T043044
LAST-MODIFIED:20260406T043044
UID:10011558-1888776000-1888781400@student.instituteofhealth.com
SUMMARY:Client Health Cases
DESCRIPTION:Zoom link: masterclass.instituteofhealth.com
URL:https://student.instituteofhealth.com/event/client-health-cases-4-2/2029-11-08/
CATEGORIES:health initiative
END:VEVENT
BEGIN:VEVENT
DTSTART;TZID=UTC:20291113T070000
DTEND;TZID=UTC:20291113T083000
DTSTAMP:20260422T231155
CREATED:20260115T025352
LAST-MODIFIED:20260402T034906
UID:10010781-1889247600-1889253000@student.instituteofhealth.com
SUMMARY:Client Health Cases
DESCRIPTION:Zoom link: masterclass.instituteofhealth.com
URL:https://student.instituteofhealth.com/event/client-health-cases-3-2/2029-11-13/
CATEGORIES:health initiative
END:VEVENT
BEGIN:VEVENT
DTSTART;TZID=UTC:20291114T060000
DTEND;TZID=UTC:20291114T073000
DTSTAMP:20260422T231155
CREATED:20260406T043015
LAST-MODIFIED:20260406T043015
UID:10012093-1889330400-1889335800@student.instituteofhealth.com
SUMMARY:Client Health Cases
DESCRIPTION:Zoom link: masterclass.instituteofhealth.com
URL:https://student.instituteofhealth.com/event/client-health-cases-2-2-2-2/2029-11-14/
END:VEVENT
END:VCALENDAR