BEGIN:VCALENDAR
VERSION:2.0
PRODID:-//Institute of Health - ECPv6.3.5//NONSGML v1.0//EN
CALSCALE:GREGORIAN
METHOD:PUBLISH
X-WR-CALNAME:Institute of Health
X-ORIGINAL-URL:https://student.instituteofhealth.com
X-WR-CALDESC:Events for Institute of Health
REFRESH-INTERVAL;VALUE=DURATION:PT1H
X-Robots-Tag:noindex
X-PUBLISHED-TTL:PT1H
BEGIN:VTIMEZONE
TZID:Australia/Melbourne
BEGIN:STANDARD
TZOFFSETFROM:+1100
TZOFFSETTO:+1000
TZNAME:AEST
DTSTART:20290331T160000
END:STANDARD
BEGIN:DAYLIGHT
TZOFFSETFROM:+1000
TZOFFSETTO:+1100
TZNAME:AEDT
DTSTART:20291006T160000
END:DAYLIGHT
TZID:Australia/Brisbane
BEGIN:STANDARD
TZOFFSETFROM:+1000
TZOFFSETTO:+1000
TZNAME:AEST
DTSTART:20281231T140000
END:STANDARD
END:VTIMEZONE
BEGIN:VEVENT
DTSTART;TZID=UTC:20290613T200000
DTEND;TZID=UTC:20290613T213000
DTSTAMP:20260422T180516
CREATED:20260406T043044
LAST-MODIFIED:20260406T043044
UID:10011537-1876075200-1876080600@student.instituteofhealth.com
SUMMARY:Client Health Cases
DESCRIPTION:Zoom link: masterclass.instituteofhealth.com
URL:https://student.instituteofhealth.com/event/client-health-cases-4-2/2029-06-14/
CATEGORIES:health initiative
END:VEVENT
BEGIN:VEVENT
DTSTART;TZID=UTC:20290619T070000
DTEND;TZID=UTC:20290619T083000
DTSTAMP:20260422T180516
CREATED:20260115T025352
LAST-MODIFIED:20260402T034906
UID:10010760-1876546800-1876552200@student.instituteofhealth.com
SUMMARY:Client Health Cases
DESCRIPTION:Zoom link: masterclass.instituteofhealth.com
URL:https://student.instituteofhealth.com/event/client-health-cases-3-2/2029-06-19/
CATEGORIES:health initiative
END:VEVENT
BEGIN:VEVENT
DTSTART;TZID=UTC:20290620T060000
DTEND;TZID=UTC:20290620T073000
DTSTAMP:20260422T180516
CREATED:20260406T043015
LAST-MODIFIED:20260406T043015
UID:10012072-1876629600-1876635000@student.instituteofhealth.com
SUMMARY:Client Health Cases
DESCRIPTION:Zoom link: masterclass.instituteofhealth.com
URL:https://student.instituteofhealth.com/event/client-health-cases-2-2-2-2/2029-06-20/
END:VEVENT
BEGIN:VEVENT
DTSTART;TZID=UTC:20290620T200000
DTEND;TZID=UTC:20290620T213000
DTSTAMP:20260422T180516
CREATED:20260406T043044
LAST-MODIFIED:20260406T043044
UID:10011538-1876680000-1876685400@student.instituteofhealth.com
SUMMARY:Client Health Cases
DESCRIPTION:Zoom link: masterclass.instituteofhealth.com
URL:https://student.instituteofhealth.com/event/client-health-cases-4-2/2029-06-21/
CATEGORIES:health initiative
END:VEVENT
BEGIN:VEVENT
DTSTART;TZID=UTC:20290626T070000
DTEND;TZID=UTC:20290626T083000
DTSTAMP:20260422T180516
CREATED:20260115T025352
LAST-MODIFIED:20260402T034906
UID:10010761-1877151600-1877157000@student.instituteofhealth.com
SUMMARY:Client Health Cases
DESCRIPTION:Zoom link: masterclass.instituteofhealth.com
URL:https://student.instituteofhealth.com/event/client-health-cases-3-2/2029-06-26/
CATEGORIES:health initiative
END:VEVENT
BEGIN:VEVENT
DTSTART;TZID=UTC:20290627T060000
DTEND;TZID=UTC:20290627T073000
DTSTAMP:20260422T180516
CREATED:20260406T043015
LAST-MODIFIED:20260406T043015
UID:10012073-1877234400-1877239800@student.instituteofhealth.com
SUMMARY:Client Health Cases
DESCRIPTION:Zoom link: masterclass.instituteofhealth.com
URL:https://student.instituteofhealth.com/event/client-health-cases-2-2-2-2/2029-06-27/
END:VEVENT
BEGIN:VEVENT
DTSTART;TZID=UTC:20290627T200000
DTEND;TZID=UTC:20290627T213000
DTSTAMP:20260422T180516
CREATED:20260406T043044
LAST-MODIFIED:20260406T043044
UID:10011539-1877284800-1877290200@student.instituteofhealth.com
SUMMARY:Client Health Cases
DESCRIPTION:Zoom link: masterclass.instituteofhealth.com
URL:https://student.instituteofhealth.com/event/client-health-cases-4-2/2029-06-28/
CATEGORIES:health initiative
END:VEVENT
BEGIN:VEVENT
DTSTART;TZID=UTC:20290703T070000
DTEND;TZID=UTC:20290703T083000
DTSTAMP:20260422T180516
CREATED:20260115T025352
LAST-MODIFIED:20260402T034906
UID:10010762-1877756400-1877761800@student.instituteofhealth.com
SUMMARY:Client Health Cases
DESCRIPTION:Zoom link: masterclass.instituteofhealth.com
URL:https://student.instituteofhealth.com/event/client-health-cases-3-2/2029-07-03/
CATEGORIES:health initiative
END:VEVENT
BEGIN:VEVENT
DTSTART;TZID=UTC:20290704T060000
DTEND;TZID=UTC:20290704T073000
DTSTAMP:20260422T180516
CREATED:20260406T043015
LAST-MODIFIED:20260406T043015
UID:10012074-1877839200-1877844600@student.instituteofhealth.com
SUMMARY:Client Health Cases
DESCRIPTION:Zoom link: masterclass.instituteofhealth.com
URL:https://student.instituteofhealth.com/event/client-health-cases-2-2-2-2/2029-07-04/
END:VEVENT
BEGIN:VEVENT
DTSTART;TZID=UTC:20290704T200000
DTEND;TZID=UTC:20290704T213000
DTSTAMP:20260422T180516
CREATED:20260406T043044
LAST-MODIFIED:20260406T043044
UID:10011540-1877889600-1877895000@student.instituteofhealth.com
SUMMARY:Client Health Cases
DESCRIPTION:Zoom link: masterclass.instituteofhealth.com
URL:https://student.instituteofhealth.com/event/client-health-cases-4-2/2029-07-05/
CATEGORIES:health initiative
END:VEVENT
BEGIN:VEVENT
DTSTART;TZID=UTC:20290710T070000
DTEND;TZID=UTC:20290710T083000
DTSTAMP:20260422T180516
CREATED:20260115T025352
LAST-MODIFIED:20260402T034906
UID:10010763-1878361200-1878366600@student.instituteofhealth.com
SUMMARY:Client Health Cases
DESCRIPTION:Zoom link: masterclass.instituteofhealth.com
URL:https://student.instituteofhealth.com/event/client-health-cases-3-2/2029-07-10/
CATEGORIES:health initiative
END:VEVENT
BEGIN:VEVENT
DTSTART;TZID=UTC:20290711T060000
DTEND;TZID=UTC:20290711T073000
DTSTAMP:20260422T180516
CREATED:20260406T043015
LAST-MODIFIED:20260406T043015
UID:10012075-1878444000-1878449400@student.instituteofhealth.com
SUMMARY:Client Health Cases
DESCRIPTION:Zoom link: masterclass.instituteofhealth.com
URL:https://student.instituteofhealth.com/event/client-health-cases-2-2-2-2/2029-07-11/
END:VEVENT
BEGIN:VEVENT
DTSTART;TZID=UTC:20290711T200000
DTEND;TZID=UTC:20290711T213000
DTSTAMP:20260422T180516
CREATED:20260406T043044
LAST-MODIFIED:20260406T043044
UID:10011541-1878494400-1878499800@student.instituteofhealth.com
SUMMARY:Client Health Cases
DESCRIPTION:Zoom link: masterclass.instituteofhealth.com
URL:https://student.instituteofhealth.com/event/client-health-cases-4-2/2029-07-12/
CATEGORIES:health initiative
END:VEVENT
BEGIN:VEVENT
DTSTART;TZID=UTC:20290717T070000
DTEND;TZID=UTC:20290717T083000
DTSTAMP:20260422T180516
CREATED:20260115T025352
LAST-MODIFIED:20260402T034906
UID:10010764-1878966000-1878971400@student.instituteofhealth.com
SUMMARY:Client Health Cases
DESCRIPTION:Zoom link: masterclass.instituteofhealth.com
URL:https://student.instituteofhealth.com/event/client-health-cases-3-2/2029-07-17/
CATEGORIES:health initiative
END:VEVENT
BEGIN:VEVENT
DTSTART;TZID=UTC:20290718T060000
DTEND;TZID=UTC:20290718T073000
DTSTAMP:20260422T180516
CREATED:20260406T043015
LAST-MODIFIED:20260406T043015
UID:10012076-1879048800-1879054200@student.instituteofhealth.com
SUMMARY:Client Health Cases
DESCRIPTION:Zoom link: masterclass.instituteofhealth.com
URL:https://student.instituteofhealth.com/event/client-health-cases-2-2-2-2/2029-07-18/
END:VEVENT
BEGIN:VEVENT
DTSTART;TZID=UTC:20290718T200000
DTEND;TZID=UTC:20290718T213000
DTSTAMP:20260422T180516
CREATED:20260406T043044
LAST-MODIFIED:20260406T043044
UID:10011542-1879099200-1879104600@student.instituteofhealth.com
SUMMARY:Client Health Cases
DESCRIPTION:Zoom link: masterclass.instituteofhealth.com
URL:https://student.instituteofhealth.com/event/client-health-cases-4-2/2029-07-19/
CATEGORIES:health initiative
END:VEVENT
BEGIN:VEVENT
DTSTART;TZID=UTC:20290724T070000
DTEND;TZID=UTC:20290724T083000
DTSTAMP:20260422T180516
CREATED:20260115T025352
LAST-MODIFIED:20260402T034906
UID:10010765-1879570800-1879576200@student.instituteofhealth.com
SUMMARY:Client Health Cases
DESCRIPTION:Zoom link: masterclass.instituteofhealth.com
URL:https://student.instituteofhealth.com/event/client-health-cases-3-2/2029-07-24/
CATEGORIES:health initiative
END:VEVENT
BEGIN:VEVENT
DTSTART;TZID=UTC:20290725T060000
DTEND;TZID=UTC:20290725T073000
DTSTAMP:20260422T180516
CREATED:20260406T043015
LAST-MODIFIED:20260406T043015
UID:10012077-1879653600-1879659000@student.instituteofhealth.com
SUMMARY:Client Health Cases
DESCRIPTION:Zoom link: masterclass.instituteofhealth.com
URL:https://student.instituteofhealth.com/event/client-health-cases-2-2-2-2/2029-07-25/
END:VEVENT
BEGIN:VEVENT
DTSTART;TZID=UTC:20290725T200000
DTEND;TZID=UTC:20290725T213000
DTSTAMP:20260422T180516
CREATED:20260406T043044
LAST-MODIFIED:20260406T043044
UID:10011543-1879704000-1879709400@student.instituteofhealth.com
SUMMARY:Client Health Cases
DESCRIPTION:Zoom link: masterclass.instituteofhealth.com
URL:https://student.instituteofhealth.com/event/client-health-cases-4-2/2029-07-26/
CATEGORIES:health initiative
END:VEVENT
BEGIN:VEVENT
DTSTART;TZID=UTC:20290731T070000
DTEND;TZID=UTC:20290731T083000
DTSTAMP:20260422T180516
CREATED:20260115T025352
LAST-MODIFIED:20260402T034906
UID:10010766-1880175600-1880181000@student.instituteofhealth.com
SUMMARY:Client Health Cases
DESCRIPTION:Zoom link: masterclass.instituteofhealth.com
URL:https://student.instituteofhealth.com/event/client-health-cases-3-2/2029-07-31/
CATEGORIES:health initiative
END:VEVENT
BEGIN:VEVENT
DTSTART;TZID=UTC:20290801T060000
DTEND;TZID=UTC:20290801T073000
DTSTAMP:20260422T180516
CREATED:20260406T043015
LAST-MODIFIED:20260406T043015
UID:10012078-1880258400-1880263800@student.instituteofhealth.com
SUMMARY:Client Health Cases
DESCRIPTION:Zoom link: masterclass.instituteofhealth.com
URL:https://student.instituteofhealth.com/event/client-health-cases-2-2-2-2/2029-08-01/
END:VEVENT
BEGIN:VEVENT
DTSTART;TZID=UTC:20290801T200000
DTEND;TZID=UTC:20290801T213000
DTSTAMP:20260422T180516
CREATED:20260406T043044
LAST-MODIFIED:20260406T043044
UID:10011544-1880308800-1880314200@student.instituteofhealth.com
SUMMARY:Client Health Cases
DESCRIPTION:Zoom link: masterclass.instituteofhealth.com
URL:https://student.instituteofhealth.com/event/client-health-cases-4-2/2029-08-02/
CATEGORIES:health initiative
END:VEVENT
BEGIN:VEVENT
DTSTART;TZID=UTC:20290807T070000
DTEND;TZID=UTC:20290807T083000
DTSTAMP:20260422T180516
CREATED:20260115T025352
LAST-MODIFIED:20260402T034906
UID:10010767-1880780400-1880785800@student.instituteofhealth.com
SUMMARY:Client Health Cases
DESCRIPTION:Zoom link: masterclass.instituteofhealth.com
URL:https://student.instituteofhealth.com/event/client-health-cases-3-2/2029-08-07/
CATEGORIES:health initiative
END:VEVENT
BEGIN:VEVENT
DTSTART;TZID=UTC:20290808T060000
DTEND;TZID=UTC:20290808T073000
DTSTAMP:20260422T180516
CREATED:20260406T043015
LAST-MODIFIED:20260406T043015
UID:10012079-1880863200-1880868600@student.instituteofhealth.com
SUMMARY:Client Health Cases
DESCRIPTION:Zoom link: masterclass.instituteofhealth.com
URL:https://student.instituteofhealth.com/event/client-health-cases-2-2-2-2/2029-08-08/
END:VEVENT
BEGIN:VEVENT
DTSTART;TZID=UTC:20290808T200000
DTEND;TZID=UTC:20290808T213000
DTSTAMP:20260422T180516
CREATED:20260406T043044
LAST-MODIFIED:20260406T043044
UID:10011545-1880913600-1880919000@student.instituteofhealth.com
SUMMARY:Client Health Cases
DESCRIPTION:Zoom link: masterclass.instituteofhealth.com
URL:https://student.instituteofhealth.com/event/client-health-cases-4-2/2029-08-09/
CATEGORIES:health initiative
END:VEVENT
BEGIN:VEVENT
DTSTART;TZID=UTC:20290814T070000
DTEND;TZID=UTC:20290814T083000
DTSTAMP:20260422T180516
CREATED:20260115T025352
LAST-MODIFIED:20260402T034906
UID:10010768-1881385200-1881390600@student.instituteofhealth.com
SUMMARY:Client Health Cases
DESCRIPTION:Zoom link: masterclass.instituteofhealth.com
URL:https://student.instituteofhealth.com/event/client-health-cases-3-2/2029-08-14/
CATEGORIES:health initiative
END:VEVENT
BEGIN:VEVENT
DTSTART;TZID=UTC:20290815T060000
DTEND;TZID=UTC:20290815T073000
DTSTAMP:20260422T180516
CREATED:20260406T043015
LAST-MODIFIED:20260406T043015
UID:10012080-1881468000-1881473400@student.instituteofhealth.com
SUMMARY:Client Health Cases
DESCRIPTION:Zoom link: masterclass.instituteofhealth.com
URL:https://student.instituteofhealth.com/event/client-health-cases-2-2-2-2/2029-08-15/
END:VEVENT
BEGIN:VEVENT
DTSTART;TZID=UTC:20290815T200000
DTEND;TZID=UTC:20290815T213000
DTSTAMP:20260422T180516
CREATED:20260406T043044
LAST-MODIFIED:20260406T043044
UID:10011546-1881518400-1881523800@student.instituteofhealth.com
SUMMARY:Client Health Cases
DESCRIPTION:Zoom link: masterclass.instituteofhealth.com
URL:https://student.instituteofhealth.com/event/client-health-cases-4-2/2029-08-16/
CATEGORIES:health initiative
END:VEVENT
BEGIN:VEVENT
DTSTART;TZID=UTC:20290821T070000
DTEND;TZID=UTC:20290821T083000
DTSTAMP:20260422T180516
CREATED:20260115T025352
LAST-MODIFIED:20260402T034906
UID:10010769-1881990000-1881995400@student.instituteofhealth.com
SUMMARY:Client Health Cases
DESCRIPTION:Zoom link: masterclass.instituteofhealth.com
URL:https://student.instituteofhealth.com/event/client-health-cases-3-2/2029-08-21/
CATEGORIES:health initiative
END:VEVENT
BEGIN:VEVENT
DTSTART;TZID=UTC:20290822T060000
DTEND;TZID=UTC:20290822T073000
DTSTAMP:20260422T180516
CREATED:20260406T043015
LAST-MODIFIED:20260406T043015
UID:10012081-1882072800-1882078200@student.instituteofhealth.com
SUMMARY:Client Health Cases
DESCRIPTION:Zoom link: masterclass.instituteofhealth.com
URL:https://student.instituteofhealth.com/event/client-health-cases-2-2-2-2/2029-08-22/
END:VEVENT
END:VCALENDAR