BEGIN:VCALENDAR
VERSION:2.0
PRODID:-//Institute of Health - ECPv6.3.5//NONSGML v1.0//EN
CALSCALE:GREGORIAN
METHOD:PUBLISH
X-WR-CALNAME:Institute of Health
X-ORIGINAL-URL:https://student.instituteofhealth.com
X-WR-CALDESC:Events for Institute of Health
REFRESH-INTERVAL;VALUE=DURATION:PT1H
X-Robots-Tag:noindex
X-PUBLISHED-TTL:PT1H
BEGIN:VTIMEZONE
TZID:Australia/Melbourne
BEGIN:STANDARD
TZOFFSETFROM:+1100
TZOFFSETTO:+1000
TZNAME:AEST
DTSTART:20260404T160000
END:STANDARD
BEGIN:DAYLIGHT
TZOFFSETFROM:+1000
TZOFFSETTO:+1100
TZNAME:AEDT
DTSTART:20261003T160000
END:DAYLIGHT
BEGIN:STANDARD
TZOFFSETFROM:+1100
TZOFFSETTO:+1000
TZNAME:AEST
DTSTART:20270403T160000
END:STANDARD
BEGIN:DAYLIGHT
TZOFFSETFROM:+1000
TZOFFSETTO:+1100
TZNAME:AEDT
DTSTART:20271002T160000
END:DAYLIGHT
END:VTIMEZONE
BEGIN:VEVENT
DTSTART;TZID=UTC:20261228T070000
DTEND;TZID=UTC:20261228T083000
DTSTAMP:20260420T045242
CREATED:20260115T025406
LAST-MODIFIED:20260402T034618
UID:10010334-1798441200-1798446600@student.instituteofhealth.com
SUMMARY:Business Accelerator
DESCRIPTION:http://masterclass.instituteofhealth.com/
URL:https://student.instituteofhealth.com/event/business-masterclass-2-2/2026-12-28/
END:VEVENT
BEGIN:VEVENT
DTSTART;TZID=UTC:20270104T070000
DTEND;TZID=UTC:20270104T083000
DTSTAMP:20260420T045242
CREATED:20260115T025406
LAST-MODIFIED:20260402T034618
UID:10007811-1799046000-1799051400@student.instituteofhealth.com
SUMMARY:Business Accelerator
DESCRIPTION:http://masterclass.instituteofhealth.com/
URL:https://student.instituteofhealth.com/event/business-masterclass-2-2/2027-01-04/
END:VEVENT
BEGIN:VEVENT
DTSTART;TZID=UTC:20270111T070000
DTEND;TZID=UTC:20270111T083000
DTSTAMP:20260420T045242
CREATED:20260115T025406
LAST-MODIFIED:20260402T034618
UID:10010335-1799650800-1799656200@student.instituteofhealth.com
SUMMARY:Business Accelerator
DESCRIPTION:http://masterclass.instituteofhealth.com/
URL:https://student.instituteofhealth.com/event/business-masterclass-2-2/2027-01-11/
END:VEVENT
BEGIN:VEVENT
DTSTART;TZID=UTC:20270118T070000
DTEND;TZID=UTC:20270118T083000
DTSTAMP:20260420T045242
CREATED:20260115T025406
LAST-MODIFIED:20260402T034618
UID:10010336-1800255600-1800261000@student.instituteofhealth.com
SUMMARY:Business Accelerator
DESCRIPTION:http://masterclass.instituteofhealth.com/
URL:https://student.instituteofhealth.com/event/business-masterclass-2-2/2027-01-18/
END:VEVENT
BEGIN:VEVENT
DTSTART;TZID=UTC:20270125T070000
DTEND;TZID=UTC:20270125T083000
DTSTAMP:20260420T045242
CREATED:20260115T025406
LAST-MODIFIED:20260402T034618
UID:10010337-1800860400-1800865800@student.instituteofhealth.com
SUMMARY:Business Accelerator
DESCRIPTION:http://masterclass.instituteofhealth.com/
URL:https://student.instituteofhealth.com/event/business-masterclass-2-2/2027-01-25/
END:VEVENT
BEGIN:VEVENT
DTSTART;TZID=UTC:20270201T070000
DTEND;TZID=UTC:20270201T083000
DTSTAMP:20260420T045242
CREATED:20260115T025406
LAST-MODIFIED:20260402T034618
UID:10007812-1801465200-1801470600@student.instituteofhealth.com
SUMMARY:Business Accelerator
DESCRIPTION:http://masterclass.instituteofhealth.com/
URL:https://student.instituteofhealth.com/event/business-masterclass-2-2/2027-02-01/
END:VEVENT
BEGIN:VEVENT
DTSTART;TZID=UTC:20270208T070000
DTEND;TZID=UTC:20270208T083000
DTSTAMP:20260420T045242
CREATED:20260115T025406
LAST-MODIFIED:20260402T034618
UID:10010338-1802070000-1802075400@student.instituteofhealth.com
SUMMARY:Business Accelerator
DESCRIPTION:http://masterclass.instituteofhealth.com/
URL:https://student.instituteofhealth.com/event/business-masterclass-2-2/2027-02-08/
END:VEVENT
BEGIN:VEVENT
DTSTART;TZID=UTC:20270215T070000
DTEND;TZID=UTC:20270215T083000
DTSTAMP:20260420T045242
CREATED:20260115T025406
LAST-MODIFIED:20260402T034618
UID:10010339-1802674800-1802680200@student.instituteofhealth.com
SUMMARY:Business Accelerator
DESCRIPTION:http://masterclass.instituteofhealth.com/
URL:https://student.instituteofhealth.com/event/business-masterclass-2-2/2027-02-15/
END:VEVENT
BEGIN:VEVENT
DTSTART;TZID=UTC:20270222T070000
DTEND;TZID=UTC:20270222T083000
DTSTAMP:20260420T045242
CREATED:20260115T025406
LAST-MODIFIED:20260402T034618
UID:10010340-1803279600-1803285000@student.instituteofhealth.com
SUMMARY:Business Accelerator
DESCRIPTION:http://masterclass.instituteofhealth.com/
URL:https://student.instituteofhealth.com/event/business-masterclass-2-2/2027-02-22/
END:VEVENT
BEGIN:VEVENT
DTSTART;TZID=UTC:20270301T070000
DTEND;TZID=UTC:20270301T083000
DTSTAMP:20260420T045242
CREATED:20260115T025406
LAST-MODIFIED:20260402T034618
UID:10007813-1803884400-1803889800@student.instituteofhealth.com
SUMMARY:Business Accelerator
DESCRIPTION:http://masterclass.instituteofhealth.com/
URL:https://student.instituteofhealth.com/event/business-masterclass-2-2/2027-03-01/
END:VEVENT
BEGIN:VEVENT
DTSTART;TZID=UTC:20270308T070000
DTEND;TZID=UTC:20270308T083000
DTSTAMP:20260420T045242
CREATED:20260115T025406
LAST-MODIFIED:20260402T034618
UID:10010341-1804489200-1804494600@student.instituteofhealth.com
SUMMARY:Business Accelerator
DESCRIPTION:http://masterclass.instituteofhealth.com/
URL:https://student.instituteofhealth.com/event/business-masterclass-2-2/2027-03-08/
END:VEVENT
BEGIN:VEVENT
DTSTART;TZID=UTC:20270315T070000
DTEND;TZID=UTC:20270315T083000
DTSTAMP:20260420T045242
CREATED:20260115T025406
LAST-MODIFIED:20260402T034618
UID:10010342-1805094000-1805099400@student.instituteofhealth.com
SUMMARY:Business Accelerator
DESCRIPTION:http://masterclass.instituteofhealth.com/
URL:https://student.instituteofhealth.com/event/business-masterclass-2-2/2027-03-15/
END:VEVENT
BEGIN:VEVENT
DTSTART;TZID=UTC:20270322T070000
DTEND;TZID=UTC:20270322T083000
DTSTAMP:20260420T045242
CREATED:20260115T025406
LAST-MODIFIED:20260402T034618
UID:10010343-1805698800-1805704200@student.instituteofhealth.com
SUMMARY:Business Accelerator
DESCRIPTION:http://masterclass.instituteofhealth.com/
URL:https://student.instituteofhealth.com/event/business-masterclass-2-2/2027-03-22/
END:VEVENT
BEGIN:VEVENT
DTSTART;TZID=UTC:20270329T070000
DTEND;TZID=UTC:20270329T083000
DTSTAMP:20260420T045242
CREATED:20260115T025406
LAST-MODIFIED:20260402T034618
UID:10010344-1806303600-1806309000@student.instituteofhealth.com
SUMMARY:Business Accelerator
DESCRIPTION:http://masterclass.instituteofhealth.com/
URL:https://student.instituteofhealth.com/event/business-masterclass-2-2/2027-03-29/
END:VEVENT
BEGIN:VEVENT
DTSTART;TZID=UTC:20270405T070000
DTEND;TZID=UTC:20270405T083000
DTSTAMP:20260420T045242
CREATED:20260115T025406
LAST-MODIFIED:20260402T034618
UID:10007814-1806908400-1806913800@student.instituteofhealth.com
SUMMARY:Business Accelerator
DESCRIPTION:http://masterclass.instituteofhealth.com/
URL:https://student.instituteofhealth.com/event/business-masterclass-2-2/2027-04-05/
END:VEVENT
BEGIN:VEVENT
DTSTART;TZID=UTC:20270412T070000
DTEND;TZID=UTC:20270412T083000
DTSTAMP:20260420T045242
CREATED:20260115T025406
LAST-MODIFIED:20260402T034618
UID:10010345-1807513200-1807518600@student.instituteofhealth.com
SUMMARY:Business Accelerator
DESCRIPTION:http://masterclass.instituteofhealth.com/
URL:https://student.instituteofhealth.com/event/business-masterclass-2-2/2027-04-12/
END:VEVENT
BEGIN:VEVENT
DTSTART;TZID=UTC:20270419T070000
DTEND;TZID=UTC:20270419T083000
DTSTAMP:20260420T045242
CREATED:20260115T025406
LAST-MODIFIED:20260402T034618
UID:10010346-1808118000-1808123400@student.instituteofhealth.com
SUMMARY:Business Accelerator
DESCRIPTION:http://masterclass.instituteofhealth.com/
URL:https://student.instituteofhealth.com/event/business-masterclass-2-2/2027-04-19/
END:VEVENT
BEGIN:VEVENT
DTSTART;TZID=UTC:20270426T070000
DTEND;TZID=UTC:20270426T083000
DTSTAMP:20260420T045242
CREATED:20260115T025406
LAST-MODIFIED:20260402T034618
UID:10010347-1808722800-1808728200@student.instituteofhealth.com
SUMMARY:Business Accelerator
DESCRIPTION:http://masterclass.instituteofhealth.com/
URL:https://student.instituteofhealth.com/event/business-masterclass-2-2/2027-04-26/
END:VEVENT
BEGIN:VEVENT
DTSTART;TZID=UTC:20270503T070000
DTEND;TZID=UTC:20270503T083000
DTSTAMP:20260420T045242
CREATED:20260115T025406
LAST-MODIFIED:20260402T034618
UID:10007815-1809327600-1809333000@student.instituteofhealth.com
SUMMARY:Business Accelerator
DESCRIPTION:http://masterclass.instituteofhealth.com/
URL:https://student.instituteofhealth.com/event/business-masterclass-2-2/2027-05-03/
END:VEVENT
BEGIN:VEVENT
DTSTART;TZID=UTC:20270510T070000
DTEND;TZID=UTC:20270510T083000
DTSTAMP:20260420T045242
CREATED:20260115T025406
LAST-MODIFIED:20260402T034618
UID:10010348-1809932400-1809937800@student.instituteofhealth.com
SUMMARY:Business Accelerator
DESCRIPTION:http://masterclass.instituteofhealth.com/
URL:https://student.instituteofhealth.com/event/business-masterclass-2-2/2027-05-10/
END:VEVENT
BEGIN:VEVENT
DTSTART;TZID=UTC:20270517T070000
DTEND;TZID=UTC:20270517T083000
DTSTAMP:20260420T045242
CREATED:20260115T025406
LAST-MODIFIED:20260402T034618
UID:10010349-1810537200-1810542600@student.instituteofhealth.com
SUMMARY:Business Accelerator
DESCRIPTION:http://masterclass.instituteofhealth.com/
URL:https://student.instituteofhealth.com/event/business-masterclass-2-2/2027-05-17/
END:VEVENT
BEGIN:VEVENT
DTSTART;TZID=UTC:20270524T070000
DTEND;TZID=UTC:20270524T083000
DTSTAMP:20260420T045242
CREATED:20260115T025406
LAST-MODIFIED:20260402T034618
UID:10010350-1811142000-1811147400@student.instituteofhealth.com
SUMMARY:Business Accelerator
DESCRIPTION:http://masterclass.instituteofhealth.com/
URL:https://student.instituteofhealth.com/event/business-masterclass-2-2/2027-05-24/
END:VEVENT
BEGIN:VEVENT
DTSTART;TZID=UTC:20270531T070000
DTEND;TZID=UTC:20270531T083000
DTSTAMP:20260420T045242
CREATED:20260115T025406
LAST-MODIFIED:20260402T034618
UID:10010351-1811746800-1811752200@student.instituteofhealth.com
SUMMARY:Business Accelerator
DESCRIPTION:http://masterclass.instituteofhealth.com/
URL:https://student.instituteofhealth.com/event/business-masterclass-2-2/2027-05-31/
END:VEVENT
BEGIN:VEVENT
DTSTART;TZID=UTC:20270607T070000
DTEND;TZID=UTC:20270607T083000
DTSTAMP:20260420T045242
CREATED:20260115T025406
LAST-MODIFIED:20260402T034618
UID:10007816-1812351600-1812357000@student.instituteofhealth.com
SUMMARY:Business Accelerator
DESCRIPTION:http://masterclass.instituteofhealth.com/
URL:https://student.instituteofhealth.com/event/business-masterclass-2-2/2027-06-07/
END:VEVENT
BEGIN:VEVENT
DTSTART;TZID=UTC:20270614T070000
DTEND;TZID=UTC:20270614T083000
DTSTAMP:20260420T045242
CREATED:20260115T025406
LAST-MODIFIED:20260402T034618
UID:10010352-1812956400-1812961800@student.instituteofhealth.com
SUMMARY:Business Accelerator
DESCRIPTION:http://masterclass.instituteofhealth.com/
URL:https://student.instituteofhealth.com/event/business-masterclass-2-2/2027-06-14/
END:VEVENT
BEGIN:VEVENT
DTSTART;TZID=UTC:20270621T070000
DTEND;TZID=UTC:20270621T083000
DTSTAMP:20260420T045242
CREATED:20260115T025406
LAST-MODIFIED:20260402T034618
UID:10010353-1813561200-1813566600@student.instituteofhealth.com
SUMMARY:Business Accelerator
DESCRIPTION:http://masterclass.instituteofhealth.com/
URL:https://student.instituteofhealth.com/event/business-masterclass-2-2/2027-06-21/
END:VEVENT
BEGIN:VEVENT
DTSTART;TZID=UTC:20270628T070000
DTEND;TZID=UTC:20270628T083000
DTSTAMP:20260420T045242
CREATED:20260115T025406
LAST-MODIFIED:20260402T034618
UID:10010354-1814166000-1814171400@student.instituteofhealth.com
SUMMARY:Business Accelerator
DESCRIPTION:http://masterclass.instituteofhealth.com/
URL:https://student.instituteofhealth.com/event/business-masterclass-2-2/2027-06-28/
END:VEVENT
BEGIN:VEVENT
DTSTART;TZID=UTC:20270705T070000
DTEND;TZID=UTC:20270705T083000
DTSTAMP:20260420T045242
CREATED:20260115T025406
LAST-MODIFIED:20260402T034618
UID:10007817-1814770800-1814776200@student.instituteofhealth.com
SUMMARY:Business Accelerator
DESCRIPTION:http://masterclass.instituteofhealth.com/
URL:https://student.instituteofhealth.com/event/business-masterclass-2-2/2027-07-05/
END:VEVENT
BEGIN:VEVENT
DTSTART;TZID=UTC:20270712T070000
DTEND;TZID=UTC:20270712T083000
DTSTAMP:20260420T045242
CREATED:20260115T025406
LAST-MODIFIED:20260402T034618
UID:10010355-1815375600-1815381000@student.instituteofhealth.com
SUMMARY:Business Accelerator
DESCRIPTION:http://masterclass.instituteofhealth.com/
URL:https://student.instituteofhealth.com/event/business-masterclass-2-2/2027-07-12/
END:VEVENT
BEGIN:VEVENT
DTSTART;TZID=UTC:20270719T070000
DTEND;TZID=UTC:20270719T083000
DTSTAMP:20260420T045242
CREATED:20260115T025406
LAST-MODIFIED:20260402T034618
UID:10010356-1815980400-1815985800@student.instituteofhealth.com
SUMMARY:Business Accelerator
DESCRIPTION:http://masterclass.instituteofhealth.com/
URL:https://student.instituteofhealth.com/event/business-masterclass-2-2/2027-07-19/
END:VEVENT
END:VCALENDAR