BEGIN:VCALENDAR
VERSION:2.0
PRODID:-//Institute of Health - ECPv6.3.5//NONSGML v1.0//EN
CALSCALE:GREGORIAN
METHOD:PUBLISH
X-WR-CALNAME:Institute of Health
X-ORIGINAL-URL:https://student.instituteofhealth.com
X-WR-CALDESC:Events for Institute of Health
REFRESH-INTERVAL;VALUE=DURATION:PT1H
X-Robots-Tag:noindex
X-PUBLISHED-TTL:PT1H
BEGIN:VTIMEZONE
TZID:Australia/Melbourne
BEGIN:STANDARD
TZOFFSETFROM:+1100
TZOFFSETTO:+1000
TZNAME:AEST
DTSTART:20290331T160000
END:STANDARD
BEGIN:DAYLIGHT
TZOFFSETFROM:+1000
TZOFFSETTO:+1100
TZNAME:AEDT
DTSTART:20291006T160000
END:DAYLIGHT
TZID:Australia/Brisbane
BEGIN:STANDARD
TZOFFSETFROM:+1000
TZOFFSETTO:+1000
TZNAME:AEST
DTSTART:20281231T140000
END:STANDARD
END:VTIMEZONE
BEGIN:VEVENT
DTSTART;TZID=UTC:20290321T060000
DTEND;TZID=UTC:20290321T073000
DTSTAMP:20260422T134244
CREATED:20260406T043015
LAST-MODIFIED:20260406T043015
UID:10012059-1868767200-1868772600@student.instituteofhealth.com
SUMMARY:Client Health Cases
DESCRIPTION:Zoom link: masterclass.instituteofhealth.com
URL:https://student.instituteofhealth.com/event/client-health-cases-2-2-2-2/2029-03-21/
END:VEVENT
BEGIN:VEVENT
DTSTART;TZID=UTC:20290321T200000
DTEND;TZID=UTC:20290321T213000
DTSTAMP:20260422T134244
CREATED:20260406T043044
LAST-MODIFIED:20260406T043044
UID:10011525-1868817600-1868823000@student.instituteofhealth.com
SUMMARY:Client Health Cases
DESCRIPTION:Zoom link: masterclass.instituteofhealth.com
URL:https://student.instituteofhealth.com/event/client-health-cases-4-2/2029-03-22/
CATEGORIES:health initiative
END:VEVENT
BEGIN:VEVENT
DTSTART;TZID=UTC:20290327T070000
DTEND;TZID=UTC:20290327T083000
DTSTAMP:20260422T134244
CREATED:20260115T025352
LAST-MODIFIED:20260402T034906
UID:10010748-1869289200-1869294600@student.instituteofhealth.com
SUMMARY:Client Health Cases
DESCRIPTION:Zoom link: masterclass.instituteofhealth.com
URL:https://student.instituteofhealth.com/event/client-health-cases-3-2/2029-03-27/
CATEGORIES:health initiative
END:VEVENT
BEGIN:VEVENT
DTSTART;TZID=UTC:20290328T060000
DTEND;TZID=UTC:20290328T073000
DTSTAMP:20260422T134244
CREATED:20260406T043015
LAST-MODIFIED:20260406T043015
UID:10012060-1869372000-1869377400@student.instituteofhealth.com
SUMMARY:Client Health Cases
DESCRIPTION:Zoom link: masterclass.instituteofhealth.com
URL:https://student.instituteofhealth.com/event/client-health-cases-2-2-2-2/2029-03-28/
END:VEVENT
BEGIN:VEVENT
DTSTART;TZID=UTC:20290328T200000
DTEND;TZID=UTC:20290328T213000
DTSTAMP:20260422T134244
CREATED:20260406T043044
LAST-MODIFIED:20260406T043044
UID:10011526-1869422400-1869427800@student.instituteofhealth.com
SUMMARY:Client Health Cases
DESCRIPTION:Zoom link: masterclass.instituteofhealth.com
URL:https://student.instituteofhealth.com/event/client-health-cases-4-2/2029-03-29/
CATEGORIES:health initiative
END:VEVENT
BEGIN:VEVENT
DTSTART;TZID=UTC:20290403T070000
DTEND;TZID=UTC:20290403T083000
DTSTAMP:20260422T134244
CREATED:20260115T025352
LAST-MODIFIED:20260402T034906
UID:10010749-1869894000-1869899400@student.instituteofhealth.com
SUMMARY:Client Health Cases
DESCRIPTION:Zoom link: masterclass.instituteofhealth.com
URL:https://student.instituteofhealth.com/event/client-health-cases-3-2/2029-04-03/
CATEGORIES:health initiative
END:VEVENT
BEGIN:VEVENT
DTSTART;TZID=UTC:20290404T060000
DTEND;TZID=UTC:20290404T073000
DTSTAMP:20260422T134244
CREATED:20260406T043015
LAST-MODIFIED:20260406T043015
UID:10012061-1869976800-1869982200@student.instituteofhealth.com
SUMMARY:Client Health Cases
DESCRIPTION:Zoom link: masterclass.instituteofhealth.com
URL:https://student.instituteofhealth.com/event/client-health-cases-2-2-2-2/2029-04-04/
END:VEVENT
BEGIN:VEVENT
DTSTART;TZID=UTC:20290404T200000
DTEND;TZID=UTC:20290404T213000
DTSTAMP:20260422T134244
CREATED:20260406T043044
LAST-MODIFIED:20260406T043044
UID:10011527-1870027200-1870032600@student.instituteofhealth.com
SUMMARY:Client Health Cases
DESCRIPTION:Zoom link: masterclass.instituteofhealth.com
URL:https://student.instituteofhealth.com/event/client-health-cases-4-2/2029-04-05/
CATEGORIES:health initiative
END:VEVENT
BEGIN:VEVENT
DTSTART;TZID=UTC:20290410T070000
DTEND;TZID=UTC:20290410T083000
DTSTAMP:20260422T134244
CREATED:20260115T025352
LAST-MODIFIED:20260402T034906
UID:10010750-1870498800-1870504200@student.instituteofhealth.com
SUMMARY:Client Health Cases
DESCRIPTION:Zoom link: masterclass.instituteofhealth.com
URL:https://student.instituteofhealth.com/event/client-health-cases-3-2/2029-04-10/
CATEGORIES:health initiative
END:VEVENT
BEGIN:VEVENT
DTSTART;TZID=UTC:20290411T060000
DTEND;TZID=UTC:20290411T073000
DTSTAMP:20260422T134244
CREATED:20260406T043015
LAST-MODIFIED:20260406T043015
UID:10012062-1870581600-1870587000@student.instituteofhealth.com
SUMMARY:Client Health Cases
DESCRIPTION:Zoom link: masterclass.instituteofhealth.com
URL:https://student.instituteofhealth.com/event/client-health-cases-2-2-2-2/2029-04-11/
END:VEVENT
BEGIN:VEVENT
DTSTART;TZID=UTC:20290411T200000
DTEND;TZID=UTC:20290411T213000
DTSTAMP:20260422T134244
CREATED:20260406T043044
LAST-MODIFIED:20260406T043044
UID:10011528-1870632000-1870637400@student.instituteofhealth.com
SUMMARY:Client Health Cases
DESCRIPTION:Zoom link: masterclass.instituteofhealth.com
URL:https://student.instituteofhealth.com/event/client-health-cases-4-2/2029-04-12/
CATEGORIES:health initiative
END:VEVENT
BEGIN:VEVENT
DTSTART;TZID=UTC:20290417T070000
DTEND;TZID=UTC:20290417T083000
DTSTAMP:20260422T134244
CREATED:20260115T025352
LAST-MODIFIED:20260402T034906
UID:10010751-1871103600-1871109000@student.instituteofhealth.com
SUMMARY:Client Health Cases
DESCRIPTION:Zoom link: masterclass.instituteofhealth.com
URL:https://student.instituteofhealth.com/event/client-health-cases-3-2/2029-04-17/
CATEGORIES:health initiative
END:VEVENT
BEGIN:VEVENT
DTSTART;TZID=UTC:20290418T060000
DTEND;TZID=UTC:20290418T073000
DTSTAMP:20260422T134244
CREATED:20260406T043015
LAST-MODIFIED:20260406T043015
UID:10012063-1871186400-1871191800@student.instituteofhealth.com
SUMMARY:Client Health Cases
DESCRIPTION:Zoom link: masterclass.instituteofhealth.com
URL:https://student.instituteofhealth.com/event/client-health-cases-2-2-2-2/2029-04-18/
END:VEVENT
BEGIN:VEVENT
DTSTART;TZID=UTC:20290418T200000
DTEND;TZID=UTC:20290418T213000
DTSTAMP:20260422T134244
CREATED:20260406T043044
LAST-MODIFIED:20260406T043044
UID:10011529-1871236800-1871242200@student.instituteofhealth.com
SUMMARY:Client Health Cases
DESCRIPTION:Zoom link: masterclass.instituteofhealth.com
URL:https://student.instituteofhealth.com/event/client-health-cases-4-2/2029-04-19/
CATEGORIES:health initiative
END:VEVENT
BEGIN:VEVENT
DTSTART;TZID=UTC:20290424T070000
DTEND;TZID=UTC:20290424T083000
DTSTAMP:20260422T134244
CREATED:20260115T025352
LAST-MODIFIED:20260402T034906
UID:10010752-1871708400-1871713800@student.instituteofhealth.com
SUMMARY:Client Health Cases
DESCRIPTION:Zoom link: masterclass.instituteofhealth.com
URL:https://student.instituteofhealth.com/event/client-health-cases-3-2/2029-04-24/
CATEGORIES:health initiative
END:VEVENT
BEGIN:VEVENT
DTSTART;TZID=UTC:20290425T060000
DTEND;TZID=UTC:20290425T073000
DTSTAMP:20260422T134244
CREATED:20260406T043015
LAST-MODIFIED:20260406T043015
UID:10012064-1871791200-1871796600@student.instituteofhealth.com
SUMMARY:Client Health Cases
DESCRIPTION:Zoom link: masterclass.instituteofhealth.com
URL:https://student.instituteofhealth.com/event/client-health-cases-2-2-2-2/2029-04-25/
END:VEVENT
BEGIN:VEVENT
DTSTART;TZID=UTC:20290425T200000
DTEND;TZID=UTC:20290425T213000
DTSTAMP:20260422T134244
CREATED:20260406T043044
LAST-MODIFIED:20260406T043044
UID:10011530-1871841600-1871847000@student.instituteofhealth.com
SUMMARY:Client Health Cases
DESCRIPTION:Zoom link: masterclass.instituteofhealth.com
URL:https://student.instituteofhealth.com/event/client-health-cases-4-2/2029-04-26/
CATEGORIES:health initiative
END:VEVENT
BEGIN:VEVENT
DTSTART;TZID=UTC:20290501T070000
DTEND;TZID=UTC:20290501T083000
DTSTAMP:20260422T134244
CREATED:20260115T025352
LAST-MODIFIED:20260402T034906
UID:10010753-1872313200-1872318600@student.instituteofhealth.com
SUMMARY:Client Health Cases
DESCRIPTION:Zoom link: masterclass.instituteofhealth.com
URL:https://student.instituteofhealth.com/event/client-health-cases-3-2/2029-05-01/
CATEGORIES:health initiative
END:VEVENT
BEGIN:VEVENT
DTSTART;TZID=UTC:20290502T060000
DTEND;TZID=UTC:20290502T073000
DTSTAMP:20260422T134244
CREATED:20260406T043015
LAST-MODIFIED:20260406T043015
UID:10012065-1872396000-1872401400@student.instituteofhealth.com
SUMMARY:Client Health Cases
DESCRIPTION:Zoom link: masterclass.instituteofhealth.com
URL:https://student.instituteofhealth.com/event/client-health-cases-2-2-2-2/2029-05-02/
END:VEVENT
BEGIN:VEVENT
DTSTART;TZID=UTC:20290502T200000
DTEND;TZID=UTC:20290502T213000
DTSTAMP:20260422T134244
CREATED:20260406T043044
LAST-MODIFIED:20260406T043044
UID:10011531-1872446400-1872451800@student.instituteofhealth.com
SUMMARY:Client Health Cases
DESCRIPTION:Zoom link: masterclass.instituteofhealth.com
URL:https://student.instituteofhealth.com/event/client-health-cases-4-2/2029-05-03/
CATEGORIES:health initiative
END:VEVENT
BEGIN:VEVENT
DTSTART;TZID=UTC:20290508T070000
DTEND;TZID=UTC:20290508T083000
DTSTAMP:20260422T134244
CREATED:20260115T025352
LAST-MODIFIED:20260402T034906
UID:10010754-1872918000-1872923400@student.instituteofhealth.com
SUMMARY:Client Health Cases
DESCRIPTION:Zoom link: masterclass.instituteofhealth.com
URL:https://student.instituteofhealth.com/event/client-health-cases-3-2/2029-05-08/
CATEGORIES:health initiative
END:VEVENT
BEGIN:VEVENT
DTSTART;TZID=UTC:20290509T060000
DTEND;TZID=UTC:20290509T073000
DTSTAMP:20260422T134244
CREATED:20260406T043015
LAST-MODIFIED:20260406T043015
UID:10012066-1873000800-1873006200@student.instituteofhealth.com
SUMMARY:Client Health Cases
DESCRIPTION:Zoom link: masterclass.instituteofhealth.com
URL:https://student.instituteofhealth.com/event/client-health-cases-2-2-2-2/2029-05-09/
END:VEVENT
BEGIN:VEVENT
DTSTART;TZID=UTC:20290509T200000
DTEND;TZID=UTC:20290509T213000
DTSTAMP:20260422T134244
CREATED:20260406T043044
LAST-MODIFIED:20260406T043044
UID:10011532-1873051200-1873056600@student.instituteofhealth.com
SUMMARY:Client Health Cases
DESCRIPTION:Zoom link: masterclass.instituteofhealth.com
URL:https://student.instituteofhealth.com/event/client-health-cases-4-2/2029-05-10/
CATEGORIES:health initiative
END:VEVENT
BEGIN:VEVENT
DTSTART;TZID=UTC:20290515T070000
DTEND;TZID=UTC:20290515T083000
DTSTAMP:20260422T134244
CREATED:20260115T025352
LAST-MODIFIED:20260402T034906
UID:10010755-1873522800-1873528200@student.instituteofhealth.com
SUMMARY:Client Health Cases
DESCRIPTION:Zoom link: masterclass.instituteofhealth.com
URL:https://student.instituteofhealth.com/event/client-health-cases-3-2/2029-05-15/
CATEGORIES:health initiative
END:VEVENT
BEGIN:VEVENT
DTSTART;TZID=UTC:20290516T060000
DTEND;TZID=UTC:20290516T073000
DTSTAMP:20260422T134244
CREATED:20260406T043015
LAST-MODIFIED:20260406T043015
UID:10012067-1873605600-1873611000@student.instituteofhealth.com
SUMMARY:Client Health Cases
DESCRIPTION:Zoom link: masterclass.instituteofhealth.com
URL:https://student.instituteofhealth.com/event/client-health-cases-2-2-2-2/2029-05-16/
END:VEVENT
BEGIN:VEVENT
DTSTART;TZID=UTC:20290516T200000
DTEND;TZID=UTC:20290516T213000
DTSTAMP:20260422T134244
CREATED:20260406T043044
LAST-MODIFIED:20260406T043044
UID:10011533-1873656000-1873661400@student.instituteofhealth.com
SUMMARY:Client Health Cases
DESCRIPTION:Zoom link: masterclass.instituteofhealth.com
URL:https://student.instituteofhealth.com/event/client-health-cases-4-2/2029-05-17/
CATEGORIES:health initiative
END:VEVENT
BEGIN:VEVENT
DTSTART;TZID=UTC:20290522T070000
DTEND;TZID=UTC:20290522T083000
DTSTAMP:20260422T134244
CREATED:20260115T025352
LAST-MODIFIED:20260402T034906
UID:10010756-1874127600-1874133000@student.instituteofhealth.com
SUMMARY:Client Health Cases
DESCRIPTION:Zoom link: masterclass.instituteofhealth.com
URL:https://student.instituteofhealth.com/event/client-health-cases-3-2/2029-05-22/
CATEGORIES:health initiative
END:VEVENT
BEGIN:VEVENT
DTSTART;TZID=UTC:20290523T060000
DTEND;TZID=UTC:20290523T073000
DTSTAMP:20260422T134244
CREATED:20260406T043015
LAST-MODIFIED:20260406T043015
UID:10012068-1874210400-1874215800@student.instituteofhealth.com
SUMMARY:Client Health Cases
DESCRIPTION:Zoom link: masterclass.instituteofhealth.com
URL:https://student.instituteofhealth.com/event/client-health-cases-2-2-2-2/2029-05-23/
END:VEVENT
BEGIN:VEVENT
DTSTART;TZID=UTC:20290523T200000
DTEND;TZID=UTC:20290523T213000
DTSTAMP:20260422T134244
CREATED:20260406T043044
LAST-MODIFIED:20260406T043044
UID:10011534-1874260800-1874266200@student.instituteofhealth.com
SUMMARY:Client Health Cases
DESCRIPTION:Zoom link: masterclass.instituteofhealth.com
URL:https://student.instituteofhealth.com/event/client-health-cases-4-2/2029-05-24/
CATEGORIES:health initiative
END:VEVENT
BEGIN:VEVENT
DTSTART;TZID=UTC:20290529T070000
DTEND;TZID=UTC:20290529T083000
DTSTAMP:20260422T134244
CREATED:20260115T025352
LAST-MODIFIED:20260402T034906
UID:10010757-1874732400-1874737800@student.instituteofhealth.com
SUMMARY:Client Health Cases
DESCRIPTION:Zoom link: masterclass.instituteofhealth.com
URL:https://student.instituteofhealth.com/event/client-health-cases-3-2/2029-05-29/
CATEGORIES:health initiative
END:VEVENT
END:VCALENDAR