BEGIN:VCALENDAR
VERSION:2.0
PRODID:-//Institute of Health - ECPv6.3.5//NONSGML v1.0//EN
CALSCALE:GREGORIAN
METHOD:PUBLISH
X-ORIGINAL-URL:https://student.instituteofhealth.com
X-WR-CALDESC:Events for Institute of Health
REFRESH-INTERVAL;VALUE=DURATION:PT1H
X-Robots-Tag:noindex
X-PUBLISHED-TTL:PT1H
BEGIN:VTIMEZONE
TZID:Australia/Melbourne
BEGIN:STANDARD
TZOFFSETFROM:+1100
TZOFFSETTO:+1000
TZNAME:AEST
DTSTART:20280401T160000
END:STANDARD
BEGIN:DAYLIGHT
TZOFFSETFROM:+1000
TZOFFSETTO:+1100
TZNAME:AEDT
DTSTART:20280930T160000
END:DAYLIGHT
BEGIN:STANDARD
TZOFFSETFROM:+1100
TZOFFSETTO:+1000
TZNAME:AEST
DTSTART:20290331T160000
END:STANDARD
BEGIN:DAYLIGHT
TZOFFSETFROM:+1000
TZOFFSETTO:+1100
TZNAME:AEDT
DTSTART:20291006T160000
END:DAYLIGHT
TZID:Australia/Brisbane
BEGIN:STANDARD
TZOFFSETFROM:+1000
TZOFFSETTO:+1000
TZNAME:AEST
DTSTART:20281231T140000
END:STANDARD
END:VTIMEZONE
BEGIN:VEVENT
DTSTART;TZID=UTC:20281227T060000
DTEND;TZID=UTC:20281227T073000
DTSTAMP:20260422T085444
CREATED:20260406T043015
LAST-MODIFIED:20260406T043015
UID:10012047-1861509600-1861515000@student.instituteofhealth.com
SUMMARY:Client Health Cases
DESCRIPTION:Zoom link: masterclass.instituteofhealth.com
URL:https://student.instituteofhealth.com/event/client-health-cases-2-2-2-2/2028-12-27/
END:VEVENT
BEGIN:VEVENT
DTSTART;TZID=UTC:20281227T200000
DTEND;TZID=UTC:20281227T213000
DTSTAMP:20260422T085444
CREATED:20260406T043044
LAST-MODIFIED:20260406T043044
UID:10011513-1861560000-1861565400@student.instituteofhealth.com
SUMMARY:Client Health Cases
DESCRIPTION:Zoom link: masterclass.instituteofhealth.com
URL:https://student.instituteofhealth.com/event/client-health-cases-4-2/2028-12-28/
CATEGORIES:health initiative
END:VEVENT
BEGIN:VEVENT
DTSTART;TZID=UTC:20290102T070000
DTEND;TZID=UTC:20290102T083000
DTSTAMP:20260422T085444
CREATED:20260115T025352
LAST-MODIFIED:20260402T034906
UID:10010736-1862031600-1862037000@student.instituteofhealth.com
SUMMARY:Client Health Cases
DESCRIPTION:Zoom link: masterclass.instituteofhealth.com
URL:https://student.instituteofhealth.com/event/client-health-cases-3-2/2029-01-02/
CATEGORIES:health initiative
END:VEVENT
BEGIN:VEVENT
DTSTART;TZID=UTC:20290103T060000
DTEND;TZID=UTC:20290103T073000
DTSTAMP:20260422T085444
CREATED:20260406T043015
LAST-MODIFIED:20260406T043015
UID:10012048-1862114400-1862119800@student.instituteofhealth.com
SUMMARY:Client Health Cases
DESCRIPTION:Zoom link: masterclass.instituteofhealth.com
URL:https://student.instituteofhealth.com/event/client-health-cases-2-2-2-2/2029-01-03/
END:VEVENT
BEGIN:VEVENT
DTSTART;TZID=UTC:20290103T200000
DTEND;TZID=UTC:20290103T213000
DTSTAMP:20260422T085444
CREATED:20260406T043044
LAST-MODIFIED:20260406T043044
UID:10011514-1862164800-1862170200@student.instituteofhealth.com
SUMMARY:Client Health Cases
DESCRIPTION:Zoom link: masterclass.instituteofhealth.com
URL:https://student.instituteofhealth.com/event/client-health-cases-4-2/2029-01-04/
CATEGORIES:health initiative
END:VEVENT
BEGIN:VEVENT
DTSTART;TZID=UTC:20290109T070000
DTEND;TZID=UTC:20290109T083000
DTSTAMP:20260422T085444
CREATED:20260115T025352
LAST-MODIFIED:20260402T034906
UID:10010737-1862636400-1862641800@student.instituteofhealth.com
SUMMARY:Client Health Cases
DESCRIPTION:Zoom link: masterclass.instituteofhealth.com
URL:https://student.instituteofhealth.com/event/client-health-cases-3-2/2029-01-09/
CATEGORIES:health initiative
END:VEVENT
BEGIN:VEVENT
DTSTART;TZID=UTC:20290110T060000
DTEND;TZID=UTC:20290110T073000
DTSTAMP:20260422T085444
CREATED:20260406T043015
LAST-MODIFIED:20260406T043015
UID:10012049-1862719200-1862724600@student.instituteofhealth.com
SUMMARY:Client Health Cases
DESCRIPTION:Zoom link: masterclass.instituteofhealth.com
URL:https://student.instituteofhealth.com/event/client-health-cases-2-2-2-2/2029-01-10/
END:VEVENT
BEGIN:VEVENT
DTSTART;TZID=UTC:20290110T200000
DTEND;TZID=UTC:20290110T213000
DTSTAMP:20260422T085444
CREATED:20260406T043044
LAST-MODIFIED:20260406T043044
UID:10011515-1862769600-1862775000@student.instituteofhealth.com
SUMMARY:Client Health Cases
DESCRIPTION:Zoom link: masterclass.instituteofhealth.com
URL:https://student.instituteofhealth.com/event/client-health-cases-4-2/2029-01-11/
CATEGORIES:health initiative
END:VEVENT
BEGIN:VEVENT
DTSTART;TZID=UTC:20290116T070000
DTEND;TZID=UTC:20290116T083000
DTSTAMP:20260422T085444
CREATED:20260115T025352
LAST-MODIFIED:20260402T034906
UID:10010738-1863241200-1863246600@student.instituteofhealth.com
SUMMARY:Client Health Cases
DESCRIPTION:Zoom link: masterclass.instituteofhealth.com
URL:https://student.instituteofhealth.com/event/client-health-cases-3-2/2029-01-16/
CATEGORIES:health initiative
END:VEVENT
BEGIN:VEVENT
DTSTART;TZID=UTC:20290117T060000
DTEND;TZID=UTC:20290117T073000
DTSTAMP:20260422T085444
CREATED:20260406T043015
LAST-MODIFIED:20260406T043015
UID:10012050-1863324000-1863329400@student.instituteofhealth.com
SUMMARY:Client Health Cases
DESCRIPTION:Zoom link: masterclass.instituteofhealth.com
URL:https://student.instituteofhealth.com/event/client-health-cases-2-2-2-2/2029-01-17/
END:VEVENT
BEGIN:VEVENT
DTSTART;TZID=UTC:20290117T200000
DTEND;TZID=UTC:20290117T213000
DTSTAMP:20260422T085444
CREATED:20260406T043044
LAST-MODIFIED:20260406T043044
UID:10011516-1863374400-1863379800@student.instituteofhealth.com
SUMMARY:Client Health Cases
DESCRIPTION:Zoom link: masterclass.instituteofhealth.com
URL:https://student.instituteofhealth.com/event/client-health-cases-4-2/2029-01-18/
CATEGORIES:health initiative
END:VEVENT
BEGIN:VEVENT
DTSTART;TZID=UTC:20290123T070000
DTEND;TZID=UTC:20290123T083000
DTSTAMP:20260422T085444
CREATED:20260115T025352
LAST-MODIFIED:20260402T034906
UID:10010739-1863846000-1863851400@student.instituteofhealth.com
SUMMARY:Client Health Cases
DESCRIPTION:Zoom link: masterclass.instituteofhealth.com
URL:https://student.instituteofhealth.com/event/client-health-cases-3-2/2029-01-23/
CATEGORIES:health initiative
END:VEVENT
BEGIN:VEVENT
DTSTART;TZID=UTC:20290124T060000
DTEND;TZID=UTC:20290124T073000
DTSTAMP:20260422T085444
CREATED:20260406T043015
LAST-MODIFIED:20260406T043015
UID:10012051-1863928800-1863934200@student.instituteofhealth.com
SUMMARY:Client Health Cases
DESCRIPTION:Zoom link: masterclass.instituteofhealth.com
URL:https://student.instituteofhealth.com/event/client-health-cases-2-2-2-2/2029-01-24/
END:VEVENT
BEGIN:VEVENT
DTSTART;TZID=UTC:20290124T200000
DTEND;TZID=UTC:20290124T213000
DTSTAMP:20260422T085444
CREATED:20260406T043044
LAST-MODIFIED:20260406T043044
UID:10011517-1863979200-1863984600@student.instituteofhealth.com
SUMMARY:Client Health Cases
DESCRIPTION:Zoom link: masterclass.instituteofhealth.com
URL:https://student.instituteofhealth.com/event/client-health-cases-4-2/2029-01-25/
CATEGORIES:health initiative
END:VEVENT
BEGIN:VEVENT
DTSTART;TZID=UTC:20290130T070000
DTEND;TZID=UTC:20290130T083000
DTSTAMP:20260422T085444
CREATED:20260115T025352
LAST-MODIFIED:20260402T034906
UID:10010740-1864450800-1864456200@student.instituteofhealth.com
SUMMARY:Client Health Cases
DESCRIPTION:Zoom link: masterclass.instituteofhealth.com
URL:https://student.instituteofhealth.com/event/client-health-cases-3-2/2029-01-30/
CATEGORIES:health initiative
END:VEVENT
BEGIN:VEVENT
DTSTART;TZID=UTC:20290131T060000
DTEND;TZID=UTC:20290131T073000
DTSTAMP:20260422T085444
CREATED:20260406T043015
LAST-MODIFIED:20260406T043015
UID:10012052-1864533600-1864539000@student.instituteofhealth.com
SUMMARY:Client Health Cases
DESCRIPTION:Zoom link: masterclass.instituteofhealth.com
URL:https://student.instituteofhealth.com/event/client-health-cases-2-2-2-2/2029-01-31/
END:VEVENT
BEGIN:VEVENT
DTSTART;TZID=UTC:20290131T200000
DTEND;TZID=UTC:20290131T213000
DTSTAMP:20260422T085444
CREATED:20260406T043044
LAST-MODIFIED:20260406T043044
UID:10011518-1864584000-1864589400@student.instituteofhealth.com
SUMMARY:Client Health Cases
DESCRIPTION:Zoom link: masterclass.instituteofhealth.com
URL:https://student.instituteofhealth.com/event/client-health-cases-4-2/2029-02-01/
CATEGORIES:health initiative
END:VEVENT
BEGIN:VEVENT
DTSTART;TZID=UTC:20290206T070000
DTEND;TZID=UTC:20290206T083000
DTSTAMP:20260422T085444
CREATED:20260115T025352
LAST-MODIFIED:20260402T034906
UID:10010741-1865055600-1865061000@student.instituteofhealth.com
SUMMARY:Client Health Cases
DESCRIPTION:Zoom link: masterclass.instituteofhealth.com
URL:https://student.instituteofhealth.com/event/client-health-cases-3-2/2029-02-06/
CATEGORIES:health initiative
END:VEVENT
BEGIN:VEVENT
DTSTART;TZID=UTC:20290207T060000
DTEND;TZID=UTC:20290207T073000
DTSTAMP:20260422T085444
CREATED:20260406T043015
LAST-MODIFIED:20260406T043015
UID:10012053-1865138400-1865143800@student.instituteofhealth.com
SUMMARY:Client Health Cases
DESCRIPTION:Zoom link: masterclass.instituteofhealth.com
URL:https://student.instituteofhealth.com/event/client-health-cases-2-2-2-2/2029-02-07/
END:VEVENT
BEGIN:VEVENT
DTSTART;TZID=UTC:20290207T200000
DTEND;TZID=UTC:20290207T213000
DTSTAMP:20260422T085444
CREATED:20260406T043044
LAST-MODIFIED:20260406T043044
UID:10011519-1865188800-1865194200@student.instituteofhealth.com
SUMMARY:Client Health Cases
DESCRIPTION:Zoom link: masterclass.instituteofhealth.com
URL:https://student.instituteofhealth.com/event/client-health-cases-4-2/2029-02-08/
CATEGORIES:health initiative
END:VEVENT
BEGIN:VEVENT
DTSTART;TZID=UTC:20290213T070000
DTEND;TZID=UTC:20290213T083000
DTSTAMP:20260422T085444
CREATED:20260115T025352
LAST-MODIFIED:20260402T034906
UID:10010742-1865660400-1865665800@student.instituteofhealth.com
SUMMARY:Client Health Cases
DESCRIPTION:Zoom link: masterclass.instituteofhealth.com
URL:https://student.instituteofhealth.com/event/client-health-cases-3-2/2029-02-13/
CATEGORIES:health initiative
END:VEVENT
BEGIN:VEVENT
DTSTART;TZID=UTC:20290214T060000
DTEND;TZID=UTC:20290214T073000
DTSTAMP:20260422T085444
CREATED:20260406T043015
LAST-MODIFIED:20260406T043015
UID:10012054-1865743200-1865748600@student.instituteofhealth.com
SUMMARY:Client Health Cases
DESCRIPTION:Zoom link: masterclass.instituteofhealth.com
URL:https://student.instituteofhealth.com/event/client-health-cases-2-2-2-2/2029-02-14/
END:VEVENT
BEGIN:VEVENT
DTSTART;TZID=UTC:20290214T200000
DTEND;TZID=UTC:20290214T213000
DTSTAMP:20260422T085444
CREATED:20260406T043044
LAST-MODIFIED:20260406T043044
UID:10011520-1865793600-1865799000@student.instituteofhealth.com
SUMMARY:Client Health Cases
DESCRIPTION:Zoom link: masterclass.instituteofhealth.com
URL:https://student.instituteofhealth.com/event/client-health-cases-4-2/2029-02-15/
CATEGORIES:health initiative
END:VEVENT
BEGIN:VEVENT
DTSTART;TZID=UTC:20290220T070000
DTEND;TZID=UTC:20290220T083000
DTSTAMP:20260422T085444
CREATED:20260115T025352
LAST-MODIFIED:20260402T034906
UID:10010743-1866265200-1866270600@student.instituteofhealth.com
SUMMARY:Client Health Cases
DESCRIPTION:Zoom link: masterclass.instituteofhealth.com
URL:https://student.instituteofhealth.com/event/client-health-cases-3-2/2029-02-20/
CATEGORIES:health initiative
END:VEVENT
BEGIN:VEVENT
DTSTART;TZID=UTC:20290221T060000
DTEND;TZID=UTC:20290221T073000
DTSTAMP:20260422T085444
CREATED:20260406T043015
LAST-MODIFIED:20260406T043015
UID:10012055-1866348000-1866353400@student.instituteofhealth.com
SUMMARY:Client Health Cases
DESCRIPTION:Zoom link: masterclass.instituteofhealth.com
URL:https://student.instituteofhealth.com/event/client-health-cases-2-2-2-2/2029-02-21/
END:VEVENT
BEGIN:VEVENT
DTSTART;TZID=UTC:20290221T200000
DTEND;TZID=UTC:20290221T213000
DTSTAMP:20260422T085444
CREATED:20260406T043044
LAST-MODIFIED:20260406T043044
UID:10011521-1866398400-1866403800@student.instituteofhealth.com
SUMMARY:Client Health Cases
DESCRIPTION:Zoom link: masterclass.instituteofhealth.com
URL:https://student.instituteofhealth.com/event/client-health-cases-4-2/2029-02-22/
CATEGORIES:health initiative
END:VEVENT
BEGIN:VEVENT
DTSTART;TZID=UTC:20290227T070000
DTEND;TZID=UTC:20290227T083000
DTSTAMP:20260422T085444
CREATED:20260115T025352
LAST-MODIFIED:20260402T034906
UID:10010744-1866870000-1866875400@student.instituteofhealth.com
SUMMARY:Client Health Cases
DESCRIPTION:Zoom link: masterclass.instituteofhealth.com
URL:https://student.instituteofhealth.com/event/client-health-cases-3-2/2029-02-27/
CATEGORIES:health initiative
END:VEVENT
BEGIN:VEVENT
DTSTART;TZID=UTC:20290228T060000
DTEND;TZID=UTC:20290228T073000
DTSTAMP:20260422T085444
CREATED:20260406T043015
LAST-MODIFIED:20260406T043015
UID:10012056-1866952800-1866958200@student.instituteofhealth.com
SUMMARY:Client Health Cases
DESCRIPTION:Zoom link: masterclass.instituteofhealth.com
URL:https://student.instituteofhealth.com/event/client-health-cases-2-2-2-2/2029-02-28/
END:VEVENT
BEGIN:VEVENT
DTSTART;TZID=UTC:20290228T200000
DTEND;TZID=UTC:20290228T213000
DTSTAMP:20260422T085444
CREATED:20260406T043044
LAST-MODIFIED:20260406T043044
UID:10011522-1867003200-1867008600@student.instituteofhealth.com
SUMMARY:Client Health Cases
DESCRIPTION:Zoom link: masterclass.instituteofhealth.com
URL:https://student.instituteofhealth.com/event/client-health-cases-4-2/2029-03-01/
CATEGORIES:health initiative
END:VEVENT
BEGIN:VEVENT
DTSTART;TZID=UTC:20290306T070000
DTEND;TZID=UTC:20290306T083000
DTSTAMP:20260422T085444
CREATED:20260115T025352
LAST-MODIFIED:20260402T034906
UID:10010745-1867474800-1867480200@student.instituteofhealth.com
SUMMARY:Client Health Cases
DESCRIPTION:Zoom link: masterclass.instituteofhealth.com
URL:https://student.instituteofhealth.com/event/client-health-cases-3-2/2029-03-06/
CATEGORIES:health initiative
END:VEVENT
END:VCALENDAR