BEGIN:VCALENDAR
VERSION:2.0
PRODID:-//Institute of Health - ECPv6.3.5//NONSGML v1.0//EN
CALSCALE:GREGORIAN
METHOD:PUBLISH
X-ORIGINAL-URL:https://student.instituteofhealth.com
X-WR-CALDESC:Events for Institute of Health
REFRESH-INTERVAL;VALUE=DURATION:PT1H
X-Robots-Tag:noindex
X-PUBLISHED-TTL:PT1H
BEGIN:VTIMEZONE
TZID:Australia/Melbourne
BEGIN:STANDARD
TZOFFSETFROM:+1100
TZOFFSETTO:+1000
TZNAME:AEST
DTSTART:20280401T160000
END:STANDARD
BEGIN:DAYLIGHT
TZOFFSETFROM:+1000
TZOFFSETTO:+1100
TZNAME:AEDT
DTSTART:20280930T160000
END:DAYLIGHT
BEGIN:STANDARD
TZOFFSETFROM:+1100
TZOFFSETTO:+1000
TZNAME:AEST
DTSTART:20290331T160000
END:STANDARD
BEGIN:DAYLIGHT
TZOFFSETFROM:+1000
TZOFFSETTO:+1100
TZNAME:AEDT
DTSTART:20291006T160000
END:DAYLIGHT
TZID:Australia/Brisbane
BEGIN:STANDARD
TZOFFSETFROM:+1000
TZOFFSETTO:+1000
TZNAME:AEST
DTSTART:20271231T140000
END:STANDARD
END:VTIMEZONE
BEGIN:VEVENT
DTSTART;TZID=UTC:20281101T060000
DTEND;TZID=UTC:20281101T073000
DTSTAMP:20260422T053659
CREATED:20260406T043015
LAST-MODIFIED:20260406T043015
UID:10012039-1856671200-1856676600@student.instituteofhealth.com
SUMMARY:Client Health Cases
DESCRIPTION:Zoom link: masterclass.instituteofhealth.com
URL:https://student.instituteofhealth.com/event/client-health-cases-2-2-2-2/2028-11-01/
END:VEVENT
BEGIN:VEVENT
DTSTART;TZID=UTC:20281101T200000
DTEND;TZID=UTC:20281101T213000
DTSTAMP:20260422T053659
CREATED:20260406T043044
LAST-MODIFIED:20260406T043044
UID:10011505-1856721600-1856727000@student.instituteofhealth.com
SUMMARY:Client Health Cases
DESCRIPTION:Zoom link: masterclass.instituteofhealth.com
URL:https://student.instituteofhealth.com/event/client-health-cases-4-2/2028-11-02/
CATEGORIES:health initiative
END:VEVENT
BEGIN:VEVENT
DTSTART;TZID=UTC:20281107T070000
DTEND;TZID=UTC:20281107T083000
DTSTAMP:20260422T053659
CREATED:20260115T025352
LAST-MODIFIED:20260402T034906
UID:10010728-1857193200-1857198600@student.instituteofhealth.com
SUMMARY:Client Health Cases
DESCRIPTION:Zoom link: masterclass.instituteofhealth.com
URL:https://student.instituteofhealth.com/event/client-health-cases-3-2/2028-11-07/
CATEGORIES:health initiative
END:VEVENT
BEGIN:VEVENT
DTSTART;TZID=UTC:20281108T060000
DTEND;TZID=UTC:20281108T073000
DTSTAMP:20260422T053659
CREATED:20260406T043015
LAST-MODIFIED:20260406T043015
UID:10012040-1857276000-1857281400@student.instituteofhealth.com
SUMMARY:Client Health Cases
DESCRIPTION:Zoom link: masterclass.instituteofhealth.com
URL:https://student.instituteofhealth.com/event/client-health-cases-2-2-2-2/2028-11-08/
END:VEVENT
BEGIN:VEVENT
DTSTART;TZID=UTC:20281108T200000
DTEND;TZID=UTC:20281108T213000
DTSTAMP:20260422T053659
CREATED:20260406T043044
LAST-MODIFIED:20260406T043044
UID:10011506-1857326400-1857331800@student.instituteofhealth.com
SUMMARY:Client Health Cases
DESCRIPTION:Zoom link: masterclass.instituteofhealth.com
URL:https://student.instituteofhealth.com/event/client-health-cases-4-2/2028-11-09/
CATEGORIES:health initiative
END:VEVENT
BEGIN:VEVENT
DTSTART;TZID=UTC:20281114T070000
DTEND;TZID=UTC:20281114T083000
DTSTAMP:20260422T053659
CREATED:20260115T025352
LAST-MODIFIED:20260402T034906
UID:10010729-1857798000-1857803400@student.instituteofhealth.com
SUMMARY:Client Health Cases
DESCRIPTION:Zoom link: masterclass.instituteofhealth.com
URL:https://student.instituteofhealth.com/event/client-health-cases-3-2/2028-11-14/
CATEGORIES:health initiative
END:VEVENT
BEGIN:VEVENT
DTSTART;TZID=UTC:20281115T060000
DTEND;TZID=UTC:20281115T073000
DTSTAMP:20260422T053659
CREATED:20260406T043015
LAST-MODIFIED:20260406T043015
UID:10012041-1857880800-1857886200@student.instituteofhealth.com
SUMMARY:Client Health Cases
DESCRIPTION:Zoom link: masterclass.instituteofhealth.com
URL:https://student.instituteofhealth.com/event/client-health-cases-2-2-2-2/2028-11-15/
END:VEVENT
BEGIN:VEVENT
DTSTART;TZID=UTC:20281115T200000
DTEND;TZID=UTC:20281115T213000
DTSTAMP:20260422T053659
CREATED:20260406T043044
LAST-MODIFIED:20260406T043044
UID:10011507-1857931200-1857936600@student.instituteofhealth.com
SUMMARY:Client Health Cases
DESCRIPTION:Zoom link: masterclass.instituteofhealth.com
URL:https://student.instituteofhealth.com/event/client-health-cases-4-2/2028-11-16/
CATEGORIES:health initiative
END:VEVENT
BEGIN:VEVENT
DTSTART;TZID=UTC:20281121T070000
DTEND;TZID=UTC:20281121T083000
DTSTAMP:20260422T053659
CREATED:20260115T025352
LAST-MODIFIED:20260402T034906
UID:10010730-1858402800-1858408200@student.instituteofhealth.com
SUMMARY:Client Health Cases
DESCRIPTION:Zoom link: masterclass.instituteofhealth.com
URL:https://student.instituteofhealth.com/event/client-health-cases-3-2/2028-11-21/
CATEGORIES:health initiative
END:VEVENT
BEGIN:VEVENT
DTSTART;TZID=UTC:20281122T060000
DTEND;TZID=UTC:20281122T073000
DTSTAMP:20260422T053659
CREATED:20260406T043015
LAST-MODIFIED:20260406T043015
UID:10012042-1858485600-1858491000@student.instituteofhealth.com
SUMMARY:Client Health Cases
DESCRIPTION:Zoom link: masterclass.instituteofhealth.com
URL:https://student.instituteofhealth.com/event/client-health-cases-2-2-2-2/2028-11-22/
END:VEVENT
BEGIN:VEVENT
DTSTART;TZID=UTC:20281122T200000
DTEND;TZID=UTC:20281122T213000
DTSTAMP:20260422T053659
CREATED:20260406T043044
LAST-MODIFIED:20260406T043044
UID:10011508-1858536000-1858541400@student.instituteofhealth.com
SUMMARY:Client Health Cases
DESCRIPTION:Zoom link: masterclass.instituteofhealth.com
URL:https://student.instituteofhealth.com/event/client-health-cases-4-2/2028-11-23/
CATEGORIES:health initiative
END:VEVENT
BEGIN:VEVENT
DTSTART;TZID=UTC:20281128T070000
DTEND;TZID=UTC:20281128T083000
DTSTAMP:20260422T053659
CREATED:20260115T025352
LAST-MODIFIED:20260402T034906
UID:10010731-1859007600-1859013000@student.instituteofhealth.com
SUMMARY:Client Health Cases
DESCRIPTION:Zoom link: masterclass.instituteofhealth.com
URL:https://student.instituteofhealth.com/event/client-health-cases-3-2/2028-11-28/
CATEGORIES:health initiative
END:VEVENT
BEGIN:VEVENT
DTSTART;TZID=UTC:20281129T060000
DTEND;TZID=UTC:20281129T073000
DTSTAMP:20260422T053659
CREATED:20260406T043015
LAST-MODIFIED:20260406T043015
UID:10012043-1859090400-1859095800@student.instituteofhealth.com
SUMMARY:Client Health Cases
DESCRIPTION:Zoom link: masterclass.instituteofhealth.com
URL:https://student.instituteofhealth.com/event/client-health-cases-2-2-2-2/2028-11-29/
END:VEVENT
BEGIN:VEVENT
DTSTART;TZID=UTC:20281129T200000
DTEND;TZID=UTC:20281129T213000
DTSTAMP:20260422T053659
CREATED:20260406T043044
LAST-MODIFIED:20260406T043044
UID:10011509-1859140800-1859146200@student.instituteofhealth.com
SUMMARY:Client Health Cases
DESCRIPTION:Zoom link: masterclass.instituteofhealth.com
URL:https://student.instituteofhealth.com/event/client-health-cases-4-2/2028-11-30/
CATEGORIES:health initiative
END:VEVENT
BEGIN:VEVENT
DTSTART;TZID=UTC:20281205T070000
DTEND;TZID=UTC:20281205T083000
DTSTAMP:20260422T053659
CREATED:20260115T025352
LAST-MODIFIED:20260402T034906
UID:10010732-1859612400-1859617800@student.instituteofhealth.com
SUMMARY:Client Health Cases
DESCRIPTION:Zoom link: masterclass.instituteofhealth.com
URL:https://student.instituteofhealth.com/event/client-health-cases-3-2/2028-12-05/
CATEGORIES:health initiative
END:VEVENT
BEGIN:VEVENT
DTSTART;TZID=UTC:20281206T060000
DTEND;TZID=UTC:20281206T073000
DTSTAMP:20260422T053659
CREATED:20260406T043015
LAST-MODIFIED:20260406T043015
UID:10012044-1859695200-1859700600@student.instituteofhealth.com
SUMMARY:Client Health Cases
DESCRIPTION:Zoom link: masterclass.instituteofhealth.com
URL:https://student.instituteofhealth.com/event/client-health-cases-2-2-2-2/2028-12-06/
END:VEVENT
BEGIN:VEVENT
DTSTART;TZID=UTC:20281206T200000
DTEND;TZID=UTC:20281206T213000
DTSTAMP:20260422T053659
CREATED:20260406T043044
LAST-MODIFIED:20260406T043044
UID:10011510-1859745600-1859751000@student.instituteofhealth.com
SUMMARY:Client Health Cases
DESCRIPTION:Zoom link: masterclass.instituteofhealth.com
URL:https://student.instituteofhealth.com/event/client-health-cases-4-2/2028-12-07/
CATEGORIES:health initiative
END:VEVENT
BEGIN:VEVENT
DTSTART;TZID=UTC:20281212T070000
DTEND;TZID=UTC:20281212T083000
DTSTAMP:20260422T053659
CREATED:20260115T025352
LAST-MODIFIED:20260402T034906
UID:10010733-1860217200-1860222600@student.instituteofhealth.com
SUMMARY:Client Health Cases
DESCRIPTION:Zoom link: masterclass.instituteofhealth.com
URL:https://student.instituteofhealth.com/event/client-health-cases-3-2/2028-12-12/
CATEGORIES:health initiative
END:VEVENT
BEGIN:VEVENT
DTSTART;TZID=UTC:20281213T060000
DTEND;TZID=UTC:20281213T073000
DTSTAMP:20260422T053659
CREATED:20260406T043015
LAST-MODIFIED:20260406T043015
UID:10012045-1860300000-1860305400@student.instituteofhealth.com
SUMMARY:Client Health Cases
DESCRIPTION:Zoom link: masterclass.instituteofhealth.com
URL:https://student.instituteofhealth.com/event/client-health-cases-2-2-2-2/2028-12-13/
END:VEVENT
BEGIN:VEVENT
DTSTART;TZID=UTC:20281213T200000
DTEND;TZID=UTC:20281213T213000
DTSTAMP:20260422T053659
CREATED:20260406T043044
LAST-MODIFIED:20260406T043044
UID:10011511-1860350400-1860355800@student.instituteofhealth.com
SUMMARY:Client Health Cases
DESCRIPTION:Zoom link: masterclass.instituteofhealth.com
URL:https://student.instituteofhealth.com/event/client-health-cases-4-2/2028-12-14/
CATEGORIES:health initiative
END:VEVENT
BEGIN:VEVENT
DTSTART;TZID=UTC:20281219T070000
DTEND;TZID=UTC:20281219T083000
DTSTAMP:20260422T053659
CREATED:20260115T025352
LAST-MODIFIED:20260402T034906
UID:10010734-1860822000-1860827400@student.instituteofhealth.com
SUMMARY:Client Health Cases
DESCRIPTION:Zoom link: masterclass.instituteofhealth.com
URL:https://student.instituteofhealth.com/event/client-health-cases-3-2/2028-12-19/
CATEGORIES:health initiative
END:VEVENT
BEGIN:VEVENT
DTSTART;TZID=UTC:20281220T060000
DTEND;TZID=UTC:20281220T073000
DTSTAMP:20260422T053659
CREATED:20260406T043015
LAST-MODIFIED:20260406T043015
UID:10012046-1860904800-1860910200@student.instituteofhealth.com
SUMMARY:Client Health Cases
DESCRIPTION:Zoom link: masterclass.instituteofhealth.com
URL:https://student.instituteofhealth.com/event/client-health-cases-2-2-2-2/2028-12-20/
END:VEVENT
BEGIN:VEVENT
DTSTART;TZID=UTC:20281220T200000
DTEND;TZID=UTC:20281220T213000
DTSTAMP:20260422T053659
CREATED:20260406T043044
LAST-MODIFIED:20260406T043044
UID:10011512-1860955200-1860960600@student.instituteofhealth.com
SUMMARY:Client Health Cases
DESCRIPTION:Zoom link: masterclass.instituteofhealth.com
URL:https://student.instituteofhealth.com/event/client-health-cases-4-2/2028-12-21/
CATEGORIES:health initiative
END:VEVENT
BEGIN:VEVENT
DTSTART;TZID=UTC:20281226T070000
DTEND;TZID=UTC:20281226T083000
DTSTAMP:20260422T053659
CREATED:20260115T025352
LAST-MODIFIED:20260402T034906
UID:10010735-1861426800-1861432200@student.instituteofhealth.com
SUMMARY:Client Health Cases
DESCRIPTION:Zoom link: masterclass.instituteofhealth.com
URL:https://student.instituteofhealth.com/event/client-health-cases-3-2/2028-12-26/
CATEGORIES:health initiative
END:VEVENT
BEGIN:VEVENT
DTSTART;TZID=UTC:20281227T060000
DTEND;TZID=UTC:20281227T073000
DTSTAMP:20260422T053659
CREATED:20260406T043015
LAST-MODIFIED:20260406T043015
UID:10012047-1861509600-1861515000@student.instituteofhealth.com
SUMMARY:Client Health Cases
DESCRIPTION:Zoom link: masterclass.instituteofhealth.com
URL:https://student.instituteofhealth.com/event/client-health-cases-2-2-2-2/2028-12-27/
END:VEVENT
BEGIN:VEVENT
DTSTART;TZID=UTC:20281227T200000
DTEND;TZID=UTC:20281227T213000
DTSTAMP:20260422T053659
CREATED:20260406T043044
LAST-MODIFIED:20260406T043044
UID:10011513-1861560000-1861565400@student.instituteofhealth.com
SUMMARY:Client Health Cases
DESCRIPTION:Zoom link: masterclass.instituteofhealth.com
URL:https://student.instituteofhealth.com/event/client-health-cases-4-2/2028-12-28/
CATEGORIES:health initiative
END:VEVENT
BEGIN:VEVENT
DTSTART;TZID=UTC:20290102T070000
DTEND;TZID=UTC:20290102T083000
DTSTAMP:20260422T053659
CREATED:20260115T025352
LAST-MODIFIED:20260402T034906
UID:10010736-1862031600-1862037000@student.instituteofhealth.com
SUMMARY:Client Health Cases
DESCRIPTION:Zoom link: masterclass.instituteofhealth.com
URL:https://student.instituteofhealth.com/event/client-health-cases-3-2/2029-01-02/
CATEGORIES:health initiative
END:VEVENT
BEGIN:VEVENT
DTSTART;TZID=UTC:20290103T060000
DTEND;TZID=UTC:20290103T073000
DTSTAMP:20260422T053659
CREATED:20260406T043015
LAST-MODIFIED:20260406T043015
UID:10012048-1862114400-1862119800@student.instituteofhealth.com
SUMMARY:Client Health Cases
DESCRIPTION:Zoom link: masterclass.instituteofhealth.com
URL:https://student.instituteofhealth.com/event/client-health-cases-2-2-2-2/2029-01-03/
END:VEVENT
BEGIN:VEVENT
DTSTART;TZID=UTC:20290103T200000
DTEND;TZID=UTC:20290103T213000
DTSTAMP:20260422T053659
CREATED:20260406T043044
LAST-MODIFIED:20260406T043044
UID:10011514-1862164800-1862170200@student.instituteofhealth.com
SUMMARY:Client Health Cases
DESCRIPTION:Zoom link: masterclass.instituteofhealth.com
URL:https://student.instituteofhealth.com/event/client-health-cases-4-2/2029-01-04/
CATEGORIES:health initiative
END:VEVENT
BEGIN:VEVENT
DTSTART;TZID=UTC:20290109T070000
DTEND;TZID=UTC:20290109T083000
DTSTAMP:20260422T053659
CREATED:20260115T025352
LAST-MODIFIED:20260402T034906
UID:10010737-1862636400-1862641800@student.instituteofhealth.com
SUMMARY:Client Health Cases
DESCRIPTION:Zoom link: masterclass.instituteofhealth.com
URL:https://student.instituteofhealth.com/event/client-health-cases-3-2/2029-01-09/
CATEGORIES:health initiative
END:VEVENT
END:VCALENDAR