BEGIN:VCALENDAR
VERSION:2.0
PRODID:-//Institute of Health - ECPv6.3.5//NONSGML v1.0//EN
CALSCALE:GREGORIAN
METHOD:PUBLISH
X-WR-CALNAME:Institute of Health
X-ORIGINAL-URL:https://student.instituteofhealth.com
X-WR-CALDESC:Events for Institute of Health
REFRESH-INTERVAL;VALUE=DURATION:PT1H
X-Robots-Tag:noindex
X-PUBLISHED-TTL:PT1H
BEGIN:VTIMEZONE
TZID:Australia/Melbourne
BEGIN:STANDARD
TZOFFSETFROM:+1100
TZOFFSETTO:+1000
TZNAME:AEST
DTSTART:20280401T160000
END:STANDARD
BEGIN:DAYLIGHT
TZOFFSETFROM:+1000
TZOFFSETTO:+1100
TZNAME:AEDT
DTSTART:20280930T160000
END:DAYLIGHT
TZID:Australia/Brisbane
BEGIN:STANDARD
TZOFFSETFROM:+1000
TZOFFSETTO:+1000
TZNAME:AEST
DTSTART:20271231T140000
END:STANDARD
END:VTIMEZONE
BEGIN:VEVENT
DTSTART;TZID=UTC:20280906T060000
DTEND;TZID=UTC:20280906T073000
DTSTAMP:20260422T022942
CREATED:20260406T043015
LAST-MODIFIED:20260406T043015
UID:10012031-1851832800-1851838200@student.instituteofhealth.com
SUMMARY:Client Health Cases
DESCRIPTION:Zoom link: masterclass.instituteofhealth.com
URL:https://student.instituteofhealth.com/event/client-health-cases-2-2-2-2/2028-09-06/
END:VEVENT
BEGIN:VEVENT
DTSTART;TZID=UTC:20280906T200000
DTEND;TZID=UTC:20280906T213000
DTSTAMP:20260422T022942
CREATED:20260406T043044
LAST-MODIFIED:20260406T043044
UID:10011497-1851883200-1851888600@student.instituteofhealth.com
SUMMARY:Client Health Cases
DESCRIPTION:Zoom link: masterclass.instituteofhealth.com
URL:https://student.instituteofhealth.com/event/client-health-cases-4-2/2028-09-07/
CATEGORIES:health initiative
END:VEVENT
BEGIN:VEVENT
DTSTART;TZID=UTC:20280912T070000
DTEND;TZID=UTC:20280912T083000
DTSTAMP:20260422T022942
CREATED:20260115T025352
LAST-MODIFIED:20260402T034906
UID:10010720-1852354800-1852360200@student.instituteofhealth.com
SUMMARY:Client Health Cases
DESCRIPTION:Zoom link: masterclass.instituteofhealth.com
URL:https://student.instituteofhealth.com/event/client-health-cases-3-2/2028-09-12/
CATEGORIES:health initiative
END:VEVENT
BEGIN:VEVENT
DTSTART;TZID=UTC:20280913T060000
DTEND;TZID=UTC:20280913T073000
DTSTAMP:20260422T022942
CREATED:20260406T043015
LAST-MODIFIED:20260406T043015
UID:10012032-1852437600-1852443000@student.instituteofhealth.com
SUMMARY:Client Health Cases
DESCRIPTION:Zoom link: masterclass.instituteofhealth.com
URL:https://student.instituteofhealth.com/event/client-health-cases-2-2-2-2/2028-09-13/
END:VEVENT
BEGIN:VEVENT
DTSTART;TZID=UTC:20280913T200000
DTEND;TZID=UTC:20280913T213000
DTSTAMP:20260422T022942
CREATED:20260406T043044
LAST-MODIFIED:20260406T043044
UID:10011498-1852488000-1852493400@student.instituteofhealth.com
SUMMARY:Client Health Cases
DESCRIPTION:Zoom link: masterclass.instituteofhealth.com
URL:https://student.instituteofhealth.com/event/client-health-cases-4-2/2028-09-14/
CATEGORIES:health initiative
END:VEVENT
BEGIN:VEVENT
DTSTART;TZID=UTC:20280919T070000
DTEND;TZID=UTC:20280919T083000
DTSTAMP:20260422T022942
CREATED:20260115T025352
LAST-MODIFIED:20260402T034906
UID:10010721-1852959600-1852965000@student.instituteofhealth.com
SUMMARY:Client Health Cases
DESCRIPTION:Zoom link: masterclass.instituteofhealth.com
URL:https://student.instituteofhealth.com/event/client-health-cases-3-2/2028-09-19/
CATEGORIES:health initiative
END:VEVENT
BEGIN:VEVENT
DTSTART;TZID=UTC:20280920T060000
DTEND;TZID=UTC:20280920T073000
DTSTAMP:20260422T022942
CREATED:20260406T043015
LAST-MODIFIED:20260406T043015
UID:10012033-1853042400-1853047800@student.instituteofhealth.com
SUMMARY:Client Health Cases
DESCRIPTION:Zoom link: masterclass.instituteofhealth.com
URL:https://student.instituteofhealth.com/event/client-health-cases-2-2-2-2/2028-09-20/
END:VEVENT
BEGIN:VEVENT
DTSTART;TZID=UTC:20280920T200000
DTEND;TZID=UTC:20280920T213000
DTSTAMP:20260422T022942
CREATED:20260406T043044
LAST-MODIFIED:20260406T043044
UID:10011499-1853092800-1853098200@student.instituteofhealth.com
SUMMARY:Client Health Cases
DESCRIPTION:Zoom link: masterclass.instituteofhealth.com
URL:https://student.instituteofhealth.com/event/client-health-cases-4-2/2028-09-21/
CATEGORIES:health initiative
END:VEVENT
BEGIN:VEVENT
DTSTART;TZID=UTC:20280926T070000
DTEND;TZID=UTC:20280926T083000
DTSTAMP:20260422T022942
CREATED:20260115T025352
LAST-MODIFIED:20260402T034906
UID:10010722-1853564400-1853569800@student.instituteofhealth.com
SUMMARY:Client Health Cases
DESCRIPTION:Zoom link: masterclass.instituteofhealth.com
URL:https://student.instituteofhealth.com/event/client-health-cases-3-2/2028-09-26/
CATEGORIES:health initiative
END:VEVENT
BEGIN:VEVENT
DTSTART;TZID=UTC:20280927T060000
DTEND;TZID=UTC:20280927T073000
DTSTAMP:20260422T022942
CREATED:20260406T043015
LAST-MODIFIED:20260406T043015
UID:10012034-1853647200-1853652600@student.instituteofhealth.com
SUMMARY:Client Health Cases
DESCRIPTION:Zoom link: masterclass.instituteofhealth.com
URL:https://student.instituteofhealth.com/event/client-health-cases-2-2-2-2/2028-09-27/
END:VEVENT
BEGIN:VEVENT
DTSTART;TZID=UTC:20280927T200000
DTEND;TZID=UTC:20280927T213000
DTSTAMP:20260422T022942
CREATED:20260406T043044
LAST-MODIFIED:20260406T043044
UID:10011500-1853697600-1853703000@student.instituteofhealth.com
SUMMARY:Client Health Cases
DESCRIPTION:Zoom link: masterclass.instituteofhealth.com
URL:https://student.instituteofhealth.com/event/client-health-cases-4-2/2028-09-28/
CATEGORIES:health initiative
END:VEVENT
BEGIN:VEVENT
DTSTART;TZID=UTC:20281003T070000
DTEND;TZID=UTC:20281003T083000
DTSTAMP:20260422T022942
CREATED:20260115T025352
LAST-MODIFIED:20260402T034906
UID:10010723-1854169200-1854174600@student.instituteofhealth.com
SUMMARY:Client Health Cases
DESCRIPTION:Zoom link: masterclass.instituteofhealth.com
URL:https://student.instituteofhealth.com/event/client-health-cases-3-2/2028-10-03/
CATEGORIES:health initiative
END:VEVENT
BEGIN:VEVENT
DTSTART;TZID=UTC:20281004T060000
DTEND;TZID=UTC:20281004T073000
DTSTAMP:20260422T022942
CREATED:20260406T043015
LAST-MODIFIED:20260406T043015
UID:10012035-1854252000-1854257400@student.instituteofhealth.com
SUMMARY:Client Health Cases
DESCRIPTION:Zoom link: masterclass.instituteofhealth.com
URL:https://student.instituteofhealth.com/event/client-health-cases-2-2-2-2/2028-10-04/
END:VEVENT
BEGIN:VEVENT
DTSTART;TZID=UTC:20281004T200000
DTEND;TZID=UTC:20281004T213000
DTSTAMP:20260422T022942
CREATED:20260406T043044
LAST-MODIFIED:20260406T043044
UID:10011501-1854302400-1854307800@student.instituteofhealth.com
SUMMARY:Client Health Cases
DESCRIPTION:Zoom link: masterclass.instituteofhealth.com
URL:https://student.instituteofhealth.com/event/client-health-cases-4-2/2028-10-05/
CATEGORIES:health initiative
END:VEVENT
BEGIN:VEVENT
DTSTART;TZID=UTC:20281010T070000
DTEND;TZID=UTC:20281010T083000
DTSTAMP:20260422T022942
CREATED:20260115T025352
LAST-MODIFIED:20260402T034906
UID:10010724-1854774000-1854779400@student.instituteofhealth.com
SUMMARY:Client Health Cases
DESCRIPTION:Zoom link: masterclass.instituteofhealth.com
URL:https://student.instituteofhealth.com/event/client-health-cases-3-2/2028-10-10/
CATEGORIES:health initiative
END:VEVENT
BEGIN:VEVENT
DTSTART;TZID=UTC:20281011T060000
DTEND;TZID=UTC:20281011T073000
DTSTAMP:20260422T022942
CREATED:20260406T043015
LAST-MODIFIED:20260406T043015
UID:10012036-1854856800-1854862200@student.instituteofhealth.com
SUMMARY:Client Health Cases
DESCRIPTION:Zoom link: masterclass.instituteofhealth.com
URL:https://student.instituteofhealth.com/event/client-health-cases-2-2-2-2/2028-10-11/
END:VEVENT
BEGIN:VEVENT
DTSTART;TZID=UTC:20281011T200000
DTEND;TZID=UTC:20281011T213000
DTSTAMP:20260422T022942
CREATED:20260406T043044
LAST-MODIFIED:20260406T043044
UID:10011502-1854907200-1854912600@student.instituteofhealth.com
SUMMARY:Client Health Cases
DESCRIPTION:Zoom link: masterclass.instituteofhealth.com
URL:https://student.instituteofhealth.com/event/client-health-cases-4-2/2028-10-12/
CATEGORIES:health initiative
END:VEVENT
BEGIN:VEVENT
DTSTART;TZID=UTC:20281017T070000
DTEND;TZID=UTC:20281017T083000
DTSTAMP:20260422T022942
CREATED:20260115T025352
LAST-MODIFIED:20260402T034906
UID:10010725-1855378800-1855384200@student.instituteofhealth.com
SUMMARY:Client Health Cases
DESCRIPTION:Zoom link: masterclass.instituteofhealth.com
URL:https://student.instituteofhealth.com/event/client-health-cases-3-2/2028-10-17/
CATEGORIES:health initiative
END:VEVENT
BEGIN:VEVENT
DTSTART;TZID=UTC:20281018T060000
DTEND;TZID=UTC:20281018T073000
DTSTAMP:20260422T022942
CREATED:20260406T043015
LAST-MODIFIED:20260406T043015
UID:10012037-1855461600-1855467000@student.instituteofhealth.com
SUMMARY:Client Health Cases
DESCRIPTION:Zoom link: masterclass.instituteofhealth.com
URL:https://student.instituteofhealth.com/event/client-health-cases-2-2-2-2/2028-10-18/
END:VEVENT
BEGIN:VEVENT
DTSTART;TZID=UTC:20281018T200000
DTEND;TZID=UTC:20281018T213000
DTSTAMP:20260422T022942
CREATED:20260406T043044
LAST-MODIFIED:20260406T043044
UID:10011503-1855512000-1855517400@student.instituteofhealth.com
SUMMARY:Client Health Cases
DESCRIPTION:Zoom link: masterclass.instituteofhealth.com
URL:https://student.instituteofhealth.com/event/client-health-cases-4-2/2028-10-19/
CATEGORIES:health initiative
END:VEVENT
BEGIN:VEVENT
DTSTART;TZID=UTC:20281024T070000
DTEND;TZID=UTC:20281024T083000
DTSTAMP:20260422T022942
CREATED:20260115T025352
LAST-MODIFIED:20260402T034906
UID:10010726-1855983600-1855989000@student.instituteofhealth.com
SUMMARY:Client Health Cases
DESCRIPTION:Zoom link: masterclass.instituteofhealth.com
URL:https://student.instituteofhealth.com/event/client-health-cases-3-2/2028-10-24/
CATEGORIES:health initiative
END:VEVENT
BEGIN:VEVENT
DTSTART;TZID=UTC:20281025T060000
DTEND;TZID=UTC:20281025T073000
DTSTAMP:20260422T022942
CREATED:20260406T043015
LAST-MODIFIED:20260406T043015
UID:10012038-1856066400-1856071800@student.instituteofhealth.com
SUMMARY:Client Health Cases
DESCRIPTION:Zoom link: masterclass.instituteofhealth.com
URL:https://student.instituteofhealth.com/event/client-health-cases-2-2-2-2/2028-10-25/
END:VEVENT
BEGIN:VEVENT
DTSTART;TZID=UTC:20281025T200000
DTEND;TZID=UTC:20281025T213000
DTSTAMP:20260422T022942
CREATED:20260406T043044
LAST-MODIFIED:20260406T043044
UID:10011504-1856116800-1856122200@student.instituteofhealth.com
SUMMARY:Client Health Cases
DESCRIPTION:Zoom link: masterclass.instituteofhealth.com
URL:https://student.instituteofhealth.com/event/client-health-cases-4-2/2028-10-26/
CATEGORIES:health initiative
END:VEVENT
BEGIN:VEVENT
DTSTART;TZID=UTC:20281031T070000
DTEND;TZID=UTC:20281031T083000
DTSTAMP:20260422T022942
CREATED:20260115T025352
LAST-MODIFIED:20260402T034906
UID:10010727-1856588400-1856593800@student.instituteofhealth.com
SUMMARY:Client Health Cases
DESCRIPTION:Zoom link: masterclass.instituteofhealth.com
URL:https://student.instituteofhealth.com/event/client-health-cases-3-2/2028-10-31/
CATEGORIES:health initiative
END:VEVENT
BEGIN:VEVENT
DTSTART;TZID=UTC:20281101T060000
DTEND;TZID=UTC:20281101T073000
DTSTAMP:20260422T022942
CREATED:20260406T043015
LAST-MODIFIED:20260406T043015
UID:10012039-1856671200-1856676600@student.instituteofhealth.com
SUMMARY:Client Health Cases
DESCRIPTION:Zoom link: masterclass.instituteofhealth.com
URL:https://student.instituteofhealth.com/event/client-health-cases-2-2-2-2/2028-11-01/
END:VEVENT
BEGIN:VEVENT
DTSTART;TZID=UTC:20281101T200000
DTEND;TZID=UTC:20281101T213000
DTSTAMP:20260422T022942
CREATED:20260406T043044
LAST-MODIFIED:20260406T043044
UID:10011505-1856721600-1856727000@student.instituteofhealth.com
SUMMARY:Client Health Cases
DESCRIPTION:Zoom link: masterclass.instituteofhealth.com
URL:https://student.instituteofhealth.com/event/client-health-cases-4-2/2028-11-02/
CATEGORIES:health initiative
END:VEVENT
BEGIN:VEVENT
DTSTART;TZID=UTC:20281107T070000
DTEND;TZID=UTC:20281107T083000
DTSTAMP:20260422T022942
CREATED:20260115T025352
LAST-MODIFIED:20260402T034906
UID:10010728-1857193200-1857198600@student.instituteofhealth.com
SUMMARY:Client Health Cases
DESCRIPTION:Zoom link: masterclass.instituteofhealth.com
URL:https://student.instituteofhealth.com/event/client-health-cases-3-2/2028-11-07/
CATEGORIES:health initiative
END:VEVENT
BEGIN:VEVENT
DTSTART;TZID=UTC:20281108T060000
DTEND;TZID=UTC:20281108T073000
DTSTAMP:20260422T022942
CREATED:20260406T043015
LAST-MODIFIED:20260406T043015
UID:10012040-1857276000-1857281400@student.instituteofhealth.com
SUMMARY:Client Health Cases
DESCRIPTION:Zoom link: masterclass.instituteofhealth.com
URL:https://student.instituteofhealth.com/event/client-health-cases-2-2-2-2/2028-11-08/
END:VEVENT
BEGIN:VEVENT
DTSTART;TZID=UTC:20281108T200000
DTEND;TZID=UTC:20281108T213000
DTSTAMP:20260422T022942
CREATED:20260406T043044
LAST-MODIFIED:20260406T043044
UID:10011506-1857326400-1857331800@student.instituteofhealth.com
SUMMARY:Client Health Cases
DESCRIPTION:Zoom link: masterclass.instituteofhealth.com
URL:https://student.instituteofhealth.com/event/client-health-cases-4-2/2028-11-09/
CATEGORIES:health initiative
END:VEVENT
BEGIN:VEVENT
DTSTART;TZID=UTC:20281114T070000
DTEND;TZID=UTC:20281114T083000
DTSTAMP:20260422T022942
CREATED:20260115T025352
LAST-MODIFIED:20260402T034906
UID:10010729-1857798000-1857803400@student.instituteofhealth.com
SUMMARY:Client Health Cases
DESCRIPTION:Zoom link: masterclass.instituteofhealth.com
URL:https://student.instituteofhealth.com/event/client-health-cases-3-2/2028-11-14/
CATEGORIES:health initiative
END:VEVENT
END:VCALENDAR