BEGIN:VCALENDAR
VERSION:2.0
PRODID:-//Institute of Health - ECPv6.3.5//NONSGML v1.0//EN
CALSCALE:GREGORIAN
METHOD:PUBLISH
X-WR-CALNAME:Institute of Health
X-ORIGINAL-URL:https://student.instituteofhealth.com
X-WR-CALDESC:Events for Institute of Health
REFRESH-INTERVAL;VALUE=DURATION:PT1H
X-Robots-Tag:noindex
X-PUBLISHED-TTL:PT1H
BEGIN:VTIMEZONE
TZID:Australia/Melbourne
BEGIN:STANDARD
TZOFFSETFROM:+1100
TZOFFSETTO:+1000
TZNAME:AEST
DTSTART:20280401T160000
END:STANDARD
BEGIN:DAYLIGHT
TZOFFSETFROM:+1000
TZOFFSETTO:+1100
TZNAME:AEDT
DTSTART:20280930T160000
END:DAYLIGHT
TZID:Australia/Brisbane
BEGIN:STANDARD
TZOFFSETFROM:+1000
TZOFFSETTO:+1000
TZNAME:AEST
DTSTART:20271231T140000
END:STANDARD
END:VTIMEZONE
BEGIN:VEVENT
DTSTART;TZID=UTC:20280712T060000
DTEND;TZID=UTC:20280712T073000
DTSTAMP:20260421T230917
CREATED:20260406T043015
LAST-MODIFIED:20260406T043015
UID:10012023-1846994400-1846999800@student.instituteofhealth.com
SUMMARY:Client Health Cases
DESCRIPTION:Zoom link: masterclass.instituteofhealth.com
URL:https://student.instituteofhealth.com/event/client-health-cases-2-2-2-2/2028-07-12/
END:VEVENT
BEGIN:VEVENT
DTSTART;TZID=UTC:20280712T200000
DTEND;TZID=UTC:20280712T213000
DTSTAMP:20260421T230917
CREATED:20260406T043044
LAST-MODIFIED:20260406T043044
UID:10011489-1847044800-1847050200@student.instituteofhealth.com
SUMMARY:Client Health Cases
DESCRIPTION:Zoom link: masterclass.instituteofhealth.com
URL:https://student.instituteofhealth.com/event/client-health-cases-4-2/2028-07-13/
CATEGORIES:health initiative
END:VEVENT
BEGIN:VEVENT
DTSTART;TZID=UTC:20280718T070000
DTEND;TZID=UTC:20280718T083000
DTSTAMP:20260421T230917
CREATED:20260115T025352
LAST-MODIFIED:20260402T034906
UID:10010712-1847516400-1847521800@student.instituteofhealth.com
SUMMARY:Client Health Cases
DESCRIPTION:Zoom link: masterclass.instituteofhealth.com
URL:https://student.instituteofhealth.com/event/client-health-cases-3-2/2028-07-18/
CATEGORIES:health initiative
END:VEVENT
BEGIN:VEVENT
DTSTART;TZID=UTC:20280719T060000
DTEND;TZID=UTC:20280719T073000
DTSTAMP:20260421T230917
CREATED:20260406T043015
LAST-MODIFIED:20260406T043015
UID:10012024-1847599200-1847604600@student.instituteofhealth.com
SUMMARY:Client Health Cases
DESCRIPTION:Zoom link: masterclass.instituteofhealth.com
URL:https://student.instituteofhealth.com/event/client-health-cases-2-2-2-2/2028-07-19/
END:VEVENT
BEGIN:VEVENT
DTSTART;TZID=UTC:20280719T200000
DTEND;TZID=UTC:20280719T213000
DTSTAMP:20260421T230917
CREATED:20260406T043044
LAST-MODIFIED:20260406T043044
UID:10011490-1847649600-1847655000@student.instituteofhealth.com
SUMMARY:Client Health Cases
DESCRIPTION:Zoom link: masterclass.instituteofhealth.com
URL:https://student.instituteofhealth.com/event/client-health-cases-4-2/2028-07-20/
CATEGORIES:health initiative
END:VEVENT
BEGIN:VEVENT
DTSTART;TZID=UTC:20280725T070000
DTEND;TZID=UTC:20280725T083000
DTSTAMP:20260421T230917
CREATED:20260115T025352
LAST-MODIFIED:20260402T034906
UID:10010713-1848121200-1848126600@student.instituteofhealth.com
SUMMARY:Client Health Cases
DESCRIPTION:Zoom link: masterclass.instituteofhealth.com
URL:https://student.instituteofhealth.com/event/client-health-cases-3-2/2028-07-25/
CATEGORIES:health initiative
END:VEVENT
BEGIN:VEVENT
DTSTART;TZID=UTC:20280726T060000
DTEND;TZID=UTC:20280726T073000
DTSTAMP:20260421T230917
CREATED:20260406T043015
LAST-MODIFIED:20260406T043015
UID:10012025-1848204000-1848209400@student.instituteofhealth.com
SUMMARY:Client Health Cases
DESCRIPTION:Zoom link: masterclass.instituteofhealth.com
URL:https://student.instituteofhealth.com/event/client-health-cases-2-2-2-2/2028-07-26/
END:VEVENT
BEGIN:VEVENT
DTSTART;TZID=UTC:20280726T200000
DTEND;TZID=UTC:20280726T213000
DTSTAMP:20260421T230917
CREATED:20260406T043044
LAST-MODIFIED:20260406T043044
UID:10011491-1848254400-1848259800@student.instituteofhealth.com
SUMMARY:Client Health Cases
DESCRIPTION:Zoom link: masterclass.instituteofhealth.com
URL:https://student.instituteofhealth.com/event/client-health-cases-4-2/2028-07-27/
CATEGORIES:health initiative
END:VEVENT
BEGIN:VEVENT
DTSTART;TZID=UTC:20280801T070000
DTEND;TZID=UTC:20280801T083000
DTSTAMP:20260421T230917
CREATED:20260115T025352
LAST-MODIFIED:20260402T034906
UID:10010714-1848726000-1848731400@student.instituteofhealth.com
SUMMARY:Client Health Cases
DESCRIPTION:Zoom link: masterclass.instituteofhealth.com
URL:https://student.instituteofhealth.com/event/client-health-cases-3-2/2028-08-01/
CATEGORIES:health initiative
END:VEVENT
BEGIN:VEVENT
DTSTART;TZID=UTC:20280802T060000
DTEND;TZID=UTC:20280802T073000
DTSTAMP:20260421T230917
CREATED:20260406T043015
LAST-MODIFIED:20260406T043015
UID:10012026-1848808800-1848814200@student.instituteofhealth.com
SUMMARY:Client Health Cases
DESCRIPTION:Zoom link: masterclass.instituteofhealth.com
URL:https://student.instituteofhealth.com/event/client-health-cases-2-2-2-2/2028-08-02/
END:VEVENT
BEGIN:VEVENT
DTSTART;TZID=UTC:20280802T200000
DTEND;TZID=UTC:20280802T213000
DTSTAMP:20260421T230917
CREATED:20260406T043044
LAST-MODIFIED:20260406T043044
UID:10011492-1848859200-1848864600@student.instituteofhealth.com
SUMMARY:Client Health Cases
DESCRIPTION:Zoom link: masterclass.instituteofhealth.com
URL:https://student.instituteofhealth.com/event/client-health-cases-4-2/2028-08-03/
CATEGORIES:health initiative
END:VEVENT
BEGIN:VEVENT
DTSTART;TZID=UTC:20280808T070000
DTEND;TZID=UTC:20280808T083000
DTSTAMP:20260421T230917
CREATED:20260115T025352
LAST-MODIFIED:20260402T034906
UID:10010715-1849330800-1849336200@student.instituteofhealth.com
SUMMARY:Client Health Cases
DESCRIPTION:Zoom link: masterclass.instituteofhealth.com
URL:https://student.instituteofhealth.com/event/client-health-cases-3-2/2028-08-08/
CATEGORIES:health initiative
END:VEVENT
BEGIN:VEVENT
DTSTART;TZID=UTC:20280809T060000
DTEND;TZID=UTC:20280809T073000
DTSTAMP:20260421T230917
CREATED:20260406T043015
LAST-MODIFIED:20260406T043015
UID:10012027-1849413600-1849419000@student.instituteofhealth.com
SUMMARY:Client Health Cases
DESCRIPTION:Zoom link: masterclass.instituteofhealth.com
URL:https://student.instituteofhealth.com/event/client-health-cases-2-2-2-2/2028-08-09/
END:VEVENT
BEGIN:VEVENT
DTSTART;TZID=UTC:20280809T200000
DTEND;TZID=UTC:20280809T213000
DTSTAMP:20260421T230917
CREATED:20260406T043044
LAST-MODIFIED:20260406T043044
UID:10011493-1849464000-1849469400@student.instituteofhealth.com
SUMMARY:Client Health Cases
DESCRIPTION:Zoom link: masterclass.instituteofhealth.com
URL:https://student.instituteofhealth.com/event/client-health-cases-4-2/2028-08-10/
CATEGORIES:health initiative
END:VEVENT
BEGIN:VEVENT
DTSTART;TZID=UTC:20280815T070000
DTEND;TZID=UTC:20280815T083000
DTSTAMP:20260421T230917
CREATED:20260115T025352
LAST-MODIFIED:20260402T034906
UID:10010716-1849935600-1849941000@student.instituteofhealth.com
SUMMARY:Client Health Cases
DESCRIPTION:Zoom link: masterclass.instituteofhealth.com
URL:https://student.instituteofhealth.com/event/client-health-cases-3-2/2028-08-15/
CATEGORIES:health initiative
END:VEVENT
BEGIN:VEVENT
DTSTART;TZID=UTC:20280816T060000
DTEND;TZID=UTC:20280816T073000
DTSTAMP:20260421T230917
CREATED:20260406T043015
LAST-MODIFIED:20260406T043015
UID:10012028-1850018400-1850023800@student.instituteofhealth.com
SUMMARY:Client Health Cases
DESCRIPTION:Zoom link: masterclass.instituteofhealth.com
URL:https://student.instituteofhealth.com/event/client-health-cases-2-2-2-2/2028-08-16/
END:VEVENT
BEGIN:VEVENT
DTSTART;TZID=UTC:20280816T200000
DTEND;TZID=UTC:20280816T213000
DTSTAMP:20260421T230917
CREATED:20260406T043044
LAST-MODIFIED:20260406T043044
UID:10011494-1850068800-1850074200@student.instituteofhealth.com
SUMMARY:Client Health Cases
DESCRIPTION:Zoom link: masterclass.instituteofhealth.com
URL:https://student.instituteofhealth.com/event/client-health-cases-4-2/2028-08-17/
CATEGORIES:health initiative
END:VEVENT
BEGIN:VEVENT
DTSTART;TZID=UTC:20280822T070000
DTEND;TZID=UTC:20280822T083000
DTSTAMP:20260421T230917
CREATED:20260115T025352
LAST-MODIFIED:20260402T034906
UID:10010717-1850540400-1850545800@student.instituteofhealth.com
SUMMARY:Client Health Cases
DESCRIPTION:Zoom link: masterclass.instituteofhealth.com
URL:https://student.instituteofhealth.com/event/client-health-cases-3-2/2028-08-22/
CATEGORIES:health initiative
END:VEVENT
BEGIN:VEVENT
DTSTART;TZID=UTC:20280823T060000
DTEND;TZID=UTC:20280823T073000
DTSTAMP:20260421T230917
CREATED:20260406T043015
LAST-MODIFIED:20260406T043015
UID:10012029-1850623200-1850628600@student.instituteofhealth.com
SUMMARY:Client Health Cases
DESCRIPTION:Zoom link: masterclass.instituteofhealth.com
URL:https://student.instituteofhealth.com/event/client-health-cases-2-2-2-2/2028-08-23/
END:VEVENT
BEGIN:VEVENT
DTSTART;TZID=UTC:20280823T200000
DTEND;TZID=UTC:20280823T213000
DTSTAMP:20260421T230917
CREATED:20260406T043044
LAST-MODIFIED:20260406T043044
UID:10011495-1850673600-1850679000@student.instituteofhealth.com
SUMMARY:Client Health Cases
DESCRIPTION:Zoom link: masterclass.instituteofhealth.com
URL:https://student.instituteofhealth.com/event/client-health-cases-4-2/2028-08-24/
CATEGORIES:health initiative
END:VEVENT
BEGIN:VEVENT
DTSTART;TZID=UTC:20280829T070000
DTEND;TZID=UTC:20280829T083000
DTSTAMP:20260421T230917
CREATED:20260115T025352
LAST-MODIFIED:20260402T034906
UID:10010718-1851145200-1851150600@student.instituteofhealth.com
SUMMARY:Client Health Cases
DESCRIPTION:Zoom link: masterclass.instituteofhealth.com
URL:https://student.instituteofhealth.com/event/client-health-cases-3-2/2028-08-29/
CATEGORIES:health initiative
END:VEVENT
BEGIN:VEVENT
DTSTART;TZID=UTC:20280830T060000
DTEND;TZID=UTC:20280830T073000
DTSTAMP:20260421T230917
CREATED:20260406T043015
LAST-MODIFIED:20260406T043015
UID:10012030-1851228000-1851233400@student.instituteofhealth.com
SUMMARY:Client Health Cases
DESCRIPTION:Zoom link: masterclass.instituteofhealth.com
URL:https://student.instituteofhealth.com/event/client-health-cases-2-2-2-2/2028-08-30/
END:VEVENT
BEGIN:VEVENT
DTSTART;TZID=UTC:20280830T200000
DTEND;TZID=UTC:20280830T213000
DTSTAMP:20260421T230917
CREATED:20260406T043044
LAST-MODIFIED:20260406T043044
UID:10011496-1851278400-1851283800@student.instituteofhealth.com
SUMMARY:Client Health Cases
DESCRIPTION:Zoom link: masterclass.instituteofhealth.com
URL:https://student.instituteofhealth.com/event/client-health-cases-4-2/2028-08-31/
CATEGORIES:health initiative
END:VEVENT
BEGIN:VEVENT
DTSTART;TZID=UTC:20280905T070000
DTEND;TZID=UTC:20280905T083000
DTSTAMP:20260421T230917
CREATED:20260115T025352
LAST-MODIFIED:20260402T034906
UID:10010719-1851750000-1851755400@student.instituteofhealth.com
SUMMARY:Client Health Cases
DESCRIPTION:Zoom link: masterclass.instituteofhealth.com
URL:https://student.instituteofhealth.com/event/client-health-cases-3-2/2028-09-05/
CATEGORIES:health initiative
END:VEVENT
BEGIN:VEVENT
DTSTART;TZID=UTC:20280906T060000
DTEND;TZID=UTC:20280906T073000
DTSTAMP:20260421T230917
CREATED:20260406T043015
LAST-MODIFIED:20260406T043015
UID:10012031-1851832800-1851838200@student.instituteofhealth.com
SUMMARY:Client Health Cases
DESCRIPTION:Zoom link: masterclass.instituteofhealth.com
URL:https://student.instituteofhealth.com/event/client-health-cases-2-2-2-2/2028-09-06/
END:VEVENT
BEGIN:VEVENT
DTSTART;TZID=UTC:20280906T200000
DTEND;TZID=UTC:20280906T213000
DTSTAMP:20260421T230917
CREATED:20260406T043044
LAST-MODIFIED:20260406T043044
UID:10011497-1851883200-1851888600@student.instituteofhealth.com
SUMMARY:Client Health Cases
DESCRIPTION:Zoom link: masterclass.instituteofhealth.com
URL:https://student.instituteofhealth.com/event/client-health-cases-4-2/2028-09-07/
CATEGORIES:health initiative
END:VEVENT
BEGIN:VEVENT
DTSTART;TZID=UTC:20280912T070000
DTEND;TZID=UTC:20280912T083000
DTSTAMP:20260421T230917
CREATED:20260115T025352
LAST-MODIFIED:20260402T034906
UID:10010720-1852354800-1852360200@student.instituteofhealth.com
SUMMARY:Client Health Cases
DESCRIPTION:Zoom link: masterclass.instituteofhealth.com
URL:https://student.instituteofhealth.com/event/client-health-cases-3-2/2028-09-12/
CATEGORIES:health initiative
END:VEVENT
BEGIN:VEVENT
DTSTART;TZID=UTC:20280913T060000
DTEND;TZID=UTC:20280913T073000
DTSTAMP:20260421T230917
CREATED:20260406T043015
LAST-MODIFIED:20260406T043015
UID:10012032-1852437600-1852443000@student.instituteofhealth.com
SUMMARY:Client Health Cases
DESCRIPTION:Zoom link: masterclass.instituteofhealth.com
URL:https://student.instituteofhealth.com/event/client-health-cases-2-2-2-2/2028-09-13/
END:VEVENT
BEGIN:VEVENT
DTSTART;TZID=UTC:20280913T200000
DTEND;TZID=UTC:20280913T213000
DTSTAMP:20260421T230917
CREATED:20260406T043044
LAST-MODIFIED:20260406T043044
UID:10011498-1852488000-1852493400@student.instituteofhealth.com
SUMMARY:Client Health Cases
DESCRIPTION:Zoom link: masterclass.instituteofhealth.com
URL:https://student.instituteofhealth.com/event/client-health-cases-4-2/2028-09-14/
CATEGORIES:health initiative
END:VEVENT
BEGIN:VEVENT
DTSTART;TZID=UTC:20280919T070000
DTEND;TZID=UTC:20280919T083000
DTSTAMP:20260421T230917
CREATED:20260115T025352
LAST-MODIFIED:20260402T034906
UID:10010721-1852959600-1852965000@student.instituteofhealth.com
SUMMARY:Client Health Cases
DESCRIPTION:Zoom link: masterclass.instituteofhealth.com
URL:https://student.instituteofhealth.com/event/client-health-cases-3-2/2028-09-19/
CATEGORIES:health initiative
END:VEVENT
END:VCALENDAR