BEGIN:VCALENDAR
VERSION:2.0
PRODID:-//Institute of Health - ECPv6.3.5//NONSGML v1.0//EN
CALSCALE:GREGORIAN
METHOD:PUBLISH
X-ORIGINAL-URL:https://student.instituteofhealth.com
X-WR-CALDESC:Events for Institute of Health
REFRESH-INTERVAL;VALUE=DURATION:PT1H
X-Robots-Tag:noindex
X-PUBLISHED-TTL:PT1H
BEGIN:VTIMEZONE
TZID:Australia/Brisbane
BEGIN:STANDARD
TZOFFSETFROM:+1000
TZOFFSETTO:+1000
TZNAME:AEST
DTSTART:20251231T140000
END:STANDARD
TZID:Australia/Melbourne
BEGIN:STANDARD
TZOFFSETFROM:+1100
TZOFFSETTO:+1000
TZNAME:AEST
DTSTART:20260404T160000
END:STANDARD
BEGIN:DAYLIGHT
TZOFFSETFROM:+1000
TZOFFSETTO:+1100
TZNAME:AEDT
DTSTART:20261003T160000
END:DAYLIGHT
END:VTIMEZONE
BEGIN:VEVENT
DTSTART;TZID=UTC:20260616T070000
DTEND;TZID=UTC:20260616T083000
DTSTAMP:20260420T012258
CREATED:20260115T025352
LAST-MODIFIED:20260402T034906
UID:10010603-1781593200-1781598600@student.instituteofhealth.com
SUMMARY:Client Health Cases
DESCRIPTION:Zoom link: masterclass.instituteofhealth.com
URL:https://student.instituteofhealth.com/event/client-health-cases-3-2/2026-06-16/
CATEGORIES:health initiative
END:VEVENT
BEGIN:VEVENT
DTSTART;TZID=UTC:20260617T060000
DTEND;TZID=UTC:20260617T073000
DTSTAMP:20260420T012258
CREATED:20260406T043015
LAST-MODIFIED:20260406T043015
UID:10011915-1781676000-1781681400@student.instituteofhealth.com
SUMMARY:Client Health Cases
DESCRIPTION:Zoom link: masterclass.instituteofhealth.com
URL:https://student.instituteofhealth.com/event/client-health-cases-2-2-2-2/2026-06-17/
END:VEVENT
BEGIN:VEVENT
DTSTART;TZID=UTC:20260617T200000
DTEND;TZID=UTC:20260617T213000
DTSTAMP:20260420T012258
CREATED:20260406T043044
LAST-MODIFIED:20260406T043044
UID:10011381-1781726400-1781731800@student.instituteofhealth.com
SUMMARY:Client Health Cases
DESCRIPTION:Zoom link: masterclass.instituteofhealth.com
URL:https://student.instituteofhealth.com/event/client-health-cases-4-2/2026-06-18/
CATEGORIES:health initiative
END:VEVENT
BEGIN:VEVENT
DTSTART;TZID=UTC:20260623T070000
DTEND;TZID=UTC:20260623T083000
DTSTAMP:20260420T012258
CREATED:20260115T025352
LAST-MODIFIED:20260402T034906
UID:10010604-1782198000-1782203400@student.instituteofhealth.com
SUMMARY:Client Health Cases
DESCRIPTION:Zoom link: masterclass.instituteofhealth.com
URL:https://student.instituteofhealth.com/event/client-health-cases-3-2/2026-06-23/
CATEGORIES:health initiative
END:VEVENT
BEGIN:VEVENT
DTSTART;TZID=UTC:20260624T060000
DTEND;TZID=UTC:20260624T073000
DTSTAMP:20260420T012258
CREATED:20260406T043015
LAST-MODIFIED:20260406T043015
UID:10011916-1782280800-1782286200@student.instituteofhealth.com
SUMMARY:Client Health Cases
DESCRIPTION:Zoom link: masterclass.instituteofhealth.com
URL:https://student.instituteofhealth.com/event/client-health-cases-2-2-2-2/2026-06-24/
END:VEVENT
BEGIN:VEVENT
DTSTART;TZID=UTC:20260624T200000
DTEND;TZID=UTC:20260624T213000
DTSTAMP:20260420T012258
CREATED:20260406T043044
LAST-MODIFIED:20260406T043044
UID:10011382-1782331200-1782336600@student.instituteofhealth.com
SUMMARY:Client Health Cases
DESCRIPTION:Zoom link: masterclass.instituteofhealth.com
URL:https://student.instituteofhealth.com/event/client-health-cases-4-2/2026-06-25/
CATEGORIES:health initiative
END:VEVENT
BEGIN:VEVENT
DTSTART;TZID=UTC:20260630T070000
DTEND;TZID=UTC:20260630T083000
DTSTAMP:20260420T012258
CREATED:20260115T025352
LAST-MODIFIED:20260402T034906
UID:10010605-1782802800-1782808200@student.instituteofhealth.com
SUMMARY:Client Health Cases
DESCRIPTION:Zoom link: masterclass.instituteofhealth.com
URL:https://student.instituteofhealth.com/event/client-health-cases-3-2/2026-06-30/
CATEGORIES:health initiative
END:VEVENT
BEGIN:VEVENT
DTSTART;TZID=UTC:20260701T060000
DTEND;TZID=UTC:20260701T073000
DTSTAMP:20260420T012258
CREATED:20260406T043015
LAST-MODIFIED:20260406T043015
UID:10011917-1782885600-1782891000@student.instituteofhealth.com
SUMMARY:Client Health Cases
DESCRIPTION:Zoom link: masterclass.instituteofhealth.com
URL:https://student.instituteofhealth.com/event/client-health-cases-2-2-2-2/2026-07-01/
END:VEVENT
BEGIN:VEVENT
DTSTART;TZID=UTC:20260701T200000
DTEND;TZID=UTC:20260701T213000
DTSTAMP:20260420T012258
CREATED:20260406T043044
LAST-MODIFIED:20260406T043044
UID:10011383-1782936000-1782941400@student.instituteofhealth.com
SUMMARY:Client Health Cases
DESCRIPTION:Zoom link: masterclass.instituteofhealth.com
URL:https://student.instituteofhealth.com/event/client-health-cases-4-2/2026-07-02/
CATEGORIES:health initiative
END:VEVENT
BEGIN:VEVENT
DTSTART;TZID=UTC:20260707T070000
DTEND;TZID=UTC:20260707T083000
DTSTAMP:20260420T012258
CREATED:20260115T025352
LAST-MODIFIED:20260402T034906
UID:10010606-1783407600-1783413000@student.instituteofhealth.com
SUMMARY:Client Health Cases
DESCRIPTION:Zoom link: masterclass.instituteofhealth.com
URL:https://student.instituteofhealth.com/event/client-health-cases-3-2/2026-07-07/
CATEGORIES:health initiative
END:VEVENT
BEGIN:VEVENT
DTSTART;TZID=UTC:20260708T060000
DTEND;TZID=UTC:20260708T073000
DTSTAMP:20260420T012258
CREATED:20260406T043015
LAST-MODIFIED:20260406T043015
UID:10011918-1783490400-1783495800@student.instituteofhealth.com
SUMMARY:Client Health Cases
DESCRIPTION:Zoom link: masterclass.instituteofhealth.com
URL:https://student.instituteofhealth.com/event/client-health-cases-2-2-2-2/2026-07-08/
END:VEVENT
BEGIN:VEVENT
DTSTART;TZID=UTC:20260708T200000
DTEND;TZID=UTC:20260708T213000
DTSTAMP:20260420T012258
CREATED:20260406T043044
LAST-MODIFIED:20260406T043044
UID:10011384-1783540800-1783546200@student.instituteofhealth.com
SUMMARY:Client Health Cases
DESCRIPTION:Zoom link: masterclass.instituteofhealth.com
URL:https://student.instituteofhealth.com/event/client-health-cases-4-2/2026-07-09/
CATEGORIES:health initiative
END:VEVENT
BEGIN:VEVENT
DTSTART;TZID=UTC:20260714T070000
DTEND;TZID=UTC:20260714T083000
DTSTAMP:20260420T012258
CREATED:20260115T025352
LAST-MODIFIED:20260402T034906
UID:10010607-1784012400-1784017800@student.instituteofhealth.com
SUMMARY:Client Health Cases
DESCRIPTION:Zoom link: masterclass.instituteofhealth.com
URL:https://student.instituteofhealth.com/event/client-health-cases-3-2/2026-07-14/
CATEGORIES:health initiative
END:VEVENT
BEGIN:VEVENT
DTSTART;TZID=UTC:20260715T060000
DTEND;TZID=UTC:20260715T073000
DTSTAMP:20260420T012258
CREATED:20260406T043015
LAST-MODIFIED:20260406T043015
UID:10011919-1784095200-1784100600@student.instituteofhealth.com
SUMMARY:Client Health Cases
DESCRIPTION:Zoom link: masterclass.instituteofhealth.com
URL:https://student.instituteofhealth.com/event/client-health-cases-2-2-2-2/2026-07-15/
END:VEVENT
BEGIN:VEVENT
DTSTART;TZID=UTC:20260715T200000
DTEND;TZID=UTC:20260715T213000
DTSTAMP:20260420T012258
CREATED:20260406T043044
LAST-MODIFIED:20260406T043044
UID:10011385-1784145600-1784151000@student.instituteofhealth.com
SUMMARY:Client Health Cases
DESCRIPTION:Zoom link: masterclass.instituteofhealth.com
URL:https://student.instituteofhealth.com/event/client-health-cases-4-2/2026-07-16/
CATEGORIES:health initiative
END:VEVENT
BEGIN:VEVENT
DTSTART;TZID=UTC:20260721T070000
DTEND;TZID=UTC:20260721T083000
DTSTAMP:20260420T012258
CREATED:20260115T025352
LAST-MODIFIED:20260402T034906
UID:10010608-1784617200-1784622600@student.instituteofhealth.com
SUMMARY:Client Health Cases
DESCRIPTION:Zoom link: masterclass.instituteofhealth.com
URL:https://student.instituteofhealth.com/event/client-health-cases-3-2/2026-07-21/
CATEGORIES:health initiative
END:VEVENT
BEGIN:VEVENT
DTSTART;TZID=UTC:20260722T060000
DTEND;TZID=UTC:20260722T073000
DTSTAMP:20260420T012258
CREATED:20260406T043015
LAST-MODIFIED:20260406T043015
UID:10011920-1784700000-1784705400@student.instituteofhealth.com
SUMMARY:Client Health Cases
DESCRIPTION:Zoom link: masterclass.instituteofhealth.com
URL:https://student.instituteofhealth.com/event/client-health-cases-2-2-2-2/2026-07-22/
END:VEVENT
BEGIN:VEVENT
DTSTART;TZID=UTC:20260722T200000
DTEND;TZID=UTC:20260722T213000
DTSTAMP:20260420T012258
CREATED:20260406T043044
LAST-MODIFIED:20260406T043044
UID:10011386-1784750400-1784755800@student.instituteofhealth.com
SUMMARY:Client Health Cases
DESCRIPTION:Zoom link: masterclass.instituteofhealth.com
URL:https://student.instituteofhealth.com/event/client-health-cases-4-2/2026-07-23/
CATEGORIES:health initiative
END:VEVENT
BEGIN:VEVENT
DTSTART;TZID=UTC:20260728T070000
DTEND;TZID=UTC:20260728T083000
DTSTAMP:20260420T012258
CREATED:20260115T025352
LAST-MODIFIED:20260402T034906
UID:10010609-1785222000-1785227400@student.instituteofhealth.com
SUMMARY:Client Health Cases
DESCRIPTION:Zoom link: masterclass.instituteofhealth.com
URL:https://student.instituteofhealth.com/event/client-health-cases-3-2/2026-07-28/
CATEGORIES:health initiative
END:VEVENT
BEGIN:VEVENT
DTSTART;TZID=UTC:20260729T060000
DTEND;TZID=UTC:20260729T073000
DTSTAMP:20260420T012258
CREATED:20260406T043015
LAST-MODIFIED:20260406T043015
UID:10011921-1785304800-1785310200@student.instituteofhealth.com
SUMMARY:Client Health Cases
DESCRIPTION:Zoom link: masterclass.instituteofhealth.com
URL:https://student.instituteofhealth.com/event/client-health-cases-2-2-2-2/2026-07-29/
END:VEVENT
BEGIN:VEVENT
DTSTART;TZID=UTC:20260729T200000
DTEND;TZID=UTC:20260729T213000
DTSTAMP:20260420T012258
CREATED:20260406T043044
LAST-MODIFIED:20260406T043044
UID:10011387-1785355200-1785360600@student.instituteofhealth.com
SUMMARY:Client Health Cases
DESCRIPTION:Zoom link: masterclass.instituteofhealth.com
URL:https://student.instituteofhealth.com/event/client-health-cases-4-2/2026-07-30/
CATEGORIES:health initiative
END:VEVENT
BEGIN:VEVENT
DTSTART;TZID=UTC:20260804T070000
DTEND;TZID=UTC:20260804T083000
DTSTAMP:20260420T012258
CREATED:20260115T025352
LAST-MODIFIED:20260402T034906
UID:10010610-1785826800-1785832200@student.instituteofhealth.com
SUMMARY:Client Health Cases
DESCRIPTION:Zoom link: masterclass.instituteofhealth.com
URL:https://student.instituteofhealth.com/event/client-health-cases-3-2/2026-08-04/
CATEGORIES:health initiative
END:VEVENT
BEGIN:VEVENT
DTSTART;TZID=UTC:20260805T060000
DTEND;TZID=UTC:20260805T073000
DTSTAMP:20260420T012258
CREATED:20260406T043015
LAST-MODIFIED:20260406T043015
UID:10011922-1785909600-1785915000@student.instituteofhealth.com
SUMMARY:Client Health Cases
DESCRIPTION:Zoom link: masterclass.instituteofhealth.com
URL:https://student.instituteofhealth.com/event/client-health-cases-2-2-2-2/2026-08-05/
END:VEVENT
BEGIN:VEVENT
DTSTART;TZID=UTC:20260805T200000
DTEND;TZID=UTC:20260805T213000
DTSTAMP:20260420T012258
CREATED:20260406T043044
LAST-MODIFIED:20260406T043044
UID:10011388-1785960000-1785965400@student.instituteofhealth.com
SUMMARY:Client Health Cases
DESCRIPTION:Zoom link: masterclass.instituteofhealth.com
URL:https://student.instituteofhealth.com/event/client-health-cases-4-2/2026-08-06/
CATEGORIES:health initiative
END:VEVENT
BEGIN:VEVENT
DTSTART;TZID=UTC:20260811T070000
DTEND;TZID=UTC:20260811T083000
DTSTAMP:20260420T012258
CREATED:20260115T025352
LAST-MODIFIED:20260402T034906
UID:10010611-1786431600-1786437000@student.instituteofhealth.com
SUMMARY:Client Health Cases
DESCRIPTION:Zoom link: masterclass.instituteofhealth.com
URL:https://student.instituteofhealth.com/event/client-health-cases-3-2/2026-08-11/
CATEGORIES:health initiative
END:VEVENT
BEGIN:VEVENT
DTSTART;TZID=UTC:20260812T060000
DTEND;TZID=UTC:20260812T073000
DTSTAMP:20260420T012258
CREATED:20260406T043015
LAST-MODIFIED:20260406T043015
UID:10011923-1786514400-1786519800@student.instituteofhealth.com
SUMMARY:Client Health Cases
DESCRIPTION:Zoom link: masterclass.instituteofhealth.com
URL:https://student.instituteofhealth.com/event/client-health-cases-2-2-2-2/2026-08-12/
END:VEVENT
BEGIN:VEVENT
DTSTART;TZID=UTC:20260812T200000
DTEND;TZID=UTC:20260812T213000
DTSTAMP:20260420T012258
CREATED:20260406T043044
LAST-MODIFIED:20260406T043044
UID:10011389-1786564800-1786570200@student.instituteofhealth.com
SUMMARY:Client Health Cases
DESCRIPTION:Zoom link: masterclass.instituteofhealth.com
URL:https://student.instituteofhealth.com/event/client-health-cases-4-2/2026-08-13/
CATEGORIES:health initiative
END:VEVENT
BEGIN:VEVENT
DTSTART;TZID=UTC:20260818T070000
DTEND;TZID=UTC:20260818T083000
DTSTAMP:20260420T012258
CREATED:20260115T025352
LAST-MODIFIED:20260402T034906
UID:10010612-1787036400-1787041800@student.instituteofhealth.com
SUMMARY:Client Health Cases
DESCRIPTION:Zoom link: masterclass.instituteofhealth.com
URL:https://student.instituteofhealth.com/event/client-health-cases-3-2/2026-08-18/
CATEGORIES:health initiative
END:VEVENT
BEGIN:VEVENT
DTSTART;TZID=UTC:20260819T060000
DTEND;TZID=UTC:20260819T073000
DTSTAMP:20260420T012258
CREATED:20260406T043015
LAST-MODIFIED:20260406T043015
UID:10011924-1787119200-1787124600@student.instituteofhealth.com
SUMMARY:Client Health Cases
DESCRIPTION:Zoom link: masterclass.instituteofhealth.com
URL:https://student.instituteofhealth.com/event/client-health-cases-2-2-2-2/2026-08-19/
END:VEVENT
BEGIN:VEVENT
DTSTART;TZID=UTC:20260819T200000
DTEND;TZID=UTC:20260819T213000
DTSTAMP:20260420T012258
CREATED:20260406T043044
LAST-MODIFIED:20260406T043044
UID:10011390-1787169600-1787175000@student.instituteofhealth.com
SUMMARY:Client Health Cases
DESCRIPTION:Zoom link: masterclass.instituteofhealth.com
URL:https://student.instituteofhealth.com/event/client-health-cases-4-2/2026-08-20/
CATEGORIES:health initiative
END:VEVENT
END:VCALENDAR