BEGIN:VCALENDAR
VERSION:2.0
PRODID:-//Institute of Health - ECPv6.3.5//NONSGML v1.0//EN
CALSCALE:GREGORIAN
METHOD:PUBLISH
X-ORIGINAL-URL:https://student.instituteofhealth.com
X-WR-CALDESC:Events for Institute of Health
REFRESH-INTERVAL;VALUE=DURATION:PT1H
X-Robots-Tag:noindex
X-PUBLISHED-TTL:PT1H
BEGIN:VTIMEZONE
TZID:Australia/Melbourne
BEGIN:STANDARD
TZOFFSETFROM:+1100
TZOFFSETTO:+1000
TZNAME:AEST
DTSTART:20280401T160000
END:STANDARD
BEGIN:DAYLIGHT
TZOFFSETFROM:+1000
TZOFFSETTO:+1100
TZNAME:AEDT
DTSTART:20280930T160000
END:DAYLIGHT
TZID:Australia/Brisbane
BEGIN:STANDARD
TZOFFSETFROM:+1000
TZOFFSETTO:+1000
TZNAME:AEST
DTSTART:20271231T140000
END:STANDARD
END:VTIMEZONE
BEGIN:VEVENT
DTSTART;TZID=UTC:20280517T060000
DTEND;TZID=UTC:20280517T073000
DTSTAMP:20260421T195309
CREATED:20260406T043015
LAST-MODIFIED:20260406T043015
UID:10012015-1842156000-1842161400@student.instituteofhealth.com
SUMMARY:Client Health Cases
DESCRIPTION:Zoom link: masterclass.instituteofhealth.com
URL:https://student.instituteofhealth.com/event/client-health-cases-2-2-2-2/2028-05-17/
END:VEVENT
BEGIN:VEVENT
DTSTART;TZID=UTC:20280517T200000
DTEND;TZID=UTC:20280517T213000
DTSTAMP:20260421T195309
CREATED:20260406T043044
LAST-MODIFIED:20260406T043044
UID:10011481-1842206400-1842211800@student.instituteofhealth.com
SUMMARY:Client Health Cases
DESCRIPTION:Zoom link: masterclass.instituteofhealth.com
URL:https://student.instituteofhealth.com/event/client-health-cases-4-2/2028-05-18/
CATEGORIES:health initiative
END:VEVENT
BEGIN:VEVENT
DTSTART;TZID=UTC:20280523T070000
DTEND;TZID=UTC:20280523T083000
DTSTAMP:20260421T195309
CREATED:20260115T025352
LAST-MODIFIED:20260402T034906
UID:10010704-1842678000-1842683400@student.instituteofhealth.com
SUMMARY:Client Health Cases
DESCRIPTION:Zoom link: masterclass.instituteofhealth.com
URL:https://student.instituteofhealth.com/event/client-health-cases-3-2/2028-05-23/
CATEGORIES:health initiative
END:VEVENT
BEGIN:VEVENT
DTSTART;TZID=UTC:20280524T060000
DTEND;TZID=UTC:20280524T073000
DTSTAMP:20260421T195309
CREATED:20260406T043015
LAST-MODIFIED:20260406T043015
UID:10012016-1842760800-1842766200@student.instituteofhealth.com
SUMMARY:Client Health Cases
DESCRIPTION:Zoom link: masterclass.instituteofhealth.com
URL:https://student.instituteofhealth.com/event/client-health-cases-2-2-2-2/2028-05-24/
END:VEVENT
BEGIN:VEVENT
DTSTART;TZID=UTC:20280524T200000
DTEND;TZID=UTC:20280524T213000
DTSTAMP:20260421T195309
CREATED:20260406T043044
LAST-MODIFIED:20260406T043044
UID:10011482-1842811200-1842816600@student.instituteofhealth.com
SUMMARY:Client Health Cases
DESCRIPTION:Zoom link: masterclass.instituteofhealth.com
URL:https://student.instituteofhealth.com/event/client-health-cases-4-2/2028-05-25/
CATEGORIES:health initiative
END:VEVENT
BEGIN:VEVENT
DTSTART;TZID=UTC:20280530T070000
DTEND;TZID=UTC:20280530T083000
DTSTAMP:20260421T195309
CREATED:20260115T025352
LAST-MODIFIED:20260402T034906
UID:10010705-1843282800-1843288200@student.instituteofhealth.com
SUMMARY:Client Health Cases
DESCRIPTION:Zoom link: masterclass.instituteofhealth.com
URL:https://student.instituteofhealth.com/event/client-health-cases-3-2/2028-05-30/
CATEGORIES:health initiative
END:VEVENT
BEGIN:VEVENT
DTSTART;TZID=UTC:20280531T060000
DTEND;TZID=UTC:20280531T073000
DTSTAMP:20260421T195309
CREATED:20260406T043015
LAST-MODIFIED:20260406T043015
UID:10012017-1843365600-1843371000@student.instituteofhealth.com
SUMMARY:Client Health Cases
DESCRIPTION:Zoom link: masterclass.instituteofhealth.com
URL:https://student.instituteofhealth.com/event/client-health-cases-2-2-2-2/2028-05-31/
END:VEVENT
BEGIN:VEVENT
DTSTART;TZID=UTC:20280531T200000
DTEND;TZID=UTC:20280531T213000
DTSTAMP:20260421T195309
CREATED:20260406T043044
LAST-MODIFIED:20260406T043044
UID:10011483-1843416000-1843421400@student.instituteofhealth.com
SUMMARY:Client Health Cases
DESCRIPTION:Zoom link: masterclass.instituteofhealth.com
URL:https://student.instituteofhealth.com/event/client-health-cases-4-2/2028-06-01/
CATEGORIES:health initiative
END:VEVENT
BEGIN:VEVENT
DTSTART;TZID=UTC:20280606T070000
DTEND;TZID=UTC:20280606T083000
DTSTAMP:20260421T195309
CREATED:20260115T025352
LAST-MODIFIED:20260402T034906
UID:10010706-1843887600-1843893000@student.instituteofhealth.com
SUMMARY:Client Health Cases
DESCRIPTION:Zoom link: masterclass.instituteofhealth.com
URL:https://student.instituteofhealth.com/event/client-health-cases-3-2/2028-06-06/
CATEGORIES:health initiative
END:VEVENT
BEGIN:VEVENT
DTSTART;TZID=UTC:20280607T060000
DTEND;TZID=UTC:20280607T073000
DTSTAMP:20260421T195309
CREATED:20260406T043015
LAST-MODIFIED:20260406T043015
UID:10012018-1843970400-1843975800@student.instituteofhealth.com
SUMMARY:Client Health Cases
DESCRIPTION:Zoom link: masterclass.instituteofhealth.com
URL:https://student.instituteofhealth.com/event/client-health-cases-2-2-2-2/2028-06-07/
END:VEVENT
BEGIN:VEVENT
DTSTART;TZID=UTC:20280607T200000
DTEND;TZID=UTC:20280607T213000
DTSTAMP:20260421T195309
CREATED:20260406T043044
LAST-MODIFIED:20260406T043044
UID:10011484-1844020800-1844026200@student.instituteofhealth.com
SUMMARY:Client Health Cases
DESCRIPTION:Zoom link: masterclass.instituteofhealth.com
URL:https://student.instituteofhealth.com/event/client-health-cases-4-2/2028-06-08/
CATEGORIES:health initiative
END:VEVENT
BEGIN:VEVENT
DTSTART;TZID=UTC:20280613T070000
DTEND;TZID=UTC:20280613T083000
DTSTAMP:20260421T195309
CREATED:20260115T025352
LAST-MODIFIED:20260402T034906
UID:10010707-1844492400-1844497800@student.instituteofhealth.com
SUMMARY:Client Health Cases
DESCRIPTION:Zoom link: masterclass.instituteofhealth.com
URL:https://student.instituteofhealth.com/event/client-health-cases-3-2/2028-06-13/
CATEGORIES:health initiative
END:VEVENT
BEGIN:VEVENT
DTSTART;TZID=UTC:20280614T060000
DTEND;TZID=UTC:20280614T073000
DTSTAMP:20260421T195309
CREATED:20260406T043015
LAST-MODIFIED:20260406T043015
UID:10012019-1844575200-1844580600@student.instituteofhealth.com
SUMMARY:Client Health Cases
DESCRIPTION:Zoom link: masterclass.instituteofhealth.com
URL:https://student.instituteofhealth.com/event/client-health-cases-2-2-2-2/2028-06-14/
END:VEVENT
BEGIN:VEVENT
DTSTART;TZID=UTC:20280614T200000
DTEND;TZID=UTC:20280614T213000
DTSTAMP:20260421T195309
CREATED:20260406T043044
LAST-MODIFIED:20260406T043044
UID:10011485-1844625600-1844631000@student.instituteofhealth.com
SUMMARY:Client Health Cases
DESCRIPTION:Zoom link: masterclass.instituteofhealth.com
URL:https://student.instituteofhealth.com/event/client-health-cases-4-2/2028-06-15/
CATEGORIES:health initiative
END:VEVENT
BEGIN:VEVENT
DTSTART;TZID=UTC:20280620T070000
DTEND;TZID=UTC:20280620T083000
DTSTAMP:20260421T195309
CREATED:20260115T025352
LAST-MODIFIED:20260402T034906
UID:10010708-1845097200-1845102600@student.instituteofhealth.com
SUMMARY:Client Health Cases
DESCRIPTION:Zoom link: masterclass.instituteofhealth.com
URL:https://student.instituteofhealth.com/event/client-health-cases-3-2/2028-06-20/
CATEGORIES:health initiative
END:VEVENT
BEGIN:VEVENT
DTSTART;TZID=UTC:20280621T060000
DTEND;TZID=UTC:20280621T073000
DTSTAMP:20260421T195309
CREATED:20260406T043015
LAST-MODIFIED:20260406T043015
UID:10012020-1845180000-1845185400@student.instituteofhealth.com
SUMMARY:Client Health Cases
DESCRIPTION:Zoom link: masterclass.instituteofhealth.com
URL:https://student.instituteofhealth.com/event/client-health-cases-2-2-2-2/2028-06-21/
END:VEVENT
BEGIN:VEVENT
DTSTART;TZID=UTC:20280621T200000
DTEND;TZID=UTC:20280621T213000
DTSTAMP:20260421T195309
CREATED:20260406T043044
LAST-MODIFIED:20260406T043044
UID:10011486-1845230400-1845235800@student.instituteofhealth.com
SUMMARY:Client Health Cases
DESCRIPTION:Zoom link: masterclass.instituteofhealth.com
URL:https://student.instituteofhealth.com/event/client-health-cases-4-2/2028-06-22/
CATEGORIES:health initiative
END:VEVENT
BEGIN:VEVENT
DTSTART;TZID=UTC:20280627T070000
DTEND;TZID=UTC:20280627T083000
DTSTAMP:20260421T195309
CREATED:20260115T025352
LAST-MODIFIED:20260402T034906
UID:10010709-1845702000-1845707400@student.instituteofhealth.com
SUMMARY:Client Health Cases
DESCRIPTION:Zoom link: masterclass.instituteofhealth.com
URL:https://student.instituteofhealth.com/event/client-health-cases-3-2/2028-06-27/
CATEGORIES:health initiative
END:VEVENT
BEGIN:VEVENT
DTSTART;TZID=UTC:20280628T060000
DTEND;TZID=UTC:20280628T073000
DTSTAMP:20260421T195309
CREATED:20260406T043015
LAST-MODIFIED:20260406T043015
UID:10012021-1845784800-1845790200@student.instituteofhealth.com
SUMMARY:Client Health Cases
DESCRIPTION:Zoom link: masterclass.instituteofhealth.com
URL:https://student.instituteofhealth.com/event/client-health-cases-2-2-2-2/2028-06-28/
END:VEVENT
BEGIN:VEVENT
DTSTART;TZID=UTC:20280628T200000
DTEND;TZID=UTC:20280628T213000
DTSTAMP:20260421T195309
CREATED:20260406T043044
LAST-MODIFIED:20260406T043044
UID:10011487-1845835200-1845840600@student.instituteofhealth.com
SUMMARY:Client Health Cases
DESCRIPTION:Zoom link: masterclass.instituteofhealth.com
URL:https://student.instituteofhealth.com/event/client-health-cases-4-2/2028-06-29/
CATEGORIES:health initiative
END:VEVENT
BEGIN:VEVENT
DTSTART;TZID=UTC:20280704T070000
DTEND;TZID=UTC:20280704T083000
DTSTAMP:20260421T195309
CREATED:20260115T025352
LAST-MODIFIED:20260402T034906
UID:10010710-1846306800-1846312200@student.instituteofhealth.com
SUMMARY:Client Health Cases
DESCRIPTION:Zoom link: masterclass.instituteofhealth.com
URL:https://student.instituteofhealth.com/event/client-health-cases-3-2/2028-07-04/
CATEGORIES:health initiative
END:VEVENT
BEGIN:VEVENT
DTSTART;TZID=UTC:20280705T060000
DTEND;TZID=UTC:20280705T073000
DTSTAMP:20260421T195309
CREATED:20260406T043015
LAST-MODIFIED:20260406T043015
UID:10012022-1846389600-1846395000@student.instituteofhealth.com
SUMMARY:Client Health Cases
DESCRIPTION:Zoom link: masterclass.instituteofhealth.com
URL:https://student.instituteofhealth.com/event/client-health-cases-2-2-2-2/2028-07-05/
END:VEVENT
BEGIN:VEVENT
DTSTART;TZID=UTC:20280705T200000
DTEND;TZID=UTC:20280705T213000
DTSTAMP:20260421T195309
CREATED:20260406T043044
LAST-MODIFIED:20260406T043044
UID:10011488-1846440000-1846445400@student.instituteofhealth.com
SUMMARY:Client Health Cases
DESCRIPTION:Zoom link: masterclass.instituteofhealth.com
URL:https://student.instituteofhealth.com/event/client-health-cases-4-2/2028-07-06/
CATEGORIES:health initiative
END:VEVENT
BEGIN:VEVENT
DTSTART;TZID=UTC:20280711T070000
DTEND;TZID=UTC:20280711T083000
DTSTAMP:20260421T195309
CREATED:20260115T025352
LAST-MODIFIED:20260402T034906
UID:10010711-1846911600-1846917000@student.instituteofhealth.com
SUMMARY:Client Health Cases
DESCRIPTION:Zoom link: masterclass.instituteofhealth.com
URL:https://student.instituteofhealth.com/event/client-health-cases-3-2/2028-07-11/
CATEGORIES:health initiative
END:VEVENT
BEGIN:VEVENT
DTSTART;TZID=UTC:20280712T060000
DTEND;TZID=UTC:20280712T073000
DTSTAMP:20260421T195309
CREATED:20260406T043015
LAST-MODIFIED:20260406T043015
UID:10012023-1846994400-1846999800@student.instituteofhealth.com
SUMMARY:Client Health Cases
DESCRIPTION:Zoom link: masterclass.instituteofhealth.com
URL:https://student.instituteofhealth.com/event/client-health-cases-2-2-2-2/2028-07-12/
END:VEVENT
BEGIN:VEVENT
DTSTART;TZID=UTC:20280712T200000
DTEND;TZID=UTC:20280712T213000
DTSTAMP:20260421T195309
CREATED:20260406T043044
LAST-MODIFIED:20260406T043044
UID:10011489-1847044800-1847050200@student.instituteofhealth.com
SUMMARY:Client Health Cases
DESCRIPTION:Zoom link: masterclass.instituteofhealth.com
URL:https://student.instituteofhealth.com/event/client-health-cases-4-2/2028-07-13/
CATEGORIES:health initiative
END:VEVENT
BEGIN:VEVENT
DTSTART;TZID=UTC:20280718T070000
DTEND;TZID=UTC:20280718T083000
DTSTAMP:20260421T195309
CREATED:20260115T025352
LAST-MODIFIED:20260402T034906
UID:10010712-1847516400-1847521800@student.instituteofhealth.com
SUMMARY:Client Health Cases
DESCRIPTION:Zoom link: masterclass.instituteofhealth.com
URL:https://student.instituteofhealth.com/event/client-health-cases-3-2/2028-07-18/
CATEGORIES:health initiative
END:VEVENT
BEGIN:VEVENT
DTSTART;TZID=UTC:20280719T060000
DTEND;TZID=UTC:20280719T073000
DTSTAMP:20260421T195309
CREATED:20260406T043015
LAST-MODIFIED:20260406T043015
UID:10012024-1847599200-1847604600@student.instituteofhealth.com
SUMMARY:Client Health Cases
DESCRIPTION:Zoom link: masterclass.instituteofhealth.com
URL:https://student.instituteofhealth.com/event/client-health-cases-2-2-2-2/2028-07-19/
END:VEVENT
BEGIN:VEVENT
DTSTART;TZID=UTC:20280719T200000
DTEND;TZID=UTC:20280719T213000
DTSTAMP:20260421T195309
CREATED:20260406T043044
LAST-MODIFIED:20260406T043044
UID:10011490-1847649600-1847655000@student.instituteofhealth.com
SUMMARY:Client Health Cases
DESCRIPTION:Zoom link: masterclass.instituteofhealth.com
URL:https://student.instituteofhealth.com/event/client-health-cases-4-2/2028-07-20/
CATEGORIES:health initiative
END:VEVENT
BEGIN:VEVENT
DTSTART;TZID=UTC:20280725T070000
DTEND;TZID=UTC:20280725T083000
DTSTAMP:20260421T195309
CREATED:20260115T025352
LAST-MODIFIED:20260402T034906
UID:10010713-1848121200-1848126600@student.instituteofhealth.com
SUMMARY:Client Health Cases
DESCRIPTION:Zoom link: masterclass.instituteofhealth.com
URL:https://student.instituteofhealth.com/event/client-health-cases-3-2/2028-07-25/
CATEGORIES:health initiative
END:VEVENT
END:VCALENDAR