BEGIN:VCALENDAR
VERSION:2.0
PRODID:-//Institute of Health - ECPv6.3.5//NONSGML v1.0//EN
CALSCALE:GREGORIAN
METHOD:PUBLISH
X-WR-CALNAME:Institute of Health
X-ORIGINAL-URL:https://student.instituteofhealth.com
X-WR-CALDESC:Events for Institute of Health
REFRESH-INTERVAL;VALUE=DURATION:PT1H
X-Robots-Tag:noindex
X-PUBLISHED-TTL:PT1H
BEGIN:VTIMEZONE
TZID:Australia/Brisbane
BEGIN:STANDARD
TZOFFSETFROM:+1000
TZOFFSETTO:+1000
TZNAME:AEST
DTSTART:20271231T140000
END:STANDARD
TZID:Australia/Melbourne
BEGIN:STANDARD
TZOFFSETFROM:+1100
TZOFFSETTO:+1000
TZNAME:AEST
DTSTART:20280401T160000
END:STANDARD
BEGIN:DAYLIGHT
TZOFFSETFROM:+1000
TZOFFSETTO:+1100
TZNAME:AEDT
DTSTART:20280930T160000
END:DAYLIGHT
END:VTIMEZONE
BEGIN:VEVENT
DTSTART;TZID=UTC:20280222T070000
DTEND;TZID=UTC:20280222T083000
DTSTAMP:20260421T151424
CREATED:20260115T025352
LAST-MODIFIED:20260402T034906
UID:10010691-1834815600-1834821000@student.instituteofhealth.com
SUMMARY:Client Health Cases
DESCRIPTION:Zoom link: masterclass.instituteofhealth.com
URL:https://student.instituteofhealth.com/event/client-health-cases-3-2/2028-02-22/
CATEGORIES:health initiative
END:VEVENT
BEGIN:VEVENT
DTSTART;TZID=UTC:20280223T060000
DTEND;TZID=UTC:20280223T073000
DTSTAMP:20260421T151424
CREATED:20260406T043015
LAST-MODIFIED:20260406T043015
UID:10012003-1834898400-1834903800@student.instituteofhealth.com
SUMMARY:Client Health Cases
DESCRIPTION:Zoom link: masterclass.instituteofhealth.com
URL:https://student.instituteofhealth.com/event/client-health-cases-2-2-2-2/2028-02-23/
END:VEVENT
BEGIN:VEVENT
DTSTART;TZID=UTC:20280223T200000
DTEND;TZID=UTC:20280223T213000
DTSTAMP:20260421T151424
CREATED:20260406T043044
LAST-MODIFIED:20260406T043044
UID:10011469-1834948800-1834954200@student.instituteofhealth.com
SUMMARY:Client Health Cases
DESCRIPTION:Zoom link: masterclass.instituteofhealth.com
URL:https://student.instituteofhealth.com/event/client-health-cases-4-2/2028-02-24/
CATEGORIES:health initiative
END:VEVENT
BEGIN:VEVENT
DTSTART;TZID=UTC:20280229T070000
DTEND;TZID=UTC:20280229T083000
DTSTAMP:20260421T151424
CREATED:20260115T025352
LAST-MODIFIED:20260402T034906
UID:10010692-1835420400-1835425800@student.instituteofhealth.com
SUMMARY:Client Health Cases
DESCRIPTION:Zoom link: masterclass.instituteofhealth.com
URL:https://student.instituteofhealth.com/event/client-health-cases-3-2/2028-02-29/
CATEGORIES:health initiative
END:VEVENT
BEGIN:VEVENT
DTSTART;TZID=UTC:20280301T060000
DTEND;TZID=UTC:20280301T073000
DTSTAMP:20260421T151424
CREATED:20260406T043015
LAST-MODIFIED:20260406T043015
UID:10012004-1835503200-1835508600@student.instituteofhealth.com
SUMMARY:Client Health Cases
DESCRIPTION:Zoom link: masterclass.instituteofhealth.com
URL:https://student.instituteofhealth.com/event/client-health-cases-2-2-2-2/2028-03-01/
END:VEVENT
BEGIN:VEVENT
DTSTART;TZID=UTC:20280301T200000
DTEND;TZID=UTC:20280301T213000
DTSTAMP:20260421T151424
CREATED:20260406T043044
LAST-MODIFIED:20260406T043044
UID:10011470-1835553600-1835559000@student.instituteofhealth.com
SUMMARY:Client Health Cases
DESCRIPTION:Zoom link: masterclass.instituteofhealth.com
URL:https://student.instituteofhealth.com/event/client-health-cases-4-2/2028-03-02/
CATEGORIES:health initiative
END:VEVENT
BEGIN:VEVENT
DTSTART;TZID=UTC:20280307T070000
DTEND;TZID=UTC:20280307T083000
DTSTAMP:20260421T151425
CREATED:20260115T025352
LAST-MODIFIED:20260402T034906
UID:10010693-1836025200-1836030600@student.instituteofhealth.com
SUMMARY:Client Health Cases
DESCRIPTION:Zoom link: masterclass.instituteofhealth.com
URL:https://student.instituteofhealth.com/event/client-health-cases-3-2/2028-03-07/
CATEGORIES:health initiative
END:VEVENT
BEGIN:VEVENT
DTSTART;TZID=UTC:20280308T060000
DTEND;TZID=UTC:20280308T073000
DTSTAMP:20260421T151425
CREATED:20260406T043015
LAST-MODIFIED:20260406T043015
UID:10012005-1836108000-1836113400@student.instituteofhealth.com
SUMMARY:Client Health Cases
DESCRIPTION:Zoom link: masterclass.instituteofhealth.com
URL:https://student.instituteofhealth.com/event/client-health-cases-2-2-2-2/2028-03-08/
END:VEVENT
BEGIN:VEVENT
DTSTART;TZID=UTC:20280308T200000
DTEND;TZID=UTC:20280308T213000
DTSTAMP:20260421T151425
CREATED:20260406T043044
LAST-MODIFIED:20260406T043044
UID:10011471-1836158400-1836163800@student.instituteofhealth.com
SUMMARY:Client Health Cases
DESCRIPTION:Zoom link: masterclass.instituteofhealth.com
URL:https://student.instituteofhealth.com/event/client-health-cases-4-2/2028-03-09/
CATEGORIES:health initiative
END:VEVENT
BEGIN:VEVENT
DTSTART;TZID=UTC:20280314T070000
DTEND;TZID=UTC:20280314T083000
DTSTAMP:20260421T151425
CREATED:20260115T025352
LAST-MODIFIED:20260402T034906
UID:10010694-1836630000-1836635400@student.instituteofhealth.com
SUMMARY:Client Health Cases
DESCRIPTION:Zoom link: masterclass.instituteofhealth.com
URL:https://student.instituteofhealth.com/event/client-health-cases-3-2/2028-03-14/
CATEGORIES:health initiative
END:VEVENT
BEGIN:VEVENT
DTSTART;TZID=UTC:20280315T060000
DTEND;TZID=UTC:20280315T073000
DTSTAMP:20260421T151425
CREATED:20260406T043015
LAST-MODIFIED:20260406T043015
UID:10012006-1836712800-1836718200@student.instituteofhealth.com
SUMMARY:Client Health Cases
DESCRIPTION:Zoom link: masterclass.instituteofhealth.com
URL:https://student.instituteofhealth.com/event/client-health-cases-2-2-2-2/2028-03-15/
END:VEVENT
BEGIN:VEVENT
DTSTART;TZID=UTC:20280315T200000
DTEND;TZID=UTC:20280315T213000
DTSTAMP:20260421T151425
CREATED:20260406T043044
LAST-MODIFIED:20260406T043044
UID:10011472-1836763200-1836768600@student.instituteofhealth.com
SUMMARY:Client Health Cases
DESCRIPTION:Zoom link: masterclass.instituteofhealth.com
URL:https://student.instituteofhealth.com/event/client-health-cases-4-2/2028-03-16/
CATEGORIES:health initiative
END:VEVENT
BEGIN:VEVENT
DTSTART;TZID=UTC:20280321T070000
DTEND;TZID=UTC:20280321T083000
DTSTAMP:20260421T151425
CREATED:20260115T025352
LAST-MODIFIED:20260402T034906
UID:10010695-1837234800-1837240200@student.instituteofhealth.com
SUMMARY:Client Health Cases
DESCRIPTION:Zoom link: masterclass.instituteofhealth.com
URL:https://student.instituteofhealth.com/event/client-health-cases-3-2/2028-03-21/
CATEGORIES:health initiative
END:VEVENT
BEGIN:VEVENT
DTSTART;TZID=UTC:20280322T060000
DTEND;TZID=UTC:20280322T073000
DTSTAMP:20260421T151425
CREATED:20260406T043015
LAST-MODIFIED:20260406T043015
UID:10012007-1837317600-1837323000@student.instituteofhealth.com
SUMMARY:Client Health Cases
DESCRIPTION:Zoom link: masterclass.instituteofhealth.com
URL:https://student.instituteofhealth.com/event/client-health-cases-2-2-2-2/2028-03-22/
END:VEVENT
BEGIN:VEVENT
DTSTART;TZID=UTC:20280322T200000
DTEND;TZID=UTC:20280322T213000
DTSTAMP:20260421T151425
CREATED:20260406T043044
LAST-MODIFIED:20260406T043044
UID:10011473-1837368000-1837373400@student.instituteofhealth.com
SUMMARY:Client Health Cases
DESCRIPTION:Zoom link: masterclass.instituteofhealth.com
URL:https://student.instituteofhealth.com/event/client-health-cases-4-2/2028-03-23/
CATEGORIES:health initiative
END:VEVENT
BEGIN:VEVENT
DTSTART;TZID=UTC:20280328T070000
DTEND;TZID=UTC:20280328T083000
DTSTAMP:20260421T151425
CREATED:20260115T025352
LAST-MODIFIED:20260402T034906
UID:10010696-1837839600-1837845000@student.instituteofhealth.com
SUMMARY:Client Health Cases
DESCRIPTION:Zoom link: masterclass.instituteofhealth.com
URL:https://student.instituteofhealth.com/event/client-health-cases-3-2/2028-03-28/
CATEGORIES:health initiative
END:VEVENT
BEGIN:VEVENT
DTSTART;TZID=UTC:20280329T060000
DTEND;TZID=UTC:20280329T073000
DTSTAMP:20260421T151425
CREATED:20260406T043015
LAST-MODIFIED:20260406T043015
UID:10012008-1837922400-1837927800@student.instituteofhealth.com
SUMMARY:Client Health Cases
DESCRIPTION:Zoom link: masterclass.instituteofhealth.com
URL:https://student.instituteofhealth.com/event/client-health-cases-2-2-2-2/2028-03-29/
END:VEVENT
BEGIN:VEVENT
DTSTART;TZID=UTC:20280329T200000
DTEND;TZID=UTC:20280329T213000
DTSTAMP:20260421T151425
CREATED:20260406T043044
LAST-MODIFIED:20260406T043044
UID:10011474-1837972800-1837978200@student.instituteofhealth.com
SUMMARY:Client Health Cases
DESCRIPTION:Zoom link: masterclass.instituteofhealth.com
URL:https://student.instituteofhealth.com/event/client-health-cases-4-2/2028-03-30/
CATEGORIES:health initiative
END:VEVENT
BEGIN:VEVENT
DTSTART;TZID=UTC:20280404T070000
DTEND;TZID=UTC:20280404T083000
DTSTAMP:20260421T151425
CREATED:20260115T025352
LAST-MODIFIED:20260402T034906
UID:10010697-1838444400-1838449800@student.instituteofhealth.com
SUMMARY:Client Health Cases
DESCRIPTION:Zoom link: masterclass.instituteofhealth.com
URL:https://student.instituteofhealth.com/event/client-health-cases-3-2/2028-04-04/
CATEGORIES:health initiative
END:VEVENT
BEGIN:VEVENT
DTSTART;TZID=UTC:20280405T060000
DTEND;TZID=UTC:20280405T073000
DTSTAMP:20260421T151425
CREATED:20260406T043015
LAST-MODIFIED:20260406T043015
UID:10012009-1838527200-1838532600@student.instituteofhealth.com
SUMMARY:Client Health Cases
DESCRIPTION:Zoom link: masterclass.instituteofhealth.com
URL:https://student.instituteofhealth.com/event/client-health-cases-2-2-2-2/2028-04-05/
END:VEVENT
BEGIN:VEVENT
DTSTART;TZID=UTC:20280405T200000
DTEND;TZID=UTC:20280405T213000
DTSTAMP:20260421T151425
CREATED:20260406T043044
LAST-MODIFIED:20260406T043044
UID:10011475-1838577600-1838583000@student.instituteofhealth.com
SUMMARY:Client Health Cases
DESCRIPTION:Zoom link: masterclass.instituteofhealth.com
URL:https://student.instituteofhealth.com/event/client-health-cases-4-2/2028-04-06/
CATEGORIES:health initiative
END:VEVENT
BEGIN:VEVENT
DTSTART;TZID=UTC:20280411T070000
DTEND;TZID=UTC:20280411T083000
DTSTAMP:20260421T151425
CREATED:20260115T025352
LAST-MODIFIED:20260402T034906
UID:10010698-1839049200-1839054600@student.instituteofhealth.com
SUMMARY:Client Health Cases
DESCRIPTION:Zoom link: masterclass.instituteofhealth.com
URL:https://student.instituteofhealth.com/event/client-health-cases-3-2/2028-04-11/
CATEGORIES:health initiative
END:VEVENT
BEGIN:VEVENT
DTSTART;TZID=UTC:20280412T060000
DTEND;TZID=UTC:20280412T073000
DTSTAMP:20260421T151425
CREATED:20260406T043015
LAST-MODIFIED:20260406T043015
UID:10012010-1839132000-1839137400@student.instituteofhealth.com
SUMMARY:Client Health Cases
DESCRIPTION:Zoom link: masterclass.instituteofhealth.com
URL:https://student.instituteofhealth.com/event/client-health-cases-2-2-2-2/2028-04-12/
END:VEVENT
BEGIN:VEVENT
DTSTART;TZID=UTC:20280412T200000
DTEND;TZID=UTC:20280412T213000
DTSTAMP:20260421T151425
CREATED:20260406T043044
LAST-MODIFIED:20260406T043044
UID:10011476-1839182400-1839187800@student.instituteofhealth.com
SUMMARY:Client Health Cases
DESCRIPTION:Zoom link: masterclass.instituteofhealth.com
URL:https://student.instituteofhealth.com/event/client-health-cases-4-2/2028-04-13/
CATEGORIES:health initiative
END:VEVENT
BEGIN:VEVENT
DTSTART;TZID=UTC:20280418T070000
DTEND;TZID=UTC:20280418T083000
DTSTAMP:20260421T151425
CREATED:20260115T025352
LAST-MODIFIED:20260402T034906
UID:10010699-1839654000-1839659400@student.instituteofhealth.com
SUMMARY:Client Health Cases
DESCRIPTION:Zoom link: masterclass.instituteofhealth.com
URL:https://student.instituteofhealth.com/event/client-health-cases-3-2/2028-04-18/
CATEGORIES:health initiative
END:VEVENT
BEGIN:VEVENT
DTSTART;TZID=UTC:20280419T060000
DTEND;TZID=UTC:20280419T073000
DTSTAMP:20260421T151425
CREATED:20260406T043015
LAST-MODIFIED:20260406T043015
UID:10012011-1839736800-1839742200@student.instituteofhealth.com
SUMMARY:Client Health Cases
DESCRIPTION:Zoom link: masterclass.instituteofhealth.com
URL:https://student.instituteofhealth.com/event/client-health-cases-2-2-2-2/2028-04-19/
END:VEVENT
BEGIN:VEVENT
DTSTART;TZID=UTC:20280419T200000
DTEND;TZID=UTC:20280419T213000
DTSTAMP:20260421T151425
CREATED:20260406T043044
LAST-MODIFIED:20260406T043044
UID:10011477-1839787200-1839792600@student.instituteofhealth.com
SUMMARY:Client Health Cases
DESCRIPTION:Zoom link: masterclass.instituteofhealth.com
URL:https://student.instituteofhealth.com/event/client-health-cases-4-2/2028-04-20/
CATEGORIES:health initiative
END:VEVENT
BEGIN:VEVENT
DTSTART;TZID=UTC:20280425T070000
DTEND;TZID=UTC:20280425T083000
DTSTAMP:20260421T151425
CREATED:20260115T025352
LAST-MODIFIED:20260402T034906
UID:10010700-1840258800-1840264200@student.instituteofhealth.com
SUMMARY:Client Health Cases
DESCRIPTION:Zoom link: masterclass.instituteofhealth.com
URL:https://student.instituteofhealth.com/event/client-health-cases-3-2/2028-04-25/
CATEGORIES:health initiative
END:VEVENT
BEGIN:VEVENT
DTSTART;TZID=UTC:20280426T060000
DTEND;TZID=UTC:20280426T073000
DTSTAMP:20260421T151425
CREATED:20260406T043015
LAST-MODIFIED:20260406T043015
UID:10012012-1840341600-1840347000@student.instituteofhealth.com
SUMMARY:Client Health Cases
DESCRIPTION:Zoom link: masterclass.instituteofhealth.com
URL:https://student.instituteofhealth.com/event/client-health-cases-2-2-2-2/2028-04-26/
END:VEVENT
BEGIN:VEVENT
DTSTART;TZID=UTC:20280426T200000
DTEND;TZID=UTC:20280426T213000
DTSTAMP:20260421T151425
CREATED:20260406T043044
LAST-MODIFIED:20260406T043044
UID:10011478-1840392000-1840397400@student.instituteofhealth.com
SUMMARY:Client Health Cases
DESCRIPTION:Zoom link: masterclass.instituteofhealth.com
URL:https://student.instituteofhealth.com/event/client-health-cases-4-2/2028-04-27/
CATEGORIES:health initiative
END:VEVENT
END:VCALENDAR