BEGIN:VCALENDAR
VERSION:2.0
PRODID:-//Institute of Health - ECPv6.3.5//NONSGML v1.0//EN
CALSCALE:GREGORIAN
METHOD:PUBLISH
X-ORIGINAL-URL:https://student.instituteofhealth.com
X-WR-CALDESC:Events for Institute of Health
REFRESH-INTERVAL;VALUE=DURATION:PT1H
X-Robots-Tag:noindex
X-PUBLISHED-TTL:PT1H
BEGIN:VTIMEZONE
TZID:Australia/Melbourne
BEGIN:STANDARD
TZOFFSETFROM:+1100
TZOFFSETTO:+1000
TZNAME:AEST
DTSTART:20310405T160000
END:STANDARD
BEGIN:DAYLIGHT
TZOFFSETFROM:+1000
TZOFFSETTO:+1100
TZNAME:AEDT
DTSTART:20311004T160000
END:DAYLIGHT
END:VTIMEZONE
BEGIN:VEVENT
DTSTART;TZID=UTC:20310224T070000
DTEND;TZID=UTC:20310224T083000
DTSTAMP:20260421T122732
CREATED:20260115T025406
LAST-MODIFIED:20260402T034618
UID:10012171-1929682800-1929688200@student.instituteofhealth.com
SUMMARY:Business Accelerator
DESCRIPTION:http://masterclass.instituteofhealth.com/
URL:https://student.instituteofhealth.com/event/business-masterclass-2-2/2031-02-24/
END:VEVENT
BEGIN:VEVENT
DTSTART;TZID=UTC:20310303T070000
DTEND;TZID=UTC:20310303T083000
DTSTAMP:20260421T122732
CREATED:20260115T025406
LAST-MODIFIED:20260402T034618
UID:10012172-1930287600-1930293000@student.instituteofhealth.com
SUMMARY:Business Accelerator
DESCRIPTION:http://masterclass.instituteofhealth.com/
URL:https://student.instituteofhealth.com/event/business-masterclass-2-2/2031-03-03/
END:VEVENT
BEGIN:VEVENT
DTSTART;TZID=UTC:20310310T070000
DTEND;TZID=UTC:20310310T083000
DTSTAMP:20260421T122732
CREATED:20260115T025406
LAST-MODIFIED:20260402T034618
UID:10012173-1930892400-1930897800@student.instituteofhealth.com
SUMMARY:Business Accelerator
DESCRIPTION:http://masterclass.instituteofhealth.com/
URL:https://student.instituteofhealth.com/event/business-masterclass-2-2/2031-03-10/
END:VEVENT
BEGIN:VEVENT
DTSTART;TZID=UTC:20310317T070000
DTEND;TZID=UTC:20310317T083000
DTSTAMP:20260421T122732
CREATED:20260115T025406
LAST-MODIFIED:20260402T034618
UID:10012174-1931497200-1931502600@student.instituteofhealth.com
SUMMARY:Business Accelerator
DESCRIPTION:http://masterclass.instituteofhealth.com/
URL:https://student.instituteofhealth.com/event/business-masterclass-2-2/2031-03-17/
END:VEVENT
BEGIN:VEVENT
DTSTART;TZID=UTC:20310324T070000
DTEND;TZID=UTC:20310324T083000
DTSTAMP:20260421T122732
CREATED:20260115T025406
LAST-MODIFIED:20260402T034618
UID:10012175-1932102000-1932107400@student.instituteofhealth.com
SUMMARY:Business Accelerator
DESCRIPTION:http://masterclass.instituteofhealth.com/
URL:https://student.instituteofhealth.com/event/business-masterclass-2-2/2031-03-24/
END:VEVENT
BEGIN:VEVENT
DTSTART;TZID=UTC:20310331T070000
DTEND;TZID=UTC:20310331T083000
DTSTAMP:20260421T122732
CREATED:20260115T025406
LAST-MODIFIED:20260402T034618
UID:10012176-1932706800-1932712200@student.instituteofhealth.com
SUMMARY:Business Accelerator
DESCRIPTION:http://masterclass.instituteofhealth.com/
URL:https://student.instituteofhealth.com/event/business-masterclass-2-2/2031-03-31/
END:VEVENT
END:VCALENDAR