BEGIN:VCALENDAR
VERSION:2.0
PRODID:-//Institute of Health - ECPv6.3.5//NONSGML v1.0//EN
CALSCALE:GREGORIAN
METHOD:PUBLISH
X-WR-CALNAME:Institute of Health
X-ORIGINAL-URL:https://student.instituteofhealth.com
X-WR-CALDESC:Events for Institute of Health
REFRESH-INTERVAL;VALUE=DURATION:PT1H
X-Robots-Tag:noindex
X-PUBLISHED-TTL:PT1H
BEGIN:VTIMEZONE
TZID:Australia/Brisbane
BEGIN:STANDARD
TZOFFSETFROM:+1000
TZOFFSETTO:+1000
TZNAME:AEST
DTSTART:20261231T140000
END:STANDARD
TZID:Australia/Melbourne
BEGIN:STANDARD
TZOFFSETFROM:+1100
TZOFFSETTO:+1000
TZNAME:AEST
DTSTART:20270403T160000
END:STANDARD
BEGIN:DAYLIGHT
TZOFFSETFROM:+1000
TZOFFSETTO:+1100
TZNAME:AEDT
DTSTART:20271002T160000
END:DAYLIGHT
BEGIN:STANDARD
TZOFFSETFROM:+1100
TZOFFSETTO:+1000
TZNAME:AEST
DTSTART:20280401T160000
END:STANDARD
BEGIN:DAYLIGHT
TZOFFSETFROM:+1000
TZOFFSETTO:+1100
TZNAME:AEDT
DTSTART:20280930T160000
END:DAYLIGHT
END:VTIMEZONE
BEGIN:VEVENT
DTSTART;TZID=UTC:20271130T070000
DTEND;TZID=UTC:20271130T083000
DTSTAMP:20260421T120851
CREATED:20260115T025352
LAST-MODIFIED:20260402T034906
UID:10010679-1827558000-1827563400@student.instituteofhealth.com
SUMMARY:Client Health Cases
DESCRIPTION:Zoom link: masterclass.instituteofhealth.com
URL:https://student.instituteofhealth.com/event/client-health-cases-3-2/2027-11-30/
CATEGORIES:health initiative
END:VEVENT
BEGIN:VEVENT
DTSTART;TZID=UTC:20271201T060000
DTEND;TZID=UTC:20271201T073000
DTSTAMP:20260421T120851
CREATED:20260406T043015
LAST-MODIFIED:20260406T043015
UID:10011991-1827640800-1827646200@student.instituteofhealth.com
SUMMARY:Client Health Cases
DESCRIPTION:Zoom link: masterclass.instituteofhealth.com
URL:https://student.instituteofhealth.com/event/client-health-cases-2-2-2-2/2027-12-01/
END:VEVENT
BEGIN:VEVENT
DTSTART;TZID=UTC:20271201T200000
DTEND;TZID=UTC:20271201T213000
DTSTAMP:20260421T120851
CREATED:20260406T043044
LAST-MODIFIED:20260406T043044
UID:10011457-1827691200-1827696600@student.instituteofhealth.com
SUMMARY:Client Health Cases
DESCRIPTION:Zoom link: masterclass.instituteofhealth.com
URL:https://student.instituteofhealth.com/event/client-health-cases-4-2/2027-12-02/
CATEGORIES:health initiative
END:VEVENT
BEGIN:VEVENT
DTSTART;TZID=UTC:20271207T070000
DTEND;TZID=UTC:20271207T083000
DTSTAMP:20260421T120851
CREATED:20260115T025352
LAST-MODIFIED:20260402T034906
UID:10010680-1828162800-1828168200@student.instituteofhealth.com
SUMMARY:Client Health Cases
DESCRIPTION:Zoom link: masterclass.instituteofhealth.com
URL:https://student.instituteofhealth.com/event/client-health-cases-3-2/2027-12-07/
CATEGORIES:health initiative
END:VEVENT
BEGIN:VEVENT
DTSTART;TZID=UTC:20271208T060000
DTEND;TZID=UTC:20271208T073000
DTSTAMP:20260421T120851
CREATED:20260406T043015
LAST-MODIFIED:20260406T043015
UID:10011992-1828245600-1828251000@student.instituteofhealth.com
SUMMARY:Client Health Cases
DESCRIPTION:Zoom link: masterclass.instituteofhealth.com
URL:https://student.instituteofhealth.com/event/client-health-cases-2-2-2-2/2027-12-08/
END:VEVENT
BEGIN:VEVENT
DTSTART;TZID=UTC:20271208T200000
DTEND;TZID=UTC:20271208T213000
DTSTAMP:20260421T120851
CREATED:20260406T043044
LAST-MODIFIED:20260406T043044
UID:10011458-1828296000-1828301400@student.instituteofhealth.com
SUMMARY:Client Health Cases
DESCRIPTION:Zoom link: masterclass.instituteofhealth.com
URL:https://student.instituteofhealth.com/event/client-health-cases-4-2/2027-12-09/
CATEGORIES:health initiative
END:VEVENT
BEGIN:VEVENT
DTSTART;TZID=UTC:20271214T070000
DTEND;TZID=UTC:20271214T083000
DTSTAMP:20260421T120851
CREATED:20260115T025352
LAST-MODIFIED:20260402T034906
UID:10010681-1828767600-1828773000@student.instituteofhealth.com
SUMMARY:Client Health Cases
DESCRIPTION:Zoom link: masterclass.instituteofhealth.com
URL:https://student.instituteofhealth.com/event/client-health-cases-3-2/2027-12-14/
CATEGORIES:health initiative
END:VEVENT
BEGIN:VEVENT
DTSTART;TZID=UTC:20271215T060000
DTEND;TZID=UTC:20271215T073000
DTSTAMP:20260421T120852
CREATED:20260406T043015
LAST-MODIFIED:20260406T043015
UID:10011993-1828850400-1828855800@student.instituteofhealth.com
SUMMARY:Client Health Cases
DESCRIPTION:Zoom link: masterclass.instituteofhealth.com
URL:https://student.instituteofhealth.com/event/client-health-cases-2-2-2-2/2027-12-15/
END:VEVENT
BEGIN:VEVENT
DTSTART;TZID=UTC:20271215T200000
DTEND;TZID=UTC:20271215T213000
DTSTAMP:20260421T120852
CREATED:20260406T043044
LAST-MODIFIED:20260406T043044
UID:10011459-1828900800-1828906200@student.instituteofhealth.com
SUMMARY:Client Health Cases
DESCRIPTION:Zoom link: masterclass.instituteofhealth.com
URL:https://student.instituteofhealth.com/event/client-health-cases-4-2/2027-12-16/
CATEGORIES:health initiative
END:VEVENT
BEGIN:VEVENT
DTSTART;TZID=UTC:20271221T070000
DTEND;TZID=UTC:20271221T083000
DTSTAMP:20260421T120852
CREATED:20260115T025352
LAST-MODIFIED:20260402T034906
UID:10010682-1829372400-1829377800@student.instituteofhealth.com
SUMMARY:Client Health Cases
DESCRIPTION:Zoom link: masterclass.instituteofhealth.com
URL:https://student.instituteofhealth.com/event/client-health-cases-3-2/2027-12-21/
CATEGORIES:health initiative
END:VEVENT
BEGIN:VEVENT
DTSTART;TZID=UTC:20271222T060000
DTEND;TZID=UTC:20271222T073000
DTSTAMP:20260421T120852
CREATED:20260406T043015
LAST-MODIFIED:20260406T043015
UID:10011994-1829455200-1829460600@student.instituteofhealth.com
SUMMARY:Client Health Cases
DESCRIPTION:Zoom link: masterclass.instituteofhealth.com
URL:https://student.instituteofhealth.com/event/client-health-cases-2-2-2-2/2027-12-22/
END:VEVENT
BEGIN:VEVENT
DTSTART;TZID=UTC:20271222T200000
DTEND;TZID=UTC:20271222T213000
DTSTAMP:20260421T120852
CREATED:20260406T043044
LAST-MODIFIED:20260406T043044
UID:10011460-1829505600-1829511000@student.instituteofhealth.com
SUMMARY:Client Health Cases
DESCRIPTION:Zoom link: masterclass.instituteofhealth.com
URL:https://student.instituteofhealth.com/event/client-health-cases-4-2/2027-12-23/
CATEGORIES:health initiative
END:VEVENT
BEGIN:VEVENT
DTSTART;TZID=UTC:20271228T070000
DTEND;TZID=UTC:20271228T083000
DTSTAMP:20260421T120852
CREATED:20260115T025352
LAST-MODIFIED:20260402T034906
UID:10010683-1829977200-1829982600@student.instituteofhealth.com
SUMMARY:Client Health Cases
DESCRIPTION:Zoom link: masterclass.instituteofhealth.com
URL:https://student.instituteofhealth.com/event/client-health-cases-3-2/2027-12-28/
CATEGORIES:health initiative
END:VEVENT
BEGIN:VEVENT
DTSTART;TZID=UTC:20271229T060000
DTEND;TZID=UTC:20271229T073000
DTSTAMP:20260421T120852
CREATED:20260406T043015
LAST-MODIFIED:20260406T043015
UID:10011995-1830060000-1830065400@student.instituteofhealth.com
SUMMARY:Client Health Cases
DESCRIPTION:Zoom link: masterclass.instituteofhealth.com
URL:https://student.instituteofhealth.com/event/client-health-cases-2-2-2-2/2027-12-29/
END:VEVENT
BEGIN:VEVENT
DTSTART;TZID=UTC:20271229T200000
DTEND;TZID=UTC:20271229T213000
DTSTAMP:20260421T120852
CREATED:20260406T043044
LAST-MODIFIED:20260406T043044
UID:10011461-1830110400-1830115800@student.instituteofhealth.com
SUMMARY:Client Health Cases
DESCRIPTION:Zoom link: masterclass.instituteofhealth.com
URL:https://student.instituteofhealth.com/event/client-health-cases-4-2/2027-12-30/
CATEGORIES:health initiative
END:VEVENT
BEGIN:VEVENT
DTSTART;TZID=UTC:20280104T070000
DTEND;TZID=UTC:20280104T083000
DTSTAMP:20260421T120852
CREATED:20260115T025352
LAST-MODIFIED:20260402T034906
UID:10010684-1830582000-1830587400@student.instituteofhealth.com
SUMMARY:Client Health Cases
DESCRIPTION:Zoom link: masterclass.instituteofhealth.com
URL:https://student.instituteofhealth.com/event/client-health-cases-3-2/2028-01-04/
CATEGORIES:health initiative
END:VEVENT
BEGIN:VEVENT
DTSTART;TZID=UTC:20280105T060000
DTEND;TZID=UTC:20280105T073000
DTSTAMP:20260421T120852
CREATED:20260406T043015
LAST-MODIFIED:20260406T043015
UID:10011996-1830664800-1830670200@student.instituteofhealth.com
SUMMARY:Client Health Cases
DESCRIPTION:Zoom link: masterclass.instituteofhealth.com
URL:https://student.instituteofhealth.com/event/client-health-cases-2-2-2-2/2028-01-05/
END:VEVENT
BEGIN:VEVENT
DTSTART;TZID=UTC:20280105T200000
DTEND;TZID=UTC:20280105T213000
DTSTAMP:20260421T120852
CREATED:20260406T043044
LAST-MODIFIED:20260406T043044
UID:10011462-1830715200-1830720600@student.instituteofhealth.com
SUMMARY:Client Health Cases
DESCRIPTION:Zoom link: masterclass.instituteofhealth.com
URL:https://student.instituteofhealth.com/event/client-health-cases-4-2/2028-01-06/
CATEGORIES:health initiative
END:VEVENT
BEGIN:VEVENT
DTSTART;TZID=UTC:20280111T070000
DTEND;TZID=UTC:20280111T083000
DTSTAMP:20260421T120852
CREATED:20260115T025352
LAST-MODIFIED:20260402T034906
UID:10010685-1831186800-1831192200@student.instituteofhealth.com
SUMMARY:Client Health Cases
DESCRIPTION:Zoom link: masterclass.instituteofhealth.com
URL:https://student.instituteofhealth.com/event/client-health-cases-3-2/2028-01-11/
CATEGORIES:health initiative
END:VEVENT
BEGIN:VEVENT
DTSTART;TZID=UTC:20280112T060000
DTEND;TZID=UTC:20280112T073000
DTSTAMP:20260421T120852
CREATED:20260406T043015
LAST-MODIFIED:20260406T043015
UID:10011997-1831269600-1831275000@student.instituteofhealth.com
SUMMARY:Client Health Cases
DESCRIPTION:Zoom link: masterclass.instituteofhealth.com
URL:https://student.instituteofhealth.com/event/client-health-cases-2-2-2-2/2028-01-12/
END:VEVENT
BEGIN:VEVENT
DTSTART;TZID=UTC:20280112T200000
DTEND;TZID=UTC:20280112T213000
DTSTAMP:20260421T120852
CREATED:20260406T043044
LAST-MODIFIED:20260406T043044
UID:10011463-1831320000-1831325400@student.instituteofhealth.com
SUMMARY:Client Health Cases
DESCRIPTION:Zoom link: masterclass.instituteofhealth.com
URL:https://student.instituteofhealth.com/event/client-health-cases-4-2/2028-01-13/
CATEGORIES:health initiative
END:VEVENT
BEGIN:VEVENT
DTSTART;TZID=UTC:20280118T070000
DTEND;TZID=UTC:20280118T083000
DTSTAMP:20260421T120852
CREATED:20260115T025352
LAST-MODIFIED:20260402T034906
UID:10010686-1831791600-1831797000@student.instituteofhealth.com
SUMMARY:Client Health Cases
DESCRIPTION:Zoom link: masterclass.instituteofhealth.com
URL:https://student.instituteofhealth.com/event/client-health-cases-3-2/2028-01-18/
CATEGORIES:health initiative
END:VEVENT
BEGIN:VEVENT
DTSTART;TZID=UTC:20280119T060000
DTEND;TZID=UTC:20280119T073000
DTSTAMP:20260421T120852
CREATED:20260406T043015
LAST-MODIFIED:20260406T043015
UID:10011998-1831874400-1831879800@student.instituteofhealth.com
SUMMARY:Client Health Cases
DESCRIPTION:Zoom link: masterclass.instituteofhealth.com
URL:https://student.instituteofhealth.com/event/client-health-cases-2-2-2-2/2028-01-19/
END:VEVENT
BEGIN:VEVENT
DTSTART;TZID=UTC:20280119T200000
DTEND;TZID=UTC:20280119T213000
DTSTAMP:20260421T120852
CREATED:20260406T043044
LAST-MODIFIED:20260406T043044
UID:10011464-1831924800-1831930200@student.instituteofhealth.com
SUMMARY:Client Health Cases
DESCRIPTION:Zoom link: masterclass.instituteofhealth.com
URL:https://student.instituteofhealth.com/event/client-health-cases-4-2/2028-01-20/
CATEGORIES:health initiative
END:VEVENT
BEGIN:VEVENT
DTSTART;TZID=UTC:20280125T070000
DTEND;TZID=UTC:20280125T083000
DTSTAMP:20260421T120852
CREATED:20260115T025352
LAST-MODIFIED:20260402T034906
UID:10010687-1832396400-1832401800@student.instituteofhealth.com
SUMMARY:Client Health Cases
DESCRIPTION:Zoom link: masterclass.instituteofhealth.com
URL:https://student.instituteofhealth.com/event/client-health-cases-3-2/2028-01-25/
CATEGORIES:health initiative
END:VEVENT
BEGIN:VEVENT
DTSTART;TZID=UTC:20280126T060000
DTEND;TZID=UTC:20280126T073000
DTSTAMP:20260421T120852
CREATED:20260406T043015
LAST-MODIFIED:20260406T043015
UID:10011999-1832479200-1832484600@student.instituteofhealth.com
SUMMARY:Client Health Cases
DESCRIPTION:Zoom link: masterclass.instituteofhealth.com
URL:https://student.instituteofhealth.com/event/client-health-cases-2-2-2-2/2028-01-26/
END:VEVENT
BEGIN:VEVENT
DTSTART;TZID=UTC:20280126T200000
DTEND;TZID=UTC:20280126T213000
DTSTAMP:20260421T120852
CREATED:20260406T043044
LAST-MODIFIED:20260406T043044
UID:10011465-1832529600-1832535000@student.instituteofhealth.com
SUMMARY:Client Health Cases
DESCRIPTION:Zoom link: masterclass.instituteofhealth.com
URL:https://student.instituteofhealth.com/event/client-health-cases-4-2/2028-01-27/
CATEGORIES:health initiative
END:VEVENT
BEGIN:VEVENT
DTSTART;TZID=UTC:20280201T070000
DTEND;TZID=UTC:20280201T083000
DTSTAMP:20260421T120852
CREATED:20260115T025352
LAST-MODIFIED:20260402T034906
UID:10010688-1833001200-1833006600@student.instituteofhealth.com
SUMMARY:Client Health Cases
DESCRIPTION:Zoom link: masterclass.instituteofhealth.com
URL:https://student.instituteofhealth.com/event/client-health-cases-3-2/2028-02-01/
CATEGORIES:health initiative
END:VEVENT
BEGIN:VEVENT
DTSTART;TZID=UTC:20280202T060000
DTEND;TZID=UTC:20280202T073000
DTSTAMP:20260421T120852
CREATED:20260406T043015
LAST-MODIFIED:20260406T043015
UID:10012000-1833084000-1833089400@student.instituteofhealth.com
SUMMARY:Client Health Cases
DESCRIPTION:Zoom link: masterclass.instituteofhealth.com
URL:https://student.instituteofhealth.com/event/client-health-cases-2-2-2-2/2028-02-02/
END:VEVENT
BEGIN:VEVENT
DTSTART;TZID=UTC:20280202T200000
DTEND;TZID=UTC:20280202T213000
DTSTAMP:20260421T120852
CREATED:20260406T043044
LAST-MODIFIED:20260406T043044
UID:10011466-1833134400-1833139800@student.instituteofhealth.com
SUMMARY:Client Health Cases
DESCRIPTION:Zoom link: masterclass.instituteofhealth.com
URL:https://student.instituteofhealth.com/event/client-health-cases-4-2/2028-02-03/
CATEGORIES:health initiative
END:VEVENT
END:VCALENDAR