BEGIN:VCALENDAR
VERSION:2.0
PRODID:-//Institute of Health - ECPv6.3.5//NONSGML v1.0//EN
CALSCALE:GREGORIAN
METHOD:PUBLISH
X-ORIGINAL-URL:https://student.instituteofhealth.com
X-WR-CALDESC:Events for Institute of Health
REFRESH-INTERVAL;VALUE=DURATION:PT1H
X-Robots-Tag:noindex
X-PUBLISHED-TTL:PT1H
BEGIN:VTIMEZONE
TZID:Australia/Brisbane
BEGIN:STANDARD
TZOFFSETFROM:+1000
TZOFFSETTO:+1000
TZNAME:AEST
DTSTART:20261231T140000
END:STANDARD
TZID:Australia/Melbourne
BEGIN:STANDARD
TZOFFSETFROM:+1100
TZOFFSETTO:+1000
TZNAME:AEST
DTSTART:20270403T160000
END:STANDARD
BEGIN:DAYLIGHT
TZOFFSETFROM:+1000
TZOFFSETTO:+1100
TZNAME:AEDT
DTSTART:20271002T160000
END:DAYLIGHT
END:VTIMEZONE
BEGIN:VEVENT
DTSTART;TZID=UTC:20270907T070000
DTEND;TZID=UTC:20270907T083000
DTSTAMP:20260421T053157
CREATED:20260115T025352
LAST-MODIFIED:20260402T034906
UID:10010667-1820300400-1820305800@student.instituteofhealth.com
SUMMARY:Client Health Cases
DESCRIPTION:Zoom link: masterclass.instituteofhealth.com
URL:https://student.instituteofhealth.com/event/client-health-cases-3-2/2027-09-07/
CATEGORIES:health initiative
END:VEVENT
BEGIN:VEVENT
DTSTART;TZID=UTC:20270908T060000
DTEND;TZID=UTC:20270908T073000
DTSTAMP:20260421T053157
CREATED:20260406T043015
LAST-MODIFIED:20260406T043015
UID:10011979-1820383200-1820388600@student.instituteofhealth.com
SUMMARY:Client Health Cases
DESCRIPTION:Zoom link: masterclass.instituteofhealth.com
URL:https://student.instituteofhealth.com/event/client-health-cases-2-2-2-2/2027-09-08/
END:VEVENT
BEGIN:VEVENT
DTSTART;TZID=UTC:20270908T200000
DTEND;TZID=UTC:20270908T213000
DTSTAMP:20260421T053157
CREATED:20260406T043044
LAST-MODIFIED:20260406T043044
UID:10011445-1820433600-1820439000@student.instituteofhealth.com
SUMMARY:Client Health Cases
DESCRIPTION:Zoom link: masterclass.instituteofhealth.com
URL:https://student.instituteofhealth.com/event/client-health-cases-4-2/2027-09-09/
CATEGORIES:health initiative
END:VEVENT
BEGIN:VEVENT
DTSTART;TZID=UTC:20270914T070000
DTEND;TZID=UTC:20270914T083000
DTSTAMP:20260421T053157
CREATED:20260115T025352
LAST-MODIFIED:20260402T034906
UID:10010668-1820905200-1820910600@student.instituteofhealth.com
SUMMARY:Client Health Cases
DESCRIPTION:Zoom link: masterclass.instituteofhealth.com
URL:https://student.instituteofhealth.com/event/client-health-cases-3-2/2027-09-14/
CATEGORIES:health initiative
END:VEVENT
BEGIN:VEVENT
DTSTART;TZID=UTC:20270915T060000
DTEND;TZID=UTC:20270915T073000
DTSTAMP:20260421T053157
CREATED:20260406T043015
LAST-MODIFIED:20260406T043015
UID:10011980-1820988000-1820993400@student.instituteofhealth.com
SUMMARY:Client Health Cases
DESCRIPTION:Zoom link: masterclass.instituteofhealth.com
URL:https://student.instituteofhealth.com/event/client-health-cases-2-2-2-2/2027-09-15/
END:VEVENT
BEGIN:VEVENT
DTSTART;TZID=UTC:20270915T200000
DTEND;TZID=UTC:20270915T213000
DTSTAMP:20260421T053157
CREATED:20260406T043044
LAST-MODIFIED:20260406T043044
UID:10011446-1821038400-1821043800@student.instituteofhealth.com
SUMMARY:Client Health Cases
DESCRIPTION:Zoom link: masterclass.instituteofhealth.com
URL:https://student.instituteofhealth.com/event/client-health-cases-4-2/2027-09-16/
CATEGORIES:health initiative
END:VEVENT
BEGIN:VEVENT
DTSTART;TZID=UTC:20270921T070000
DTEND;TZID=UTC:20270921T083000
DTSTAMP:20260421T053157
CREATED:20260115T025352
LAST-MODIFIED:20260402T034906
UID:10010669-1821510000-1821515400@student.instituteofhealth.com
SUMMARY:Client Health Cases
DESCRIPTION:Zoom link: masterclass.instituteofhealth.com
URL:https://student.instituteofhealth.com/event/client-health-cases-3-2/2027-09-21/
CATEGORIES:health initiative
END:VEVENT
BEGIN:VEVENT
DTSTART;TZID=UTC:20270922T060000
DTEND;TZID=UTC:20270922T073000
DTSTAMP:20260421T053157
CREATED:20260406T043015
LAST-MODIFIED:20260406T043015
UID:10011981-1821592800-1821598200@student.instituteofhealth.com
SUMMARY:Client Health Cases
DESCRIPTION:Zoom link: masterclass.instituteofhealth.com
URL:https://student.instituteofhealth.com/event/client-health-cases-2-2-2-2/2027-09-22/
END:VEVENT
BEGIN:VEVENT
DTSTART;TZID=UTC:20270922T200000
DTEND;TZID=UTC:20270922T213000
DTSTAMP:20260421T053157
CREATED:20260406T043044
LAST-MODIFIED:20260406T043044
UID:10011447-1821643200-1821648600@student.instituteofhealth.com
SUMMARY:Client Health Cases
DESCRIPTION:Zoom link: masterclass.instituteofhealth.com
URL:https://student.instituteofhealth.com/event/client-health-cases-4-2/2027-09-23/
CATEGORIES:health initiative
END:VEVENT
BEGIN:VEVENT
DTSTART;TZID=UTC:20270928T070000
DTEND;TZID=UTC:20270928T083000
DTSTAMP:20260421T053157
CREATED:20260115T025352
LAST-MODIFIED:20260402T034906
UID:10010670-1822114800-1822120200@student.instituteofhealth.com
SUMMARY:Client Health Cases
DESCRIPTION:Zoom link: masterclass.instituteofhealth.com
URL:https://student.instituteofhealth.com/event/client-health-cases-3-2/2027-09-28/
CATEGORIES:health initiative
END:VEVENT
BEGIN:VEVENT
DTSTART;TZID=UTC:20270929T060000
DTEND;TZID=UTC:20270929T073000
DTSTAMP:20260421T053157
CREATED:20260406T043015
LAST-MODIFIED:20260406T043015
UID:10011982-1822197600-1822203000@student.instituteofhealth.com
SUMMARY:Client Health Cases
DESCRIPTION:Zoom link: masterclass.instituteofhealth.com
URL:https://student.instituteofhealth.com/event/client-health-cases-2-2-2-2/2027-09-29/
END:VEVENT
BEGIN:VEVENT
DTSTART;TZID=UTC:20270929T200000
DTEND;TZID=UTC:20270929T213000
DTSTAMP:20260421T053157
CREATED:20260406T043044
LAST-MODIFIED:20260406T043044
UID:10011448-1822248000-1822253400@student.instituteofhealth.com
SUMMARY:Client Health Cases
DESCRIPTION:Zoom link: masterclass.instituteofhealth.com
URL:https://student.instituteofhealth.com/event/client-health-cases-4-2/2027-09-30/
CATEGORIES:health initiative
END:VEVENT
BEGIN:VEVENT
DTSTART;TZID=UTC:20271005T070000
DTEND;TZID=UTC:20271005T083000
DTSTAMP:20260421T053157
CREATED:20260115T025352
LAST-MODIFIED:20260402T034906
UID:10010671-1822719600-1822725000@student.instituteofhealth.com
SUMMARY:Client Health Cases
DESCRIPTION:Zoom link: masterclass.instituteofhealth.com
URL:https://student.instituteofhealth.com/event/client-health-cases-3-2/2027-10-05/
CATEGORIES:health initiative
END:VEVENT
BEGIN:VEVENT
DTSTART;TZID=UTC:20271006T060000
DTEND;TZID=UTC:20271006T073000
DTSTAMP:20260421T053157
CREATED:20260406T043015
LAST-MODIFIED:20260406T043015
UID:10011983-1822802400-1822807800@student.instituteofhealth.com
SUMMARY:Client Health Cases
DESCRIPTION:Zoom link: masterclass.instituteofhealth.com
URL:https://student.instituteofhealth.com/event/client-health-cases-2-2-2-2/2027-10-06/
END:VEVENT
BEGIN:VEVENT
DTSTART;TZID=UTC:20271006T200000
DTEND;TZID=UTC:20271006T213000
DTSTAMP:20260421T053157
CREATED:20260406T043044
LAST-MODIFIED:20260406T043044
UID:10011449-1822852800-1822858200@student.instituteofhealth.com
SUMMARY:Client Health Cases
DESCRIPTION:Zoom link: masterclass.instituteofhealth.com
URL:https://student.instituteofhealth.com/event/client-health-cases-4-2/2027-10-07/
CATEGORIES:health initiative
END:VEVENT
BEGIN:VEVENT
DTSTART;TZID=UTC:20271012T070000
DTEND;TZID=UTC:20271012T083000
DTSTAMP:20260421T053157
CREATED:20260115T025352
LAST-MODIFIED:20260402T034906
UID:10010672-1823324400-1823329800@student.instituteofhealth.com
SUMMARY:Client Health Cases
DESCRIPTION:Zoom link: masterclass.instituteofhealth.com
URL:https://student.instituteofhealth.com/event/client-health-cases-3-2/2027-10-12/
CATEGORIES:health initiative
END:VEVENT
BEGIN:VEVENT
DTSTART;TZID=UTC:20271013T060000
DTEND;TZID=UTC:20271013T073000
DTSTAMP:20260421T053157
CREATED:20260406T043015
LAST-MODIFIED:20260406T043015
UID:10011984-1823407200-1823412600@student.instituteofhealth.com
SUMMARY:Client Health Cases
DESCRIPTION:Zoom link: masterclass.instituteofhealth.com
URL:https://student.instituteofhealth.com/event/client-health-cases-2-2-2-2/2027-10-13/
END:VEVENT
BEGIN:VEVENT
DTSTART;TZID=UTC:20271013T200000
DTEND;TZID=UTC:20271013T213000
DTSTAMP:20260421T053157
CREATED:20260406T043044
LAST-MODIFIED:20260406T043044
UID:10011450-1823457600-1823463000@student.instituteofhealth.com
SUMMARY:Client Health Cases
DESCRIPTION:Zoom link: masterclass.instituteofhealth.com
URL:https://student.instituteofhealth.com/event/client-health-cases-4-2/2027-10-14/
CATEGORIES:health initiative
END:VEVENT
BEGIN:VEVENT
DTSTART;TZID=UTC:20271019T070000
DTEND;TZID=UTC:20271019T083000
DTSTAMP:20260421T053157
CREATED:20260115T025352
LAST-MODIFIED:20260402T034906
UID:10010673-1823929200-1823934600@student.instituteofhealth.com
SUMMARY:Client Health Cases
DESCRIPTION:Zoom link: masterclass.instituteofhealth.com
URL:https://student.instituteofhealth.com/event/client-health-cases-3-2/2027-10-19/
CATEGORIES:health initiative
END:VEVENT
BEGIN:VEVENT
DTSTART;TZID=UTC:20271020T060000
DTEND;TZID=UTC:20271020T073000
DTSTAMP:20260421T053157
CREATED:20260406T043015
LAST-MODIFIED:20260406T043015
UID:10011985-1824012000-1824017400@student.instituteofhealth.com
SUMMARY:Client Health Cases
DESCRIPTION:Zoom link: masterclass.instituteofhealth.com
URL:https://student.instituteofhealth.com/event/client-health-cases-2-2-2-2/2027-10-20/
END:VEVENT
BEGIN:VEVENT
DTSTART;TZID=UTC:20271020T200000
DTEND;TZID=UTC:20271020T213000
DTSTAMP:20260421T053157
CREATED:20260406T043044
LAST-MODIFIED:20260406T043044
UID:10011451-1824062400-1824067800@student.instituteofhealth.com
SUMMARY:Client Health Cases
DESCRIPTION:Zoom link: masterclass.instituteofhealth.com
URL:https://student.instituteofhealth.com/event/client-health-cases-4-2/2027-10-21/
CATEGORIES:health initiative
END:VEVENT
BEGIN:VEVENT
DTSTART;TZID=UTC:20271026T070000
DTEND;TZID=UTC:20271026T083000
DTSTAMP:20260421T053157
CREATED:20260115T025352
LAST-MODIFIED:20260402T034906
UID:10010674-1824534000-1824539400@student.instituteofhealth.com
SUMMARY:Client Health Cases
DESCRIPTION:Zoom link: masterclass.instituteofhealth.com
URL:https://student.instituteofhealth.com/event/client-health-cases-3-2/2027-10-26/
CATEGORIES:health initiative
END:VEVENT
BEGIN:VEVENT
DTSTART;TZID=UTC:20271027T060000
DTEND;TZID=UTC:20271027T073000
DTSTAMP:20260421T053157
CREATED:20260406T043015
LAST-MODIFIED:20260406T043015
UID:10011986-1824616800-1824622200@student.instituteofhealth.com
SUMMARY:Client Health Cases
DESCRIPTION:Zoom link: masterclass.instituteofhealth.com
URL:https://student.instituteofhealth.com/event/client-health-cases-2-2-2-2/2027-10-27/
END:VEVENT
BEGIN:VEVENT
DTSTART;TZID=UTC:20271027T200000
DTEND;TZID=UTC:20271027T213000
DTSTAMP:20260421T053157
CREATED:20260406T043044
LAST-MODIFIED:20260406T043044
UID:10011452-1824667200-1824672600@student.instituteofhealth.com
SUMMARY:Client Health Cases
DESCRIPTION:Zoom link: masterclass.instituteofhealth.com
URL:https://student.instituteofhealth.com/event/client-health-cases-4-2/2027-10-28/
CATEGORIES:health initiative
END:VEVENT
BEGIN:VEVENT
DTSTART;TZID=UTC:20271102T070000
DTEND;TZID=UTC:20271102T083000
DTSTAMP:20260421T053157
CREATED:20260115T025352
LAST-MODIFIED:20260402T034906
UID:10010675-1825138800-1825144200@student.instituteofhealth.com
SUMMARY:Client Health Cases
DESCRIPTION:Zoom link: masterclass.instituteofhealth.com
URL:https://student.instituteofhealth.com/event/client-health-cases-3-2/2027-11-02/
CATEGORIES:health initiative
END:VEVENT
BEGIN:VEVENT
DTSTART;TZID=UTC:20271103T060000
DTEND;TZID=UTC:20271103T073000
DTSTAMP:20260421T053157
CREATED:20260406T043015
LAST-MODIFIED:20260406T043015
UID:10011987-1825221600-1825227000@student.instituteofhealth.com
SUMMARY:Client Health Cases
DESCRIPTION:Zoom link: masterclass.instituteofhealth.com
URL:https://student.instituteofhealth.com/event/client-health-cases-2-2-2-2/2027-11-03/
END:VEVENT
BEGIN:VEVENT
DTSTART;TZID=UTC:20271103T200000
DTEND;TZID=UTC:20271103T213000
DTSTAMP:20260421T053157
CREATED:20260406T043044
LAST-MODIFIED:20260406T043044
UID:10011453-1825272000-1825277400@student.instituteofhealth.com
SUMMARY:Client Health Cases
DESCRIPTION:Zoom link: masterclass.instituteofhealth.com
URL:https://student.instituteofhealth.com/event/client-health-cases-4-2/2027-11-04/
CATEGORIES:health initiative
END:VEVENT
BEGIN:VEVENT
DTSTART;TZID=UTC:20271109T070000
DTEND;TZID=UTC:20271109T083000
DTSTAMP:20260421T053157
CREATED:20260115T025352
LAST-MODIFIED:20260402T034906
UID:10010676-1825743600-1825749000@student.instituteofhealth.com
SUMMARY:Client Health Cases
DESCRIPTION:Zoom link: masterclass.instituteofhealth.com
URL:https://student.instituteofhealth.com/event/client-health-cases-3-2/2027-11-09/
CATEGORIES:health initiative
END:VEVENT
BEGIN:VEVENT
DTSTART;TZID=UTC:20271110T060000
DTEND;TZID=UTC:20271110T073000
DTSTAMP:20260421T053157
CREATED:20260406T043015
LAST-MODIFIED:20260406T043015
UID:10011988-1825826400-1825831800@student.instituteofhealth.com
SUMMARY:Client Health Cases
DESCRIPTION:Zoom link: masterclass.instituteofhealth.com
URL:https://student.instituteofhealth.com/event/client-health-cases-2-2-2-2/2027-11-10/
END:VEVENT
BEGIN:VEVENT
DTSTART;TZID=UTC:20271110T200000
DTEND;TZID=UTC:20271110T213000
DTSTAMP:20260421T053157
CREATED:20260406T043044
LAST-MODIFIED:20260406T043044
UID:10011454-1825876800-1825882200@student.instituteofhealth.com
SUMMARY:Client Health Cases
DESCRIPTION:Zoom link: masterclass.instituteofhealth.com
URL:https://student.instituteofhealth.com/event/client-health-cases-4-2/2027-11-11/
CATEGORIES:health initiative
END:VEVENT
END:VCALENDAR