BEGIN:VCALENDAR
VERSION:2.0
PRODID:-//Institute of Health - ECPv6.3.5//NONSGML v1.0//EN
CALSCALE:GREGORIAN
METHOD:PUBLISH
X-WR-CALNAME:Institute of Health
X-ORIGINAL-URL:https://student.instituteofhealth.com
X-WR-CALDESC:Events for Institute of Health
REFRESH-INTERVAL;VALUE=DURATION:PT1H
X-Robots-Tag:noindex
X-PUBLISHED-TTL:PT1H
BEGIN:VTIMEZONE
TZID:Australia/Brisbane
BEGIN:STANDARD
TZOFFSETFROM:+1000
TZOFFSETTO:+1000
TZNAME:AEST
DTSTART:20261231T140000
END:STANDARD
TZID:Australia/Melbourne
BEGIN:STANDARD
TZOFFSETFROM:+1100
TZOFFSETTO:+1000
TZNAME:AEST
DTSTART:20270403T160000
END:STANDARD
BEGIN:DAYLIGHT
TZOFFSETFROM:+1000
TZOFFSETTO:+1100
TZNAME:AEDT
DTSTART:20271002T160000
END:DAYLIGHT
END:VTIMEZONE
BEGIN:VEVENT
DTSTART;TZID=UTC:20270323T070000
DTEND;TZID=UTC:20270323T083000
DTSTAMP:20260420T192454
CREATED:20260115T025352
LAST-MODIFIED:20260402T034906
UID:10010643-1805785200-1805790600@student.instituteofhealth.com
SUMMARY:Client Health Cases
DESCRIPTION:Zoom link: masterclass.instituteofhealth.com
URL:https://student.instituteofhealth.com/event/client-health-cases-3-2/2027-03-23/
CATEGORIES:health initiative
END:VEVENT
BEGIN:VEVENT
DTSTART;TZID=UTC:20270324T060000
DTEND;TZID=UTC:20270324T073000
DTSTAMP:20260420T192454
CREATED:20260406T043015
LAST-MODIFIED:20260406T043015
UID:10011955-1805868000-1805873400@student.instituteofhealth.com
SUMMARY:Client Health Cases
DESCRIPTION:Zoom link: masterclass.instituteofhealth.com
URL:https://student.instituteofhealth.com/event/client-health-cases-2-2-2-2/2027-03-24/
END:VEVENT
BEGIN:VEVENT
DTSTART;TZID=UTC:20270324T200000
DTEND;TZID=UTC:20270324T213000
DTSTAMP:20260420T192454
CREATED:20260406T043044
LAST-MODIFIED:20260406T043044
UID:10011421-1805918400-1805923800@student.instituteofhealth.com
SUMMARY:Client Health Cases
DESCRIPTION:Zoom link: masterclass.instituteofhealth.com
URL:https://student.instituteofhealth.com/event/client-health-cases-4-2/2027-03-25/
CATEGORIES:health initiative
END:VEVENT
BEGIN:VEVENT
DTSTART;TZID=UTC:20270330T070000
DTEND;TZID=UTC:20270330T083000
DTSTAMP:20260420T192454
CREATED:20260115T025352
LAST-MODIFIED:20260402T034906
UID:10010644-1806390000-1806395400@student.instituteofhealth.com
SUMMARY:Client Health Cases
DESCRIPTION:Zoom link: masterclass.instituteofhealth.com
URL:https://student.instituteofhealth.com/event/client-health-cases-3-2/2027-03-30/
CATEGORIES:health initiative
END:VEVENT
BEGIN:VEVENT
DTSTART;TZID=UTC:20270331T060000
DTEND;TZID=UTC:20270331T073000
DTSTAMP:20260420T192454
CREATED:20260406T043015
LAST-MODIFIED:20260406T043015
UID:10011956-1806472800-1806478200@student.instituteofhealth.com
SUMMARY:Client Health Cases
DESCRIPTION:Zoom link: masterclass.instituteofhealth.com
URL:https://student.instituteofhealth.com/event/client-health-cases-2-2-2-2/2027-03-31/
END:VEVENT
BEGIN:VEVENT
DTSTART;TZID=UTC:20270331T200000
DTEND;TZID=UTC:20270331T213000
DTSTAMP:20260420T192454
CREATED:20260406T043044
LAST-MODIFIED:20260406T043044
UID:10011422-1806523200-1806528600@student.instituteofhealth.com
SUMMARY:Client Health Cases
DESCRIPTION:Zoom link: masterclass.instituteofhealth.com
URL:https://student.instituteofhealth.com/event/client-health-cases-4-2/2027-04-01/
CATEGORIES:health initiative
END:VEVENT
BEGIN:VEVENT
DTSTART;TZID=UTC:20270406T070000
DTEND;TZID=UTC:20270406T083000
DTSTAMP:20260420T192454
CREATED:20260115T025352
LAST-MODIFIED:20260402T034906
UID:10010645-1806994800-1807000200@student.instituteofhealth.com
SUMMARY:Client Health Cases
DESCRIPTION:Zoom link: masterclass.instituteofhealth.com
URL:https://student.instituteofhealth.com/event/client-health-cases-3-2/2027-04-06/
CATEGORIES:health initiative
END:VEVENT
BEGIN:VEVENT
DTSTART;TZID=UTC:20270407T060000
DTEND;TZID=UTC:20270407T073000
DTSTAMP:20260420T192454
CREATED:20260406T043015
LAST-MODIFIED:20260406T043015
UID:10011957-1807077600-1807083000@student.instituteofhealth.com
SUMMARY:Client Health Cases
DESCRIPTION:Zoom link: masterclass.instituteofhealth.com
URL:https://student.instituteofhealth.com/event/client-health-cases-2-2-2-2/2027-04-07/
END:VEVENT
BEGIN:VEVENT
DTSTART;TZID=UTC:20270407T200000
DTEND;TZID=UTC:20270407T213000
DTSTAMP:20260420T192454
CREATED:20260406T043044
LAST-MODIFIED:20260406T043044
UID:10011423-1807128000-1807133400@student.instituteofhealth.com
SUMMARY:Client Health Cases
DESCRIPTION:Zoom link: masterclass.instituteofhealth.com
URL:https://student.instituteofhealth.com/event/client-health-cases-4-2/2027-04-08/
CATEGORIES:health initiative
END:VEVENT
BEGIN:VEVENT
DTSTART;TZID=UTC:20270413T070000
DTEND;TZID=UTC:20270413T083000
DTSTAMP:20260420T192454
CREATED:20260115T025352
LAST-MODIFIED:20260402T034906
UID:10010646-1807599600-1807605000@student.instituteofhealth.com
SUMMARY:Client Health Cases
DESCRIPTION:Zoom link: masterclass.instituteofhealth.com
URL:https://student.instituteofhealth.com/event/client-health-cases-3-2/2027-04-13/
CATEGORIES:health initiative
END:VEVENT
BEGIN:VEVENT
DTSTART;TZID=UTC:20270414T060000
DTEND;TZID=UTC:20270414T073000
DTSTAMP:20260420T192454
CREATED:20260406T043015
LAST-MODIFIED:20260406T043015
UID:10011958-1807682400-1807687800@student.instituteofhealth.com
SUMMARY:Client Health Cases
DESCRIPTION:Zoom link: masterclass.instituteofhealth.com
URL:https://student.instituteofhealth.com/event/client-health-cases-2-2-2-2/2027-04-14/
END:VEVENT
BEGIN:VEVENT
DTSTART;TZID=UTC:20270414T200000
DTEND;TZID=UTC:20270414T213000
DTSTAMP:20260420T192454
CREATED:20260406T043044
LAST-MODIFIED:20260406T043044
UID:10011424-1807732800-1807738200@student.instituteofhealth.com
SUMMARY:Client Health Cases
DESCRIPTION:Zoom link: masterclass.instituteofhealth.com
URL:https://student.instituteofhealth.com/event/client-health-cases-4-2/2027-04-15/
CATEGORIES:health initiative
END:VEVENT
BEGIN:VEVENT
DTSTART;TZID=UTC:20270420T070000
DTEND;TZID=UTC:20270420T083000
DTSTAMP:20260420T192454
CREATED:20260115T025352
LAST-MODIFIED:20260402T034906
UID:10010647-1808204400-1808209800@student.instituteofhealth.com
SUMMARY:Client Health Cases
DESCRIPTION:Zoom link: masterclass.instituteofhealth.com
URL:https://student.instituteofhealth.com/event/client-health-cases-3-2/2027-04-20/
CATEGORIES:health initiative
END:VEVENT
BEGIN:VEVENT
DTSTART;TZID=UTC:20270421T060000
DTEND;TZID=UTC:20270421T073000
DTSTAMP:20260420T192454
CREATED:20260406T043015
LAST-MODIFIED:20260406T043015
UID:10011959-1808287200-1808292600@student.instituteofhealth.com
SUMMARY:Client Health Cases
DESCRIPTION:Zoom link: masterclass.instituteofhealth.com
URL:https://student.instituteofhealth.com/event/client-health-cases-2-2-2-2/2027-04-21/
END:VEVENT
BEGIN:VEVENT
DTSTART;TZID=UTC:20270421T200000
DTEND;TZID=UTC:20270421T213000
DTSTAMP:20260420T192454
CREATED:20260406T043044
LAST-MODIFIED:20260406T043044
UID:10011425-1808337600-1808343000@student.instituteofhealth.com
SUMMARY:Client Health Cases
DESCRIPTION:Zoom link: masterclass.instituteofhealth.com
URL:https://student.instituteofhealth.com/event/client-health-cases-4-2/2027-04-22/
CATEGORIES:health initiative
END:VEVENT
BEGIN:VEVENT
DTSTART;TZID=UTC:20270427T070000
DTEND;TZID=UTC:20270427T083000
DTSTAMP:20260420T192454
CREATED:20260115T025352
LAST-MODIFIED:20260402T034906
UID:10010648-1808809200-1808814600@student.instituteofhealth.com
SUMMARY:Client Health Cases
DESCRIPTION:Zoom link: masterclass.instituteofhealth.com
URL:https://student.instituteofhealth.com/event/client-health-cases-3-2/2027-04-27/
CATEGORIES:health initiative
END:VEVENT
BEGIN:VEVENT
DTSTART;TZID=UTC:20270428T060000
DTEND;TZID=UTC:20270428T073000
DTSTAMP:20260420T192454
CREATED:20260406T043015
LAST-MODIFIED:20260406T043015
UID:10011960-1808892000-1808897400@student.instituteofhealth.com
SUMMARY:Client Health Cases
DESCRIPTION:Zoom link: masterclass.instituteofhealth.com
URL:https://student.instituteofhealth.com/event/client-health-cases-2-2-2-2/2027-04-28/
END:VEVENT
BEGIN:VEVENT
DTSTART;TZID=UTC:20270428T200000
DTEND;TZID=UTC:20270428T213000
DTSTAMP:20260420T192454
CREATED:20260406T043044
LAST-MODIFIED:20260406T043044
UID:10011426-1808942400-1808947800@student.instituteofhealth.com
SUMMARY:Client Health Cases
DESCRIPTION:Zoom link: masterclass.instituteofhealth.com
URL:https://student.instituteofhealth.com/event/client-health-cases-4-2/2027-04-29/
CATEGORIES:health initiative
END:VEVENT
BEGIN:VEVENT
DTSTART;TZID=UTC:20270504T070000
DTEND;TZID=UTC:20270504T083000
DTSTAMP:20260420T192454
CREATED:20260115T025352
LAST-MODIFIED:20260402T034906
UID:10010649-1809414000-1809419400@student.instituteofhealth.com
SUMMARY:Client Health Cases
DESCRIPTION:Zoom link: masterclass.instituteofhealth.com
URL:https://student.instituteofhealth.com/event/client-health-cases-3-2/2027-05-04/
CATEGORIES:health initiative
END:VEVENT
BEGIN:VEVENT
DTSTART;TZID=UTC:20270505T060000
DTEND;TZID=UTC:20270505T073000
DTSTAMP:20260420T192454
CREATED:20260406T043015
LAST-MODIFIED:20260406T043015
UID:10011961-1809496800-1809502200@student.instituteofhealth.com
SUMMARY:Client Health Cases
DESCRIPTION:Zoom link: masterclass.instituteofhealth.com
URL:https://student.instituteofhealth.com/event/client-health-cases-2-2-2-2/2027-05-05/
END:VEVENT
BEGIN:VEVENT
DTSTART;TZID=UTC:20270505T200000
DTEND;TZID=UTC:20270505T213000
DTSTAMP:20260420T192454
CREATED:20260406T043044
LAST-MODIFIED:20260406T043044
UID:10011427-1809547200-1809552600@student.instituteofhealth.com
SUMMARY:Client Health Cases
DESCRIPTION:Zoom link: masterclass.instituteofhealth.com
URL:https://student.instituteofhealth.com/event/client-health-cases-4-2/2027-05-06/
CATEGORIES:health initiative
END:VEVENT
BEGIN:VEVENT
DTSTART;TZID=UTC:20270511T070000
DTEND;TZID=UTC:20270511T083000
DTSTAMP:20260420T192454
CREATED:20260115T025352
LAST-MODIFIED:20260402T034906
UID:10010650-1810018800-1810024200@student.instituteofhealth.com
SUMMARY:Client Health Cases
DESCRIPTION:Zoom link: masterclass.instituteofhealth.com
URL:https://student.instituteofhealth.com/event/client-health-cases-3-2/2027-05-11/
CATEGORIES:health initiative
END:VEVENT
BEGIN:VEVENT
DTSTART;TZID=UTC:20270512T060000
DTEND;TZID=UTC:20270512T073000
DTSTAMP:20260420T192454
CREATED:20260406T043015
LAST-MODIFIED:20260406T043015
UID:10011962-1810101600-1810107000@student.instituteofhealth.com
SUMMARY:Client Health Cases
DESCRIPTION:Zoom link: masterclass.instituteofhealth.com
URL:https://student.instituteofhealth.com/event/client-health-cases-2-2-2-2/2027-05-12/
END:VEVENT
BEGIN:VEVENT
DTSTART;TZID=UTC:20270512T200000
DTEND;TZID=UTC:20270512T213000
DTSTAMP:20260420T192454
CREATED:20260406T043044
LAST-MODIFIED:20260406T043044
UID:10011428-1810152000-1810157400@student.instituteofhealth.com
SUMMARY:Client Health Cases
DESCRIPTION:Zoom link: masterclass.instituteofhealth.com
URL:https://student.instituteofhealth.com/event/client-health-cases-4-2/2027-05-13/
CATEGORIES:health initiative
END:VEVENT
BEGIN:VEVENT
DTSTART;TZID=UTC:20270518T070000
DTEND;TZID=UTC:20270518T083000
DTSTAMP:20260420T192454
CREATED:20260115T025352
LAST-MODIFIED:20260402T034906
UID:10010651-1810623600-1810629000@student.instituteofhealth.com
SUMMARY:Client Health Cases
DESCRIPTION:Zoom link: masterclass.instituteofhealth.com
URL:https://student.instituteofhealth.com/event/client-health-cases-3-2/2027-05-18/
CATEGORIES:health initiative
END:VEVENT
BEGIN:VEVENT
DTSTART;TZID=UTC:20270519T060000
DTEND;TZID=UTC:20270519T073000
DTSTAMP:20260420T192454
CREATED:20260406T043015
LAST-MODIFIED:20260406T043015
UID:10011963-1810706400-1810711800@student.instituteofhealth.com
SUMMARY:Client Health Cases
DESCRIPTION:Zoom link: masterclass.instituteofhealth.com
URL:https://student.instituteofhealth.com/event/client-health-cases-2-2-2-2/2027-05-19/
END:VEVENT
BEGIN:VEVENT
DTSTART;TZID=UTC:20270519T200000
DTEND;TZID=UTC:20270519T213000
DTSTAMP:20260420T192454
CREATED:20260406T043044
LAST-MODIFIED:20260406T043044
UID:10011429-1810756800-1810762200@student.instituteofhealth.com
SUMMARY:Client Health Cases
DESCRIPTION:Zoom link: masterclass.instituteofhealth.com
URL:https://student.instituteofhealth.com/event/client-health-cases-4-2/2027-05-20/
CATEGORIES:health initiative
END:VEVENT
BEGIN:VEVENT
DTSTART;TZID=UTC:20270525T070000
DTEND;TZID=UTC:20270525T083000
DTSTAMP:20260420T192454
CREATED:20260115T025352
LAST-MODIFIED:20260402T034906
UID:10010652-1811228400-1811233800@student.instituteofhealth.com
SUMMARY:Client Health Cases
DESCRIPTION:Zoom link: masterclass.instituteofhealth.com
URL:https://student.instituteofhealth.com/event/client-health-cases-3-2/2027-05-25/
CATEGORIES:health initiative
END:VEVENT
BEGIN:VEVENT
DTSTART;TZID=UTC:20270526T060000
DTEND;TZID=UTC:20270526T073000
DTSTAMP:20260420T192454
CREATED:20260406T043015
LAST-MODIFIED:20260406T043015
UID:10011964-1811311200-1811316600@student.instituteofhealth.com
SUMMARY:Client Health Cases
DESCRIPTION:Zoom link: masterclass.instituteofhealth.com
URL:https://student.instituteofhealth.com/event/client-health-cases-2-2-2-2/2027-05-26/
END:VEVENT
BEGIN:VEVENT
DTSTART;TZID=UTC:20270526T200000
DTEND;TZID=UTC:20270526T213000
DTSTAMP:20260420T192454
CREATED:20260406T043044
LAST-MODIFIED:20260406T043044
UID:10011430-1811361600-1811367000@student.instituteofhealth.com
SUMMARY:Client Health Cases
DESCRIPTION:Zoom link: masterclass.instituteofhealth.com
URL:https://student.instituteofhealth.com/event/client-health-cases-4-2/2027-05-27/
CATEGORIES:health initiative
END:VEVENT
END:VCALENDAR