BEGIN:VCALENDAR
VERSION:2.0
PRODID:-//Institute of Health - ECPv6.3.5//NONSGML v1.0//EN
CALSCALE:GREGORIAN
METHOD:PUBLISH
X-ORIGINAL-URL:https://student.instituteofhealth.com
X-WR-CALDESC:Events for Institute of Health
REFRESH-INTERVAL;VALUE=DURATION:PT1H
X-Robots-Tag:noindex
X-PUBLISHED-TTL:PT1H
BEGIN:VTIMEZONE
TZID:Australia/Melbourne
BEGIN:STANDARD
TZOFFSETFROM:+1100
TZOFFSETTO:+1000
TZNAME:AEST
DTSTART:20280401T160000
END:STANDARD
BEGIN:DAYLIGHT
TZOFFSETFROM:+1000
TZOFFSETTO:+1100
TZNAME:AEDT
DTSTART:20280930T160000
END:DAYLIGHT
BEGIN:STANDARD
TZOFFSETFROM:+1100
TZOFFSETTO:+1000
TZNAME:AEST
DTSTART:20290331T160000
END:STANDARD
BEGIN:DAYLIGHT
TZOFFSETFROM:+1000
TZOFFSETTO:+1100
TZNAME:AEDT
DTSTART:20291006T160000
END:DAYLIGHT
END:VTIMEZONE
BEGIN:VEVENT
DTSTART;TZID=UTC:20281030T070000
DTEND;TZID=UTC:20281030T083000
DTSTAMP:20260420T175155
CREATED:20260115T025406
LAST-MODIFIED:20260402T034618
UID:10010408-1856502000-1856507400@student.instituteofhealth.com
SUMMARY:Business Accelerator
DESCRIPTION:http://masterclass.instituteofhealth.com/
URL:https://student.instituteofhealth.com/event/business-masterclass-2-2/2028-10-30/
END:VEVENT
BEGIN:VEVENT
DTSTART;TZID=UTC:20281106T070000
DTEND;TZID=UTC:20281106T083000
DTSTAMP:20260420T175155
CREATED:20260115T025406
LAST-MODIFIED:20260402T034618
UID:10007833-1857106800-1857112200@student.instituteofhealth.com
SUMMARY:Business Accelerator
DESCRIPTION:http://masterclass.instituteofhealth.com/
URL:https://student.instituteofhealth.com/event/business-masterclass-2-2/2028-11-06/
END:VEVENT
BEGIN:VEVENT
DTSTART;TZID=UTC:20281113T070000
DTEND;TZID=UTC:20281113T083000
DTSTAMP:20260420T175155
CREATED:20260115T025406
LAST-MODIFIED:20260402T034618
UID:10010409-1857711600-1857717000@student.instituteofhealth.com
SUMMARY:Business Accelerator
DESCRIPTION:http://masterclass.instituteofhealth.com/
URL:https://student.instituteofhealth.com/event/business-masterclass-2-2/2028-11-13/
END:VEVENT
BEGIN:VEVENT
DTSTART;TZID=UTC:20281120T070000
DTEND;TZID=UTC:20281120T083000
DTSTAMP:20260420T175155
CREATED:20260115T025406
LAST-MODIFIED:20260402T034618
UID:10010410-1858316400-1858321800@student.instituteofhealth.com
SUMMARY:Business Accelerator
DESCRIPTION:http://masterclass.instituteofhealth.com/
URL:https://student.instituteofhealth.com/event/business-masterclass-2-2/2028-11-20/
END:VEVENT
BEGIN:VEVENT
DTSTART;TZID=UTC:20281127T070000
DTEND;TZID=UTC:20281127T083000
DTSTAMP:20260420T175155
CREATED:20260115T025406
LAST-MODIFIED:20260402T034618
UID:10010411-1858921200-1858926600@student.instituteofhealth.com
SUMMARY:Business Accelerator
DESCRIPTION:http://masterclass.instituteofhealth.com/
URL:https://student.instituteofhealth.com/event/business-masterclass-2-2/2028-11-27/
END:VEVENT
BEGIN:VEVENT
DTSTART;TZID=UTC:20281204T070000
DTEND;TZID=UTC:20281204T083000
DTSTAMP:20260420T175155
CREATED:20260115T025406
LAST-MODIFIED:20260402T034618
UID:10007834-1859526000-1859531400@student.instituteofhealth.com
SUMMARY:Business Accelerator
DESCRIPTION:http://masterclass.instituteofhealth.com/
URL:https://student.instituteofhealth.com/event/business-masterclass-2-2/2028-12-04/
END:VEVENT
BEGIN:VEVENT
DTSTART;TZID=UTC:20281211T070000
DTEND;TZID=UTC:20281211T083000
DTSTAMP:20260420T175155
CREATED:20260115T025406
LAST-MODIFIED:20260402T034618
UID:10010412-1860130800-1860136200@student.instituteofhealth.com
SUMMARY:Business Accelerator
DESCRIPTION:http://masterclass.instituteofhealth.com/
URL:https://student.instituteofhealth.com/event/business-masterclass-2-2/2028-12-11/
END:VEVENT
BEGIN:VEVENT
DTSTART;TZID=UTC:20281218T070000
DTEND;TZID=UTC:20281218T083000
DTSTAMP:20260420T175155
CREATED:20260115T025406
LAST-MODIFIED:20260402T034618
UID:10010413-1860735600-1860741000@student.instituteofhealth.com
SUMMARY:Business Accelerator
DESCRIPTION:http://masterclass.instituteofhealth.com/
URL:https://student.instituteofhealth.com/event/business-masterclass-2-2/2028-12-18/
END:VEVENT
BEGIN:VEVENT
DTSTART;TZID=UTC:20281225T070000
DTEND;TZID=UTC:20281225T083000
DTSTAMP:20260420T175155
CREATED:20260115T025406
LAST-MODIFIED:20260402T034618
UID:10010414-1861340400-1861345800@student.instituteofhealth.com
SUMMARY:Business Accelerator
DESCRIPTION:http://masterclass.instituteofhealth.com/
URL:https://student.instituteofhealth.com/event/business-masterclass-2-2/2028-12-25/
END:VEVENT
BEGIN:VEVENT
DTSTART;TZID=UTC:20290101T070000
DTEND;TZID=UTC:20290101T083000
DTSTAMP:20260420T175155
CREATED:20260115T025406
LAST-MODIFIED:20260402T034618
UID:10007835-1861945200-1861950600@student.instituteofhealth.com
SUMMARY:Business Accelerator
DESCRIPTION:http://masterclass.instituteofhealth.com/
URL:https://student.instituteofhealth.com/event/business-masterclass-2-2/2029-01-01/
END:VEVENT
BEGIN:VEVENT
DTSTART;TZID=UTC:20290108T070000
DTEND;TZID=UTC:20290108T083000
DTSTAMP:20260420T175155
CREATED:20260115T025406
LAST-MODIFIED:20260402T034618
UID:10010415-1862550000-1862555400@student.instituteofhealth.com
SUMMARY:Business Accelerator
DESCRIPTION:http://masterclass.instituteofhealth.com/
URL:https://student.instituteofhealth.com/event/business-masterclass-2-2/2029-01-08/
END:VEVENT
BEGIN:VEVENT
DTSTART;TZID=UTC:20290115T070000
DTEND;TZID=UTC:20290115T083000
DTSTAMP:20260420T175155
CREATED:20260115T025406
LAST-MODIFIED:20260402T034618
UID:10010416-1863154800-1863160200@student.instituteofhealth.com
SUMMARY:Business Accelerator
DESCRIPTION:http://masterclass.instituteofhealth.com/
URL:https://student.instituteofhealth.com/event/business-masterclass-2-2/2029-01-15/
END:VEVENT
BEGIN:VEVENT
DTSTART;TZID=UTC:20290122T070000
DTEND;TZID=UTC:20290122T083000
DTSTAMP:20260420T175155
CREATED:20260115T025406
LAST-MODIFIED:20260402T034618
UID:10010417-1863759600-1863765000@student.instituteofhealth.com
SUMMARY:Business Accelerator
DESCRIPTION:http://masterclass.instituteofhealth.com/
URL:https://student.instituteofhealth.com/event/business-masterclass-2-2/2029-01-22/
END:VEVENT
BEGIN:VEVENT
DTSTART;TZID=UTC:20290129T070000
DTEND;TZID=UTC:20290129T083000
DTSTAMP:20260420T175155
CREATED:20260115T025406
LAST-MODIFIED:20260402T034618
UID:10010418-1864364400-1864369800@student.instituteofhealth.com
SUMMARY:Business Accelerator
DESCRIPTION:http://masterclass.instituteofhealth.com/
URL:https://student.instituteofhealth.com/event/business-masterclass-2-2/2029-01-29/
END:VEVENT
BEGIN:VEVENT
DTSTART;TZID=UTC:20290205T070000
DTEND;TZID=UTC:20290205T083000
DTSTAMP:20260420T175155
CREATED:20260115T025406
LAST-MODIFIED:20260402T034618
UID:10007836-1864969200-1864974600@student.instituteofhealth.com
SUMMARY:Business Accelerator
DESCRIPTION:http://masterclass.instituteofhealth.com/
URL:https://student.instituteofhealth.com/event/business-masterclass-2-2/2029-02-05/
END:VEVENT
BEGIN:VEVENT
DTSTART;TZID=UTC:20290212T070000
DTEND;TZID=UTC:20290212T083000
DTSTAMP:20260420T175155
CREATED:20260115T025406
LAST-MODIFIED:20260402T034618
UID:10010419-1865574000-1865579400@student.instituteofhealth.com
SUMMARY:Business Accelerator
DESCRIPTION:http://masterclass.instituteofhealth.com/
URL:https://student.instituteofhealth.com/event/business-masterclass-2-2/2029-02-12/
END:VEVENT
BEGIN:VEVENT
DTSTART;TZID=UTC:20290219T070000
DTEND;TZID=UTC:20290219T083000
DTSTAMP:20260420T175155
CREATED:20260115T025406
LAST-MODIFIED:20260402T034618
UID:10010420-1866178800-1866184200@student.instituteofhealth.com
SUMMARY:Business Accelerator
DESCRIPTION:http://masterclass.instituteofhealth.com/
URL:https://student.instituteofhealth.com/event/business-masterclass-2-2/2029-02-19/
END:VEVENT
BEGIN:VEVENT
DTSTART;TZID=UTC:20290226T070000
DTEND;TZID=UTC:20290226T083000
DTSTAMP:20260420T175155
CREATED:20260115T025406
LAST-MODIFIED:20260402T034618
UID:10010421-1866783600-1866789000@student.instituteofhealth.com
SUMMARY:Business Accelerator
DESCRIPTION:http://masterclass.instituteofhealth.com/
URL:https://student.instituteofhealth.com/event/business-masterclass-2-2/2029-02-26/
END:VEVENT
BEGIN:VEVENT
DTSTART;TZID=UTC:20290305T070000
DTEND;TZID=UTC:20290305T083000
DTSTAMP:20260420T175155
CREATED:20260115T025406
LAST-MODIFIED:20260402T034618
UID:10007837-1867388400-1867393800@student.instituteofhealth.com
SUMMARY:Business Accelerator
DESCRIPTION:http://masterclass.instituteofhealth.com/
URL:https://student.instituteofhealth.com/event/business-masterclass-2-2/2029-03-05/
END:VEVENT
BEGIN:VEVENT
DTSTART;TZID=UTC:20290312T070000
DTEND;TZID=UTC:20290312T083000
DTSTAMP:20260420T175155
CREATED:20260115T025406
LAST-MODIFIED:20260402T034618
UID:10010422-1867993200-1867998600@student.instituteofhealth.com
SUMMARY:Business Accelerator
DESCRIPTION:http://masterclass.instituteofhealth.com/
URL:https://student.instituteofhealth.com/event/business-masterclass-2-2/2029-03-12/
END:VEVENT
BEGIN:VEVENT
DTSTART;TZID=UTC:20290319T070000
DTEND;TZID=UTC:20290319T083000
DTSTAMP:20260420T175155
CREATED:20260115T025406
LAST-MODIFIED:20260402T034618
UID:10010423-1868598000-1868603400@student.instituteofhealth.com
SUMMARY:Business Accelerator
DESCRIPTION:http://masterclass.instituteofhealth.com/
URL:https://student.instituteofhealth.com/event/business-masterclass-2-2/2029-03-19/
END:VEVENT
BEGIN:VEVENT
DTSTART;TZID=UTC:20290326T070000
DTEND;TZID=UTC:20290326T083000
DTSTAMP:20260420T175155
CREATED:20260115T025406
LAST-MODIFIED:20260402T034618
UID:10010424-1869202800-1869208200@student.instituteofhealth.com
SUMMARY:Business Accelerator
DESCRIPTION:http://masterclass.instituteofhealth.com/
URL:https://student.instituteofhealth.com/event/business-masterclass-2-2/2029-03-26/
END:VEVENT
BEGIN:VEVENT
DTSTART;TZID=UTC:20290402T070000
DTEND;TZID=UTC:20290402T083000
DTSTAMP:20260420T175155
CREATED:20260115T025406
LAST-MODIFIED:20260402T034618
UID:10007838-1869807600-1869813000@student.instituteofhealth.com
SUMMARY:Business Accelerator
DESCRIPTION:http://masterclass.instituteofhealth.com/
URL:https://student.instituteofhealth.com/event/business-masterclass-2-2/2029-04-02/
END:VEVENT
BEGIN:VEVENT
DTSTART;TZID=UTC:20290409T070000
DTEND;TZID=UTC:20290409T083000
DTSTAMP:20260420T175155
CREATED:20260115T025406
LAST-MODIFIED:20260402T034618
UID:10010425-1870412400-1870417800@student.instituteofhealth.com
SUMMARY:Business Accelerator
DESCRIPTION:http://masterclass.instituteofhealth.com/
URL:https://student.instituteofhealth.com/event/business-masterclass-2-2/2029-04-09/
END:VEVENT
BEGIN:VEVENT
DTSTART;TZID=UTC:20290416T070000
DTEND;TZID=UTC:20290416T083000
DTSTAMP:20260420T175155
CREATED:20260115T025406
LAST-MODIFIED:20260402T034618
UID:10010426-1871017200-1871022600@student.instituteofhealth.com
SUMMARY:Business Accelerator
DESCRIPTION:http://masterclass.instituteofhealth.com/
URL:https://student.instituteofhealth.com/event/business-masterclass-2-2/2029-04-16/
END:VEVENT
BEGIN:VEVENT
DTSTART;TZID=UTC:20290423T070000
DTEND;TZID=UTC:20290423T083000
DTSTAMP:20260420T175155
CREATED:20260115T025406
LAST-MODIFIED:20260402T034618
UID:10010427-1871622000-1871627400@student.instituteofhealth.com
SUMMARY:Business Accelerator
DESCRIPTION:http://masterclass.instituteofhealth.com/
URL:https://student.instituteofhealth.com/event/business-masterclass-2-2/2029-04-23/
END:VEVENT
BEGIN:VEVENT
DTSTART;TZID=UTC:20290430T070000
DTEND;TZID=UTC:20290430T083000
DTSTAMP:20260420T175155
CREATED:20260115T025406
LAST-MODIFIED:20260402T034618
UID:10010428-1872226800-1872232200@student.instituteofhealth.com
SUMMARY:Business Accelerator
DESCRIPTION:http://masterclass.instituteofhealth.com/
URL:https://student.instituteofhealth.com/event/business-masterclass-2-2/2029-04-30/
END:VEVENT
BEGIN:VEVENT
DTSTART;TZID=UTC:20290507T070000
DTEND;TZID=UTC:20290507T083000
DTSTAMP:20260420T175155
CREATED:20260115T025406
LAST-MODIFIED:20260402T034618
UID:10007839-1872831600-1872837000@student.instituteofhealth.com
SUMMARY:Business Accelerator
DESCRIPTION:http://masterclass.instituteofhealth.com/
URL:https://student.instituteofhealth.com/event/business-masterclass-2-2/2029-05-07/
END:VEVENT
BEGIN:VEVENT
DTSTART;TZID=UTC:20290514T070000
DTEND;TZID=UTC:20290514T083000
DTSTAMP:20260420T175155
CREATED:20260115T025406
LAST-MODIFIED:20260402T034618
UID:10010429-1873436400-1873441800@student.instituteofhealth.com
SUMMARY:Business Accelerator
DESCRIPTION:http://masterclass.instituteofhealth.com/
URL:https://student.instituteofhealth.com/event/business-masterclass-2-2/2029-05-14/
END:VEVENT
BEGIN:VEVENT
DTSTART;TZID=UTC:20290521T070000
DTEND;TZID=UTC:20290521T083000
DTSTAMP:20260420T175155
CREATED:20260115T025406
LAST-MODIFIED:20260402T034618
UID:10010430-1874041200-1874046600@student.instituteofhealth.com
SUMMARY:Business Accelerator
DESCRIPTION:http://masterclass.instituteofhealth.com/
URL:https://student.instituteofhealth.com/event/business-masterclass-2-2/2029-05-21/
END:VEVENT
END:VCALENDAR