BEGIN:VCALENDAR
VERSION:2.0
PRODID:-//Institute of Health - ECPv6.3.5//NONSGML v1.0//EN
CALSCALE:GREGORIAN
METHOD:PUBLISH
X-WR-CALNAME:Institute of Health
X-ORIGINAL-URL:https://student.instituteofhealth.com
X-WR-CALDESC:Events for Institute of Health
REFRESH-INTERVAL;VALUE=DURATION:PT1H
X-Robots-Tag:noindex
X-PUBLISHED-TTL:PT1H
BEGIN:VTIMEZONE
TZID:Australia/Melbourne
BEGIN:STANDARD
TZOFFSETFROM:+1100
TZOFFSETTO:+1000
TZNAME:AEST
DTSTART:20250405T160000
END:STANDARD
BEGIN:DAYLIGHT
TZOFFSETFROM:+1000
TZOFFSETTO:+1100
TZNAME:AEDT
DTSTART:20251004T160000
END:DAYLIGHT
END:VTIMEZONE
BEGIN:VEVENT
DTSTART;TZID=UTC:20251211T010000
DTEND;TZID=UTC:20251211T023000
DTSTAMP:20260421T095628
CREATED:20251119T062849
LAST-MODIFIED:20251119T062849
UID:10005668-1765414800-1765420200@student.instituteofhealth.com
SUMMARY:Nutrition Deep Dive (US Friendly Time)
DESCRIPTION:Zoom link: http://https://us02web.zoom.us/j/3284143851?pwd=1He0scZaKCo3JfvKXHKMKZK87PYFFc.1
URL:https://student.instituteofhealth.com/event/mastery-2-4-2-2-2-2-2/2025-12-11/
END:VEVENT
BEGIN:VEVENT
DTSTART;TZID=UTC:20251211T083000
DTEND;TZID=UTC:20251211T100000
DTSTAMP:20260421T095628
CREATED:20251119T062922
LAST-MODIFIED:20251217T064428
UID:10009892-1765441800-1765447200@student.instituteofhealth.com
SUMMARY:Blood Work & Assessment
DESCRIPTION:Zoom link: masterclass.instituteofhealth.com \nThis call is not divided into separate rooms. \nPrior to bringing any bloodwork-related questions to this call\, it is required to complete the bloodwork seminar. Yet\, we strongly recommend attending the calls to familiarise yourself with the concepts and observe the process with others.
URL:https://student.instituteofhealth.com/event/blood-work-assessment-with-larn-2-2/2025-12-11/
CATEGORIES:health initiative
END:VEVENT
END:VCALENDAR